FILENAME: O4811539.NWS.56479.tif
QUADRANGLE_NAME: CRIPPLE HORSE MOUNTAIN
QUADRANT: NW
WEST_LONGITUDE: -115 15 0.00000
EAST_LONGITUDE: -115 11 15.00000
NORTH_LATITUDE: 48 30 0.00000
SOUTH_LATITUDE: 48 26 15.00000
PRODUCTION_DATE: 1997 3 5
RASTER_ORDER: LEFT_RIGHT/TOP_BOTTOM
BAND_ORGANIZATION: SINGLE FILE
BAND_CONTENT: BLACK&WHITE
BAND_CONTENT: UNDEFINED
BAND_CONTENT: UNDEFINED
BITS_PER_PIXEL: 8
SAMPLES_AND_LINES: 5456 7664
HORIZONTAL_DATUM: NAD83
HORIZONTAL_COORDINATE_SYSTEM: UTM
COORDINATE_ZONE: 11
HORIZONTAL_UNITS: METERS
HORIZONTAL_RESOLUTION: 1.00000
SECONDARY_HORIZONTAL_DATUM: NAD27
XY_ORIGIN: 628899.00000 5373763.00000
SECONDARY_XY_ORIGIN: 628976.65900 5373550.45700
NATION: US
STATE: MT
NW_QUAD_CORNER_XY: 629273.31100 5373354.39300
NE_QUAD_CORNER_XY: 633890.03300 5373461.92400
SE_QUAD_CORNERY_XY: 634054.59500 5366515.15500
SW_QUAD_CORNER_XY: 629432.19600 5366407.59700
SECONDARY_NW_QUAD_XY: 629277.42200 5373135.46800
SECONDARY_NE_QUAD_XY: 633894.29000 5373243.00200
SECONDARY_SE_QUAD_XY: 634058.85200 5366296.24200
SECONDARY_SW_QUAD_XY: 629436.30600 5366188.68000
RMSE_XY: 3.30000
IMAGE_SOURCE: BLACK AND WHITE FILM
SOURCE_IMAGE_ID: NAPP 8420 251
SOURCE_IMAGE_DATE: 1995 8 20
SOURCE_DEM_DATE: 1997 3 5
AGENCY: WESTERN MAPPING CENTER (WMC)
PRODUCER: USFS
PRODUCTION_SYSTEM: DV2.6.3 10/9OV2.4 5/95
COMPRESSION: UNDEFINED
STANDARD_VERSION: 1996 12
METADATA_DATE: 1997 11 2
DATA_FILE_SIZE: 41820240
BYTE_COUNT: 5456
