FILENAME: O4811538.NWS.56518.tif
QUADRANGLE_NAME: ALEXANDER MOUNTAIN
QUADRANT: NW
WEST_LONGITUDE: -115 22 30.00000
EAST_LONGITUDE: -115 18 45.00000
NORTH_LATITUDE: 48 30 0.00000
SOUTH_LATITUDE: 48 26 15.00000
PRODUCTION_DATE: 1997 2 27
RASTER_ORDER: LEFT_RIGHT/TOP_BOTTOM
BAND_ORGANIZATION: SINGLE FILE
BAND_CONTENT: BLACK&WHITE
BAND_CONTENT: UNDEFINED
BAND_CONTENT: UNDEFINED
BITS_PER_PIXEL: 8
SAMPLES_AND_LINES: 5444 7657
HORIZONTAL_DATUM: NAD83
HORIZONTAL_COORDINATE_SYSTEM: UTM
COORDINATE_ZONE: 11
HORIZONTAL_UNITS: METERS
HORIZONTAL_RESOLUTION: 1.00000
SECONDARY_HORIZONTAL_DATUM: NAD27
XY_ORIGIN: 619665.00000 5373552.00000
SECONDARY_XY_ORIGIN: 619742.56100 5373339.62600
NATION: US
STATE: MT
NW_QUAD_CORNER_XY: 620039.81400 5373150.65600
NE_QUAD_CORNER_XY: 624656.57200 5373250.63700
SE_QUAD_CORNERY_XY: 624809.77900 5366303.81300
SW_QUAD_CORNER_XY: 620187.34500 5366203.80600
SECONDARY_NW_QUAD_XY: 620043.63100 5372931.72400
SECONDARY_NE_QUAD_XY: 624660.53500 5373031.70900
SECONDARY_SE_QUAD_XY: 624813.74300 5366084.89300
SECONDARY_SW_QUAD_XY: 620191.16100 5365984.88300
RMSE_XY: 2.60000
IMAGE_SOURCE: BLACK AND WHITE FILM
SOURCE_IMAGE_ID: NAPP 8418 18
SOURCE_IMAGE_DATE: 1995 8 5
SOURCE_DEM_DATE: 1997 2 27
AGENCY: WESTERN MAPPING CENTER (WMC)
PRODUCER: USFS
PRODUCTION_SYSTEM: DV2.6.3 10/9OV2.4 5/95
COMPRESSION: UNDEFINED
STANDARD_VERSION: 1996 12
METADATA_DATE: 1997 11 2
DATA_FILE_SIZE: 41690152
BYTE_COUNT: 5444
