FILENAME: O4811538.SES.56498.tif
QUADRANGLE_NAME: ALEXANDER MOUNTAIN
QUADRANT: SE
WEST_LONGITUDE: -115 18 45.00000
EAST_LONGITUDE: -115 15 0.00000
NORTH_LATITUDE: 48 26 15.00000
SOUTH_LATITUDE: 48 22 30.00000
PRODUCTION_DATE: 1997 2 27
RASTER_ORDER: LEFT_RIGHT/TOP_BOTTOM
BAND_ORGANIZATION: SINGLE FILE
BAND_CONTENT: BLACK&WHITE
BAND_CONTENT: UNDEFINED
BAND_CONTENT: UNDEFINED
BITS_PER_PIXEL: 8
SAMPLES_AND_LINES: 5456 7660
HORIZONTAL_DATUM: NAD83
HORIZONTAL_COORDINATE_SYSTEM: UTM
COORDINATE_ZONE: 11
HORIZONTAL_UNITS: METERS
HORIZONTAL_RESOLUTION: 1.00000
SECONDARY_HORIZONTAL_DATUM: NAD27
XY_ORIGIN: 624435.00000 5366709.00000
SECONDARY_XY_ORIGIN: 624512.00000 5366497.00000
NATION: US
STATE: MT
NW_QUAD_CORNER_XY: 624809.77900 5366303.81300
NE_QUAD_CORNER_XY: 629432.19600 5366407.59700
SE_QUAD_CORNERY_XY: 629590.92600 5359460.86900
SW_QUAD_CORNER_XY: 624962.83700 5359357.05900
SECONDARY_NW_QUAD_XY: 624813.74300 5366084.89300
SECONDARY_NE_QUAD_XY: 629436.30600 5366188.68000
SECONDARY_SE_QUAD_XY: 629595.03600 5359241.96100
SECONDARY_SW_QUAD_XY: 624966.80000 5359138.14800
RMSE_XY: 3.80000
IMAGE_SOURCE: BLACK AND WHITE FILM
SOURCE_IMAGE_ID: NAPP 8418 99
SOURCE_IMAGE_DATE: 1995 8 5
SOURCE_DEM_DATE: 1997 2 27
AGENCY: WESTERN MAPPING CENTER (WMC)
PRODUCER: USFS
PRODUCTION_SYSTEM: DV2.6.3 10/9OV2.4 5/95
COMPRESSION: UNDEFINED
STANDARD_VERSION: 1996 12
METADATA_DATE: 1997 11 2
DATA_FILE_SIZE: 41798416
BYTE_COUNT: 5456
