FILENAME: O4811538.SWS.56517.tif
QUADRANGLE_NAME: ALEXANDER MOUNTAIN
QUADRANT: SW
WEST_LONGITUDE: -115 22 30.00000
EAST_LONGITUDE: -115 18 45.00000
NORTH_LATITUDE: 48 26 15.00000
SOUTH_LATITUDE: 48 22 30.00000
PRODUCTION_DATE: 1997 2 27
RASTER_ORDER: LEFT_RIGHT/TOP_BOTTOM
BAND_ORGANIZATION: SINGLE FILE
BAND_CONTENT: BLACK&WHITE
BAND_CONTENT: UNDEFINED
BAND_CONTENT: UNDEFINED
BITS_PER_PIXEL: 8
SAMPLES_AND_LINES: 5453 7657
HORIZONTAL_DATUM: NAD83
HORIZONTAL_COORDINATE_SYSTEM: UTM
COORDINATE_ZONE: 11
HORIZONTAL_UNITS: METERS
HORIZONTAL_RESOLUTION: 1.00000
SECONDARY_HORIZONTAL_DATUM: NAD27
XY_ORIGIN: 619813.00000 5366609.00000
SECONDARY_XY_ORIGIN: 619890.55000 5366396.58000
NATION: US
STATE: MT
NW_QUAD_CORNER_XY: 620187.41000 5366203.76000
NE_QUAD_CORNER_XY: 624809.85000 5366303.77000
SE_QUAD_CORNERY_XY: 624962.90000 5359357.02000
SW_QUAD_CORNER_XY: 620334.80000 5359256.98000
SECONDARY_NW_QUAD_XY: 620191.23000 5365984.84000
SECONDARY_NE_QUAD_XY: 624813.81000 5366084.85000
SECONDARY_SE_QUAD_XY: 624966.87000 5359138.11000
SECONDARY_SW_QUAD_XY: 620338.61000 5359038.07000
RMSE_XY: 1.50000
IMAGE_SOURCE: BLACK AND WHITE FILM
SOURCE_IMAGE_ID: NAPP 8418 20
SOURCE_IMAGE_DATE: 1995 8 5
SOURCE_IMAGE_ID: NAPP 8418 99
SOURCE_IMAGE_DATE: 1995 8 5
SOURCE_DEM_DATE: 1997 2 27
AGENCY: WESTERN MAPPING CENTER (WMC)
PRODUCER: USFS
PRODUCTION_SYSTEM: DV2.6.3 10/9OV2.4 5/95
COMPRESSION: UNDEFINED
STANDARD_VERSION: 1996 12
METADATA_DATE: 1997 11 2
DATA_FILE_SIZE: 41759074
BYTE_COUNT: 5453
