FILENAME: O4811537.NWS.56562.tif
QUADRANGLE_NAME: VERMICULITE MOUNTAIN
QUADRANT: NW
WEST_LONGITUDE: -115 30 0.00000
EAST_LONGITUDE: -115 26 15.00000
NORTH_LATITUDE: 48 30 0.00000
SOUTH_LATITUDE: 48 26 15.00000
PRODUCTION_DATE: 1997 2 21
RASTER_ORDER: LEFT_RIGHT/TOP_BOTTOM
BAND_ORGANIZATION: SINGLE FILE
BAND_CONTENT: BLACK&WHITE
BAND_CONTENT: UNDEFINED
BAND_CONTENT: UNDEFINED
BITS_PER_PIXEL: 8
SAMPLES_AND_LINES: 5436 7648
HORIZONTAL_DATUM: NAD83
HORIZONTAL_COORDINATE_SYSTEM: UTM
COORDINATE_ZONE: 11
HORIZONTAL_UNITS: METERS
HORIZONTAL_RESOLUTION: 1.00000
SECONDARY_HORIZONTAL_DATUM: NAD27
XY_ORIGIN: 610431.00000 5373355.00000
SECONDARY_XY_ORIGIN: 610508.45700 5373142.79700
NATION: US
STATE: MT
NW_QUAD_CORNER_XY: 610806.24800 5372962.01700
NE_QUAD_CORNER_XY: 615423.03900 5373054.45000
SE_QUAD_CORNERY_XY: 615564.89300 5366107.57400
SW_QUAD_CORNER_XY: 610942.42500 5366015.11800
SECONDARY_NW_QUAD_XY: 610809.77100 5372743.07900
SECONDARY_NE_QUAD_XY: 615426.70900 5372835.51500
SECONDARY_SE_QUAD_XY: 615568.56300 5365888.64800
SECONDARY_SW_QUAD_XY: 610945.94800 5365796.18800
RMSE_XY: 3.20000
IMAGE_SOURCE: BLACK AND WHITE FILM
SOURCE_IMAGE_ID: NAPP 8422 81
SOURCE_IMAGE_DATE: 1995 7 28
SOURCE_DEM_DATE: 1997 2 21
AGENCY: WESTERN MAPPING CENTER (WMC)
PRODUCER: USFS
PRODUCTION_SYSTEM: DV2.6.3 10/9OV2.4 5/95
COMPRESSION: UNDEFINED
STANDARD_VERSION: 1996 12
METADATA_DATE: 1997 11 2
DATA_FILE_SIZE: 41579964
BYTE_COUNT: 5436
