FILENAME: O4811537.SWS.56561.tif
QUADRANGLE_NAME: VERMICULITE MOUNTAIN
QUADRANT: SW
WEST_LONGITUDE: -115 30 0.00000
EAST_LONGITUDE: -115 26 15.00000
NORTH_LATITUDE: 48 26 15.00000
SOUTH_LATITUDE: 48 22 30.00000
PRODUCTION_DATE: 1997 2 21
RASTER_ORDER: LEFT_RIGHT/TOP_BOTTOM
BAND_ORGANIZATION: SINGLE FILE
BAND_CONTENT: BLACK&WHITE
BAND_CONTENT: UNDEFINED
BAND_CONTENT: UNDEFINED
BITS_PER_PIXEL: 8
SAMPLES_AND_LINES: 5441 7650
HORIZONTAL_DATUM: NAD83
HORIZONTAL_COORDINATE_SYSTEM: UTM
COORDINATE_ZONE: 11
HORIZONTAL_UNITS: METERS
HORIZONTAL_RESOLUTION: 1.00000
SECONDARY_HORIZONTAL_DATUM: NAD27
XY_ORIGIN: 610568.00000 5366413.00000
SECONDARY_XY_ORIGIN: 610645.40000 5366200.68000
NATION: US
STATE: MT
NW_QUAD_CORNER_XY: 610942.49000 5366015.08000
NE_QUAD_CORNER_XY: 615564.96000 5366107.53000
SE_QUAD_CORNERY_XY: 615706.68000 5359160.73000
SW_QUAD_CORNER_XY: 611078.54000 5359068.25000
SECONDARY_NW_QUAD_XY: 610946.02000 5365796.15000
SECONDARY_NE_QUAD_XY: 615568.63000 5365888.61000
SECONDARY_SE_QUAD_XY: 615710.35000 5358941.81000
SECONDARY_SW_QUAD_XY: 611082.06000 5358849.33000
RMSE_XY: 4.40000
IMAGE_SOURCE: BLACK AND WHITE FILM
SOURCE_IMAGE_ID: NAPP 8422 83
SOURCE_IMAGE_DATE: 1995 7 28
SOURCE_IMAGE_ID: NAPP 8422 8421
SOURCE_IMAGE_DATE: 1995 7 28
SOURCE_IMAGE_ID: NAPP 8422 8
SOURCE_IMAGE_DATE: 1995 7 28
SOURCE_DEM_DATE: 1997 2 21
AGENCY: WESTERN MAPPING CENTER (WMC)
PRODUCER: USFS
PRODUCTION_SYSTEM: DV2.6.3 10/9OV2.4 5/95
COMPRESSION: UNDEFINED
STANDARD_VERSION: 1996 12
METADATA_DATE: 1997 11 2
DATA_FILE_SIZE: 41629091
BYTE_COUNT: 5441
