FILENAME: O4811534.SES.56675.tif
QUADRANGLE_NAME: KOOTENAI FALLS
QUADRANT: SE
WEST_LONGITUDE: -115 48 45.00000
EAST_LONGITUDE: -115 45 0.00000
NORTH_LATITUDE: 48 26 15.00000
SOUTH_LATITUDE: 48 22 30.00000
PRODUCTION_DATE: 1997 2 28
RASTER_ORDER: LEFT_RIGHT/TOP_BOTTOM
BAND_ORGANIZATION: SINGLE FILE
BAND_CONTENT: BLACK&WHITE
BAND_CONTENT: UNDEFINED
BAND_CONTENT: UNDEFINED
BITS_PER_PIXEL: 8
SAMPLES_AND_LINES: 5412 7631
HORIZONTAL_DATUM: NAD83
HORIZONTAL_COORDINATE_SYSTEM: UTM
COORDINATE_ZONE: 11
HORIZONTAL_UNITS: METERS
HORIZONTAL_RESOLUTION: 1.00000
SECONDARY_HORIZONTAL_DATUM: NAD27
XY_ORIGIN: 587455.00000 5365984.00000
SECONDARY_XY_ORIGIN: 587531.81700 5365772.34000
NATION: US
STATE: MT
NW_QUAD_CORNER_XY: 587829.86400 5365609.45800
NE_QUAD_CORNER_XY: 592452.40400 5365683.04100
SE_QUAD_CORNERY_XY: 592565.76800 5358736.12600
SW_QUAD_CORNER_XY: 587937.55900 5358662.52500
SECONDARY_NW_QUAD_XY: 587832.65300 5365390.51600
SECONDARY_NE_QUAD_XY: 592455.34000 5365464.10100
SECONDARY_SE_QUAD_XY: 592568.70300 5358517.19600
SECONDARY_SW_QUAD_XY: 587940.34700 5358443.59200
RMSE_XY: 6.30000
IMAGE_SOURCE: BLACK AND WHITE FILM
SOURCE_IMAGE_ID: NAPP 8421 159
SOURCE_IMAGE_DATE: 1995 8 20
SOURCE_DEM_DATE: 1997 2 28
AGENCY: WESTERN MAPPING CENTER (WMC)
PRODUCER: USFS
PRODUCTION_SYSTEM: DV2.6.3 10/9OV2.4 5/95
COMPRESSION: UNDEFINED
STANDARD_VERSION: 1996 12
METADATA_DATE: 1997 11 2
DATA_FILE_SIZE: 41304384
BYTE_COUNT: 5412
