FILENAME: O4811533.NWS.56738.tif
QUADRANGLE_NAME: TROY
QUADRANT: NW
WEST_LONGITUDE: -116 0 0.00000
EAST_LONGITUDE: -115 56 15.00000
NORTH_LATITUDE: 48 30 0.00000
SOUTH_LATITUDE: 48 26 15.00000
PRODUCTION_DATE: 1997 2 23
RASTER_ORDER: LEFT_RIGHT/TOP_BOTTOM
BAND_ORGANIZATION: SINGLE FILE
BAND_CONTENT: BLACK&WHITE
BAND_CONTENT: UNDEFINED
BAND_CONTENT: UNDEFINED
BITS_PER_PIXEL: 8
SAMPLES_AND_LINES: 5389 7621
HORIZONTAL_DATUM: NAD83
HORIZONTAL_COORDINATE_SYSTEM: UTM
COORDINATE_ZONE: 11
HORIZONTAL_UNITS: METERS
HORIZONTAL_RESOLUTION: 1.00000
SECONDARY_HORIZONTAL_DATUM: NAD27
XY_ORIGIN: 573496.00000 5372726.00000
SECONDARY_XY_ORIGIN: 573572.98000 5372514.63000
NATION: US
STATE: MT
NW_QUAD_CORNER_XY: 573871.46000 5372358.37000
NE_QUAD_CORNER_XY: 578488.37000 5372420.62000
SE_QUAD_CORNERY_XY: 578584.82000 5365473.58000
SW_QUAD_CORNER_XY: 573962.24000 5365411.32000
SECONDARY_NW_QUAD_XY: 573873.81000 5372139.42000
SECONDARY_NE_QUAD_XY: 578490.86000 5372201.66000
SECONDARY_SE_QUAD_XY: 578587.31000 5365254.63000
SECONDARY_SW_QUAD_XY: 573964.59000 5365192.37000
RMSE_XY: 2.20000
IMAGE_SOURCE: BLACK AND WHITE FILM
SOURCE_IMAGE_ID: NAPP 8419 84
SOURCE_IMAGE_DATE: 1995 8 21
SOURCE_IMAGE_ID: NAPP 8419 8422
SOURCE_IMAGE_DATE: 1995 8 21
SOURCE_IMAGE_ID: NAPP 8419 11
SOURCE_IMAGE_DATE: 1995 8 21
SOURCE_DEM_DATE: 1997 2 23
AGENCY: WESTERN MAPPING CENTER (WMC)
PRODUCER: USFS
PRODUCTION_SYSTEM: DV2.6.3 10/9OV2.4 5/95
COMPRESSION: UNDEFINED
STANDARD_VERSION: 1996 12
METADATA_DATE: 1997 11 2
DATA_FILE_SIZE: 41074958
BYTE_COUNT: 5389
