FILENAME: O4811533.SWS.56737.tif
QUADRANGLE_NAME: TROY
QUADRANT: SW
WEST_LONGITUDE: -116 0 0.00000
EAST_LONGITUDE: -115 56 15.00000
NORTH_LATITUDE: 48 26 15.00000
SOUTH_LATITUDE: 48 22 30.00000
PRODUCTION_DATE: 1997 2 23
RASTER_ORDER: LEFT_RIGHT/TOP_BOTTOM
BAND_ORGANIZATION: SINGLE FILE
BAND_CONTENT: BLACK&WHITE
BAND_CONTENT: UNDEFINED
BAND_CONTENT: UNDEFINED
BITS_PER_PIXEL: 8
SAMPLES_AND_LINES: 5396 7620
HORIZONTAL_DATUM: NAD83
HORIZONTAL_COORDINATE_SYSTEM: UTM
COORDINATE_ZONE: 11
HORIZONTAL_UNITS: METERS
HORIZONTAL_RESOLUTION: 1.00000
SECONDARY_HORIZONTAL_DATUM: NAD27
XY_ORIGIN: 573587.00000 5365775.00000
SECONDARY_XY_ORIGIN: 573663.00000 5365564.00000
NATION: US
STATE: MT
NW_QUAD_CORNER_XY: 573962.17300 5365411.35600
NE_QUAD_CORNER_XY: 578584.74800 5365473.61600
SE_QUAD_CORNERY_XY: 578681.10400 5358526.64800
SW_QUAD_CORNER_XY: 574052.86000 5358464.37200
SECONDARY_NW_QUAD_XY: 573964.52200 5365192.40700
SECONDARY_NE_QUAD_XY: 578587.24400 5365254.66900
SECONDARY_SE_QUAD_XY: 578683.59900 5358307.71000
SECONDARY_SW_QUAD_XY: 574055.20900 5358245.43200
RMSE_XY: 2.20000
IMAGE_SOURCE: BLACK AND WHITE FILM
SOURCE_IMAGE_ID: NAPP 8419 86
SOURCE_IMAGE_DATE: 1995 8 21
SOURCE_DEM_DATE: 1997 2 23
AGENCY: WESTERN MAPPING CENTER (WMC)
PRODUCER: USFS
PRODUCTION_SYSTEM: DV2.6.3 10/9OV2.4 5/95
COMPRESSION: UNDEFINED
STANDARD_VERSION: 1996 12
METADATA_DATE: 1997 11 2
DATA_FILE_SIZE: 41122916
BYTE_COUNT: 5396
