FILENAME: O4811532.SES.56423.tif
QUADRANGLE_NAME: DAVIS MOUNTAIN
QUADRANT: SE
WEST_LONGITUDE: -115 3 45.00000
EAST_LONGITUDE: -115 0 0.00000
NORTH_LATITUDE: 48 33 45.00000
SOUTH_LATITUDE: 48 30 0.00000
PRODUCTION_DATE: 1997 3 7
RASTER_ORDER: LEFT_RIGHT/TOP_BOTTOM
BAND_ORGANIZATION: SINGLE FILE
BAND_CONTENT: BLACK&WHITE
BAND_CONTENT: UNDEFINED
BAND_CONTENT: UNDEFINED
BITS_PER_PIXEL: 8
SAMPLES_AND_LINES: 5468 7675
HORIZONTAL_DATUM: NAD83
HORIZONTAL_COORDINATE_SYSTEM: UTM
COORDINATE_ZONE: 11
HORIZONTAL_UNITS: METERS
HORIZONTAL_RESOLUTION: 1.00000
SECONDARY_HORIZONTAL_DATUM: NAD27
XY_ORIGIN: 642573.00000 5381055.00000
SECONDARY_XY_ORIGIN: 642650.00000 5380843.00000
NATION: US
STATE: MT
NW_QUAD_CORNER_XY: 642947.32600 5380635.08700
NE_QUAD_CORNER_XY: 647558.30300 5380753.91200
SE_QUAD_CORNERY_XY: 647740.07700 5373807.16800
SW_QUAD_CORNER_XY: 643123.41600 5373688.31100
SECONDARY_NW_QUAD_XY: 642951.87700 5380416.16400
SECONDARY_NE_QUAD_XY: 647563.00100 5380534.99300
SECONDARY_SE_QUAD_XY: 647744.77500 5373588.25700
SECONDARY_SW_QUAD_XY: 643127.96700 5373469.39600
RMSE_XY: 3.10000
IMAGE_SOURCE: BLACK AND WHITE FILM
SOURCE_IMAGE_ID: NAPP 8420 16
SOURCE_IMAGE_DATE: 1995 8 20
SOURCE_DEM_DATE: 1997 3 7
AGENCY: WESTERN MAPPING CENTER (WMC)
PRODUCER: USFS
PRODUCTION_SYSTEM: DV2.6.3 10/9OV2.4 5/95
COMPRESSION: UNDEFINED
STANDARD_VERSION: 1996 12
METADATA_DATE: 1997 11 2
DATA_FILE_SIZE: 41972368
BYTE_COUNT: 5468
