FILENAME: O4811531.SES.56460.tif
QUADRANGLE_NAME: VOLCOUR GULCH
QUADRANT: SE
WEST_LONGITUDE: -115 11 15.00000
EAST_LONGITUDE: -115 7 30.00000
NORTH_LATITUDE: 48 33 45.00000
SOUTH_LATITUDE: 48 30 0.00000
PRODUCTION_DATE: 1997 3 5
RASTER_ORDER: LEFT_RIGHT/TOP_BOTTOM
BAND_ORGANIZATION: SINGLE FILE
BAND_CONTENT: BLACK&WHITE
BAND_CONTENT: UNDEFINED
BAND_CONTENT: UNDEFINED
BITS_PER_PIXEL: 8
SAMPLES_AND_LINES: 5456 7667
HORIZONTAL_DATUM: NAD83
HORIZONTAL_COORDINATE_SYSTEM: UTM
COORDINATE_ZONE: 11
HORIZONTAL_UNITS: METERS
HORIZONTAL_RESOLUTION: 1.00000
SECONDARY_HORIZONTAL_DATUM: NAD27
XY_ORIGIN: 633351.00000 5380821.00000
SECONDARY_XY_ORIGIN: 633428.70500 5380608.32600
NATION: US
STATE: MT
NW_QUAD_CORNER_XY: 633725.31000 5380408.76000
NE_QUAD_CORNER_XY: 638336.32800 5380520.03600
SE_QUAD_CORNERY_XY: 638506.73400 5373573.23000
SW_QUAD_CORNER_XY: 633890.03300 5373461.92400
SECONDARY_NW_QUAD_XY: 633729.56700 5380189.83100
SECONDARY_NE_QUAD_XY: 638340.73200 5380301.11000
SECONDARY_SE_QUAD_XY: 638511.13800 5373354.31100
SECONDARY_SW_QUAD_XY: 633894.29000 5373243.00200
RMSE_XY: 1.40000
IMAGE_SOURCE: BLACK AND WHITE FILM
SOURCE_IMAGE_ID: NAPP 8420 154
SOURCE_IMAGE_DATE: 1995 8 20
SOURCE_DEM_DATE: 1997 3 5
AGENCY: WESTERN MAPPING CENTER (WMC)
PRODUCER: USFS
PRODUCTION_SYSTEM: DV2.6.3 10/9OV2.4 5/95
COMPRESSION: UNDEFINED
STANDARD_VERSION: 1996 12
METADATA_DATE: 1997 11 2
DATA_FILE_SIZE: 41836608
BYTE_COUNT: 5456
