FILENAME: O4811531.SWS.56480.tif
QUADRANGLE_NAME: VOLCOUR GULCH
QUADRANT: SW
WEST_LONGITUDE: -115 15 0.00000
EAST_LONGITUDE: -115 11 15.00000
NORTH_LATITUDE: 48 33 45.00000
SOUTH_LATITUDE: 48 30 0.00000
PRODUCTION_DATE: 1997 3 4
RASTER_ORDER: LEFT_RIGHT/TOP_BOTTOM
BAND_ORGANIZATION: SINGLE FILE
BAND_CONTENT: BLACK&WHITE
BAND_CONTENT: UNDEFINED
BAND_CONTENT: UNDEFINED
BITS_PER_PIXEL: 8
SAMPLES_AND_LINES: 5452 7664
HORIZONTAL_DATUM: NAD83
HORIZONTAL_COORDINATE_SYSTEM: UTM
COORDINATE_ZONE: 11
HORIZONTAL_UNITS: METERS
HORIZONTAL_RESOLUTION: 1.00000
SECONDARY_HORIZONTAL_DATUM: NAD27
XY_ORIGIN: 628740.00000 5380710.00000
SECONDARY_XY_ORIGIN: 628817.70700 5380497.35100
NATION: US
STATE: MT
NW_QUAD_CORNER_XY: 629114.27200 5380301.25800
NE_QUAD_CORNER_XY: 633725.31000 5380408.76000
SE_QUAD_CORNERY_XY: 633890.03300 5373461.92400
SW_QUAD_CORNER_XY: 629273.31100 5373354.39300
SECONDARY_NW_QUAD_XY: 629118.38200 5380082.32500
SECONDARY_NE_QUAD_XY: 633729.56700 5380189.83100
SECONDARY_SE_QUAD_XY: 633894.29000 5373243.00200
SECONDARY_SW_QUAD_XY: 629277.42200 5373135.46800
RMSE_XY: 1.20000
IMAGE_SOURCE: BLACK AND WHITE FILM
SOURCE_IMAGE_ID: NAPP 8420 253
SOURCE_IMAGE_DATE: 1995 8 20
SOURCE_DEM_DATE: 1997 3 4
AGENCY: WESTERN MAPPING CENTER (WMC)
PRODUCER: USFS
PRODUCTION_SYSTEM: DV2.6.3 10/9OV2.4 5/95
COMPRESSION: UNDEFINED
STANDARD_VERSION: 1996 12
METADATA_DATE: 1997 11 2
DATA_FILE_SIZE: 41789580
BYTE_COUNT: 5452
