FILENAME: O4811530.SES.56500.tif
QUADRANGLE_NAME: URAL CREEK
QUADRANT: SE
WEST_LONGITUDE: -115 18 45.00000
EAST_LONGITUDE: -115 15 0.00000
NORTH_LATITUDE: 48 33 45.00000
SOUTH_LATITUDE: 48 30 0.00000
PRODUCTION_DATE: 1997 2 26
RASTER_ORDER: LEFT_RIGHT/TOP_BOTTOM
BAND_ORGANIZATION: SINGLE FILE
BAND_CONTENT: BLACK&WHITE
BAND_CONTENT: UNDEFINED
BAND_CONTENT: UNDEFINED
BITS_PER_PIXEL: 8
SAMPLES_AND_LINES: 5444 7660
HORIZONTAL_DATUM: NAD83
HORIZONTAL_COORDINATE_SYSTEM: UTM
COORDINATE_ZONE: 11
HORIZONTAL_UNITS: METERS
HORIZONTAL_RESOLUTION: 1.00000
SECONDARY_HORIZONTAL_DATUM: NAD27
XY_ORIGIN: 624129.00000 5380602.00000
SECONDARY_XY_ORIGIN: 624206.66100 5380389.44100
NATION: US
STATE: MT
NW_QUAD_CORNER_XY: 624503.21500 5380197.53000
NE_QUAD_CORNER_XY: 629114.27200 5380301.25800
SE_QUAD_CORNERY_XY: 629273.31100 5373354.39300
SW_QUAD_CORNER_XY: 624656.57200 5373250.63700
SECONDARY_NW_QUAD_XY: 624507.17900 5379978.59400
SECONDARY_NE_QUAD_XY: 629118.38200 5380082.32500
SECONDARY_SE_QUAD_XY: 629277.42200 5373135.46800
SECONDARY_SW_QUAD_XY: 624660.53500 5373031.70900
RMSE_XY: 1.90000
IMAGE_SOURCE: BLACK AND WHITE FILM
SOURCE_IMAGE_ID: NAPP 8418 103
SOURCE_IMAGE_DATE: 1995 8 5
SOURCE_DEM_DATE: 1997 2 26
AGENCY: WESTERN MAPPING CENTER (WMC)
PRODUCER: USFS
PRODUCTION_SYSTEM: DV2.6.3 10/9OV2.4 5/95
COMPRESSION: UNDEFINED
STANDARD_VERSION: 1996 12
METADATA_DATE: 1997 11 2
DATA_FILE_SIZE: 41706484
BYTE_COUNT: 5444
