FILENAME: O4811530.SWS.56519.tif
QUADRANGLE_NAME: URAL CREEK
QUADRANT: SW
WEST_LONGITUDE: -115 22 30.00000
EAST_LONGITUDE: -115 18 45.00000
NORTH_LATITUDE: 48 33 45.00000
SOUTH_LATITUDE: 48 30 0.00000
PRODUCTION_DATE: 1997 2 26
RASTER_ORDER: LEFT_RIGHT/TOP_BOTTOM
BAND_ORGANIZATION: SINGLE FILE
BAND_CONTENT: BLACK&WHITE
BAND_CONTENT: UNDEFINED
BAND_CONTENT: UNDEFINED
BITS_PER_PIXEL: 8
SAMPLES_AND_LINES: 5440 7657
HORIZONTAL_DATUM: NAD83
HORIZONTAL_COORDINATE_SYSTEM: UTM
COORDINATE_ZONE: 11
HORIZONTAL_UNITS: METERS
HORIZONTAL_RESOLUTION: 1.00000
SECONDARY_HORIZONTAL_DATUM: NAD27
XY_ORIGIN: 619517.00000 5380499.00000
SECONDARY_XY_ORIGIN: 619594.00000 5380287.00000
NATION: US
STATE: MT
NW_QUAD_CORNER_XY: 619892.14000 5380097.57600
NE_QUAD_CORNER_XY: 624503.21500 5380197.53000
SE_QUAD_CORNERY_XY: 624656.57200 5373250.63700
SW_QUAD_CORNER_XY: 620039.81400 5373150.65600
SECONDARY_NW_QUAD_XY: 619895.95700 5379878.63700
SECONDARY_NE_QUAD_XY: 624507.17900 5379978.59400
SECONDARY_SE_QUAD_XY: 624660.53500 5373031.70900
SECONDARY_SW_QUAD_XY: 620043.63100 5372931.72400
RMSE_XY: 3.90000
IMAGE_SOURCE: BLACK AND WHITE FILM
SOURCE_IMAGE_ID: NAPP 8418 16
SOURCE_IMAGE_DATE: 1995 8 5
SOURCE_DEM_DATE: 1997 2 26
AGENCY: WESTERN MAPPING CENTER (WMC)
PRODUCER: USFS
PRODUCTION_SYSTEM: DV2.6.3 10/9OV2.4 5/95
COMPRESSION: UNDEFINED
STANDARD_VERSION: 1996 12
METADATA_DATE: 1997 11 2
DATA_FILE_SIZE: 41659520
BYTE_COUNT: 5440
