FILENAME: O4811529.SWS.56563.tif
QUADRANGLE_NAME: BANFIELD MOUNTAIN
QUADRANT: SW
WEST_LONGITUDE: -115 30 0.00000
EAST_LONGITUDE: -115 26 15.00000
NORTH_LATITUDE: 48 33 45.00000
SOUTH_LATITUDE: 48 30 0.00000
PRODUCTION_DATE: 1997 2 20
RASTER_ORDER: LEFT_RIGHT/TOP_BOTTOM
BAND_ORGANIZATION: SINGLE FILE
BAND_CONTENT: BLACK&WHITE
BAND_CONTENT: UNDEFINED
BAND_CONTENT: UNDEFINED
BITS_PER_PIXEL: 8
SAMPLES_AND_LINES: 5428 7649
HORIZONTAL_DATUM: NAD83
HORIZONTAL_COORDINATE_SYSTEM: UTM
COORDINATE_ZONE: 11
HORIZONTAL_UNITS: METERS
HORIZONTAL_RESOLUTION: 1.00000
SECONDARY_HORIZONTAL_DATUM: NAD27
XY_ORIGIN: 610295.00000 5380302.00000
SECONDARY_XY_ORIGIN: 610372.52200 5380089.71000
NATION: US
STATE: MT
NW_QUAD_CORNER_XY: 610669.93700 5379908.98800
NE_QUAD_CORNER_XY: 615281.04700 5380001.39500
SE_QUAD_CORNERY_XY: 615423.03900 5373054.45000
SW_QUAD_CORNER_XY: 610806.24800 5372962.01700
SECONDARY_NW_QUAD_XY: 610673.46100 5379690.04200
SECONDARY_NE_QUAD_XY: 615284.71700 5379782.45300
SECONDARY_SE_QUAD_XY: 615426.70900 5372835.51500
SECONDARY_SW_QUAD_XY: 610809.77100 5372743.07900
RMSE_XY: 2.50000
IMAGE_SOURCE: BLACK AND WHITE FILM
SOURCE_IMAGE_ID: NAPP 8419 109
SOURCE_IMAGE_DATE: 1995 8 21
SOURCE_DEM_DATE: 1997 2 20
AGENCY: WESTERN MAPPING CENTER (WMC)
PRODUCER: USFS
PRODUCTION_SYSTEM: DV2.6.3 10/9OV2.4 5/95
COMPRESSION: UNDEFINED
STANDARD_VERSION: 1996 12
METADATA_DATE: 1997 11 2
DATA_FILE_SIZE: 41524200
BYTE_COUNT: 5428
