FILENAME: O4811528.NES.56586.tif
QUADRANGLE_NAME: GOLD HILL
QUADRANT: NE
WEST_LONGITUDE: -115 33 45.00000
EAST_LONGITUDE: -115 30 0.00000
NORTH_LATITUDE: 48 37 30.00000
SOUTH_LATITUDE: 48 33 45.00000
PRODUCTION_DATE: 1997 3 5
RASTER_ORDER: LEFT_RIGHT/TOP_BOTTOM
BAND_ORGANIZATION: SINGLE FILE
BAND_CONTENT: BLACK&WHITE
BAND_CONTENT: UNDEFINED
BAND_CONTENT: UNDEFINED
BITS_PER_PIXEL: 8
SAMPLES_AND_LINES: 5416 7645
HORIZONTAL_DATUM: NAD83
HORIZONTAL_COORDINATE_SYSTEM: UTM
COORDINATE_ZONE: 11
HORIZONTAL_UNITS: METERS
HORIZONTAL_RESOLUTION: 1.00000
SECONDARY_HORIZONTAL_DATUM: NAD27
XY_ORIGIN: 605553.00000 5387157.00000
SECONDARY_XY_ORIGIN: 605630.48200 5386944.71600
NATION: US
STATE: MT
NW_QUAD_CORNER_XY: 605928.05500 5386767.41800
NE_QUAD_CORNER_XY: 610533.49400 5386856.02900
SE_QUAD_CORNERY_XY: 610669.93700 5379908.98800
SW_QUAD_CORNER_XY: 606058.81200 5379820.35300
SECONDARY_NW_QUAD_XY: 605931.43200 5386548.46300
SECONDARY_NE_QUAD_XY: 610537.01700 5386637.07600
SECONDARY_SE_QUAD_XY: 610673.46100 5379690.04200
SECONDARY_SW_QUAD_XY: 606062.18800 5379601.40500
RMSE_XY: 2.00000
IMAGE_SOURCE: BLACK AND WHITE FILM
SOURCE_IMAGE_ID: NAPP 8422 78
SOURCE_IMAGE_DATE: 1995 7 28
SOURCE_DEM_DATE: 1997 3 5
AGENCY: WESTERN MAPPING CENTER (WMC)
PRODUCER: USFS
PRODUCTION_SYSTEM: DV2.6.1 6/95OV2.4 5/95
COMPRESSION: UNDEFINED
STANDARD_VERSION: 1996 12
METADATA_DATE: 1997 11 2
DATA_FILE_SIZE: 41410736
BYTE_COUNT: 5416
