FILENAME: O4811528.SWS.56607.tif
QUADRANGLE_NAME: GOLD HILL
QUADRANT: SW
WEST_LONGITUDE: -115 37 30.00000
EAST_LONGITUDE: -115 33 45.00000
NORTH_LATITUDE: 48 33 45.00000
SOUTH_LATITUDE: 48 30 0.00000
PRODUCTION_DATE: 1997 3 5
RASTER_ORDER: LEFT_RIGHT/TOP_BOTTOM
BAND_ORGANIZATION: SINGLE FILE
BAND_CONTENT: BLACK&WHITE
BAND_CONTENT: UNDEFINED
BAND_CONTENT: UNDEFINED
BITS_PER_PIXEL: 8
SAMPLES_AND_LINES: 5417 7642
HORIZONTAL_DATUM: NAD83
HORIZONTAL_COORDINATE_SYSTEM: UTM
COORDINATE_ZONE: 11
HORIZONTAL_UNITS: METERS
HORIZONTAL_RESOLUTION: 1.00000
SECONDARY_HORIZONTAL_DATUM: NAD27
XY_ORIGIN: 601073.00000 5380125.00000
SECONDARY_XY_ORIGIN: 601150.28000 5379912.90000
NATION: US
STATE: MT
NW_QUAD_CORNER_XY: 601447.74000 5379735.45000
NE_QUAD_CORNER_XY: 606058.88000 5379820.31000
SE_QUAD_CORNERY_XY: 606189.51000 5372873.32000
SW_QUAD_CORNER_XY: 601572.68000 5372788.43000
SECONDARY_NW_QUAD_XY: 601450.97000 5379516.50000
SECONDARY_NE_QUAD_XY: 606062.25000 5379601.36000
SECONDARY_SE_QUAD_XY: 606192.88000 5372654.38000
SECONDARY_SW_QUAD_XY: 601575.91000 5372569.49000
RMSE_XY: 1.80000
IMAGE_SOURCE: BLACK AND WHITE FILM
SOURCE_IMAGE_ID: NAPP 8421 101
SOURCE_IMAGE_DATE: 1995 8 20
SOURCE_IMAGE_ID: NAPP 8421 103
SOURCE_IMAGE_DATE: 1995 8 20
SOURCE_IMAGE_ID: NAPP 8421 76
SOURCE_IMAGE_DATE: 1995 8 20
SOURCE_DEM_DATE: 1997 3 5
AGENCY: WESTERN MAPPING CENTER (WMC)
PRODUCER: USFS
PRODUCTION_SYSTEM: DV2.6.1 6/95OV2.4 5/95
COMPRESSION: UNDEFINED
STANDARD_VERSION: 1996 12
METADATA_DATE: 1997 11 2
DATA_FILE_SIZE: 41402131
BYTE_COUNT: 5417
