FILENAME: O4811527.SWS.56655.tif
QUADRANGLE_NAME: TURNER MOUNTAIN
QUADRANT: SW
WEST_LONGITUDE: -115 45 0.00000
EAST_LONGITUDE: -115 41 15.00000
NORTH_LATITUDE: 48 33 45.00000
SOUTH_LATITUDE: 48 30 0.00000
PRODUCTION_DATE: 1997 3 1
RASTER_ORDER: LEFT_RIGHT/TOP_BOTTOM
BAND_ORGANIZATION: SINGLE FILE
BAND_CONTENT: BLACK&WHITE
BAND_CONTENT: UNDEFINED
BAND_CONTENT: UNDEFINED
BITS_PER_PIXEL: 8
SAMPLES_AND_LINES: 5408 7634
HORIZONTAL_DATUM: NAD83
HORIZONTAL_COORDINATE_SYSTEM: UTM
COORDINATE_ZONE: 11
HORIZONTAL_UNITS: METERS
HORIZONTAL_RESOLUTION: 1.00000
SECONDARY_HORIZONTAL_DATUM: NAD27
XY_ORIGIN: 591850.00000 5379955.00000
SECONDARY_XY_ORIGIN: 591927.04100 5379743.08900
NATION: US
STATE: MT
NW_QUAD_CORNER_XY: 592225.34400 5379577.08700
NE_QUAD_CORNER_XY: 596836.51400 5379654.40300
SE_QUAD_CORNERY_XY: 596955.78000 5372707.36500
SW_QUAD_CORNER_XY: 592338.92900 5372630.02800
SECONDARY_NW_QUAD_XY: 592228.27900 5379358.13100
SECONDARY_NE_QUAD_XY: 596839.59700 5379435.44900
SECONDARY_SE_QUAD_XY: 596958.86300 5372488.41900
SECONDARY_SW_QUAD_XY: 592341.86500 5372411.07900
RMSE_XY: 4.20000
IMAGE_SOURCE: BLACK AND WHITE FILM
SOURCE_IMAGE_ID: NAPP 8419 38
SOURCE_IMAGE_DATE: 1995 8 21
SOURCE_DEM_DATE: 1997 3 1
AGENCY: WESTERN MAPPING CENTER (WMC)
PRODUCER: USFS
PRODUCTION_SYSTEM: DV2.6.1 6/95OV2.4 5/95
COMPRESSION: UNDEFINED
STANDARD_VERSION: 1996 12
METADATA_DATE: 1997 11 2
DATA_FILE_SIZE: 41290080
BYTE_COUNT: 5408
