FILENAME: O4811525.NWS.56740.tif
QUADRANGLE_NAME: KILBRENNAN LAKE
QUADRANT: NW
WEST_LONGITUDE: -116 0 0.00000
EAST_LONGITUDE: -115 56 15.00000
NORTH_LATITUDE: 48 37 30.00000
SOUTH_LATITUDE: 48 33 45.00000
PRODUCTION_DATE: 1997 2 23
RASTER_ORDER: LEFT_RIGHT/TOP_BOTTOM
BAND_ORGANIZATION: SINGLE FILE
BAND_CONTENT: BLACK&WHITE
BAND_CONTENT: UNDEFINED
BAND_CONTENT: UNDEFINED
BITS_PER_PIXEL: 8
SAMPLES_AND_LINES: 5381 7621
HORIZONTAL_DATUM: NAD83
HORIZONTAL_COORDINATE_SYSTEM: UTM
COORDINATE_ZONE: 11
HORIZONTAL_UNITS: METERS
HORIZONTAL_RESOLUTION: 1.00000
SECONDARY_HORIZONTAL_DATUM: NAD27
XY_ORIGIN: 573314.00000 5386620.00000
SECONDARY_XY_ORIGIN: 573391.24000 5386408.41000
NATION: US
STATE: MT
NW_QUAD_CORNER_XY: 573689.65000 5386252.71000
NE_QUAD_CORNER_XY: 578295.18000 5386314.92000
SE_QUAD_CORNERY_XY: 578391.82000 5379367.73000
SW_QUAD_CORNER_XY: 573780.60000 5379305.50000
SECONDARY_NW_QUAD_XY: 573692.00000 5386033.74000
SECONDARY_NE_QUAD_XY: 578297.68000 5386095.95000
SECONDARY_SE_QUAD_XY: 578394.32000 5379148.77000
SECONDARY_SW_QUAD_XY: 573782.95000 5379086.54000
RMSE_XY: 3.10000
IMAGE_SOURCE: BLACK AND WHITE FILM
SOURCE_IMAGE_ID: NAPP 8419 80
SOURCE_IMAGE_DATE: 1995 8 21
SOURCE_IMAGE_ID: NAPP 8419 82
SOURCE_IMAGE_DATE: 1995 8 21
SOURCE_DEM_DATE: 1997 2 23
AGENCY: WESTERN MAPPING CENTER (WMC)
PRODUCER: USFS
PRODUCTION_SYSTEM: DV2.6.3 10/9OV2.4 5/95
COMPRESSION: UNDEFINED
STANDARD_VERSION: 1996 12
METADATA_DATE: 1997 11 2
DATA_FILE_SIZE: 41013982
BYTE_COUNT: 5381
