FILENAME: O4811524.NWS.56443.tif
QUADRANGLE_NAME: PINKHAM MOUNTAIN
QUADRANT: NW
WEST_LONGITUDE: -115 7 30.00000
EAST_LONGITUDE: -115 3 45.00000
NORTH_LATITUDE: 48 45 0.00000
SOUTH_LATITUDE: 48 41 15.00000
PRODUCTION_DATE: 1997 3 7
RASTER_ORDER: LEFT_RIGHT/TOP_BOTTOM
BAND_ORGANIZATION: SINGLE FILE
BAND_CONTENT: BLACK&WHITE
BAND_CONTENT: UNDEFINED
BAND_CONTENT: UNDEFINED
BITS_PER_PIXEL: 8
SAMPLES_AND_LINES: 5444 7671
HORIZONTAL_DATUM: NAD83
HORIZONTAL_COORDINATE_SYSTEM: UTM
COORDINATE_ZONE: 11
HORIZONTAL_UNITS: METERS
HORIZONTAL_RESOLUTION: 1.00000
SECONDARY_HORIZONTAL_DATUM: NAD27
XY_ORIGIN: 637450.00000 5401777.00000
SECONDARY_XY_ORIGIN: 637527.00000 5401565.00000
NATION: US
STATE: MT
NW_QUAD_CORNER_XY: 637824.11600 5401360.86300
NE_QUAD_CORNER_XY: 642418.03000 5401475.81800
SE_QUAD_CORNERY_XY: 642594.63300 5394528.84000
SW_QUAD_CORNER_XY: 637995.01900 5394413.85300
SECONDARY_NW_QUAD_XY: 637828.52000 5401141.91900
SECONDARY_NE_QUAD_XY: 642422.58100 5401256.87700
SECONDARY_SE_QUAD_XY: 642599.18400 5394309.90500
SECONDARY_SW_QUAD_XY: 637999.42300 5394194.91400
RMSE_XY: 4.40000
IMAGE_SOURCE: BLACK AND WHITE FILM
SOURCE_IMAGE_ID: NAPP 8420 129
SOURCE_IMAGE_DATE: 1995 8 20
SOURCE_DEM_DATE: 1997 3 7
AGENCY: WESTERN MAPPING CENTER (WMC)
PRODUCER: USFS
PRODUCTION_SYSTEM: DV2.6.3 10/9OV2.4 5/95
COMPRESSION: UNDEFINED
STANDARD_VERSION: 1996 12
METADATA_DATE: 1997 11 2
DATA_FILE_SIZE: 41766368
BYTE_COUNT: 5444
