FILENAME: O4811523.SWS.56482.tif
QUADRANGLE_NAME: MCGUIRE MOUNTAIN
QUADRANT: SW
WEST_LONGITUDE: -115 15 0.00000
EAST_LONGITUDE: -115 11 15.00000
NORTH_LATITUDE: 48 41 15.00000
SOUTH_LATITUDE: 48 37 30.00000
PRODUCTION_DATE: 1997 3 4
RASTER_ORDER: LEFT_RIGHT/TOP_BOTTOM
BAND_ORGANIZATION: SINGLE FILE
BAND_CONTENT: BLACK&WHITE
BAND_CONTENT: UNDEFINED
BAND_CONTENT: UNDEFINED
BITS_PER_PIXEL: 8
SAMPLES_AND_LINES: 5441 7665
HORIZONTAL_DATUM: NAD83
HORIZONTAL_COORDINATE_SYSTEM: UTM
COORDINATE_ZONE: 11
HORIZONTAL_UNITS: METERS
HORIZONTAL_RESOLUTION: 1.00000
SECONDARY_HORIZONTAL_DATUM: NAD27
XY_ORIGIN: 628421.00000 5394608.00000
SECONDARY_XY_ORIGIN: 628498.80000 5394395.14000
NATION: US
STATE: MT
NW_QUAD_CORNER_XY: 628795.79000 5394195.16000
NE_QUAD_CORNER_XY: 633395.45000 5394302.60000
SE_QUAD_CORNERY_XY: 633560.49000 5387355.62000
SW_QUAD_CORNER_XY: 628955.14000 5387248.15000
SECONDARY_NW_QUAD_XY: 628799.91000 5393976.21000
SECONDARY_NE_QUAD_XY: 633399.71000 5394083.66000
SECONDARY_SE_QUAD_XY: 633564.75000 5387136.69000
SECONDARY_SW_QUAD_XY: 628959.25000 5387029.21000
RMSE_XY: 1.90000
IMAGE_SOURCE: BLACK AND WHITE FILM
SOURCE_IMAGE_ID: NAPP 8420 257
SOURCE_IMAGE_DATE: 1995 8 20
SOURCE_IMAGE_ID: NAPP 8420 8418
SOURCE_IMAGE_DATE: 1995 8 20
SOURCE_IMAGE_ID: NAPP 8420 10
SOURCE_IMAGE_DATE: 1995 8 20
SOURCE_DEM_DATE: 1997 3 4
AGENCY: WESTERN MAPPING CENTER (WMC)
PRODUCER: USFS
PRODUCTION_SYSTEM: DV2.6.3 10/9OV2.4 5/95
COMPRESSION: UNDEFINED
STANDARD_VERSION: 1996 12
METADATA_DATE: 1997 11 2
DATA_FILE_SIZE: 41710706
BYTE_COUNT: 5441
