FILENAME: O4811522.NWS.56522.tif
QUADRANGLE_NAME: INCH MOUNTAIN
QUADRANT: NW
WEST_LONGITUDE: -115 22 30.00000
EAST_LONGITUDE: -115 18 45.00000
NORTH_LATITUDE: 48 45 0.00000
SOUTH_LATITUDE: 48 41 15.00000
PRODUCTION_DATE: 1997 2 26
RASTER_ORDER: LEFT_RIGHT/TOP_BOTTOM
BAND_ORGANIZATION: SINGLE FILE
BAND_CONTENT: BLACK&WHITE
BAND_CONTENT: UNDEFINED
BAND_CONTENT: UNDEFINED
BITS_PER_PIXEL: 8
SAMPLES_AND_LINES: 5424 7657
HORIZONTAL_DATUM: NAD83
HORIZONTAL_COORDINATE_SYSTEM: UTM
COORDINATE_ZONE: 11
HORIZONTAL_UNITS: METERS
HORIZONTAL_RESOLUTION: 1.00000
SECONDARY_HORIZONTAL_DATUM: NAD27
XY_ORIGIN: 619073.00000 5401340.00000
SECONDARY_XY_ORIGIN: 619150.00000 5401128.00000
NATION: US
STATE: MT
NW_QUAD_CORNER_XY: 619448.25400 5400938.75400
NE_QUAD_CORNER_XY: 624042.24900 5401038.62500
SE_QUAD_CORNERY_XY: 624196.05300 5394091.52400
SW_QUAD_CORNER_XY: 619596.36000 5393991.62500
SECONDARY_NW_QUAD_XY: 619452.07200 5400719.79700
SECONDARY_NE_QUAD_XY: 624046.21300 5400819.67100
SECONDARY_SE_QUAD_XY: 624200.01700 5393872.57500
SECONDARY_SW_QUAD_XY: 619600.17700 5393772.67300
RMSE_XY: 2.20000
IMAGE_SOURCE: BLACK AND WHITE FILM
SOURCE_IMAGE_ID: NAPP 8418 10
SOURCE_IMAGE_DATE: 1995 8 5
SOURCE_DEM_DATE: 1997 2 26
AGENCY: WESTERN MAPPING CENTER (WMC)
PRODUCER: USFS
PRODUCTION_SYSTEM: DV2.6.3 10/9OV2.4 5/95
COMPRESSION: UNDEFINED
STANDARD_VERSION: 1996 12
METADATA_DATE: 1997 11 2
DATA_FILE_SIZE: 41536992
BYTE_COUNT: 5424
