FILENAME: O4811522.SWS.56521.tif
QUADRANGLE_NAME: INCH MOUNTAIN
QUADRANT: SW
WEST_LONGITUDE: -115 22 30.00000
EAST_LONGITUDE: -115 18 45.00000
NORTH_LATITUDE: 48 41 15.00000
SOUTH_LATITUDE: 48 37 30.00000
PRODUCTION_DATE: 1997 2 27
RASTER_ORDER: LEFT_RIGHT/TOP_BOTTOM
BAND_ORGANIZATION: SINGLE FILE
BAND_CONTENT: BLACK&WHITE
BAND_CONTENT: UNDEFINED
BAND_CONTENT: UNDEFINED
BITS_PER_PIXEL: 8
SAMPLES_AND_LINES: 5428 7657
HORIZONTAL_DATUM: NAD83
HORIZONTAL_COORDINATE_SYSTEM: UTM
COORDINATE_ZONE: 11
HORIZONTAL_UNITS: METERS
HORIZONTAL_RESOLUTION: 1.00000
SECONDARY_HORIZONTAL_DATUM: NAD27
XY_ORIGIN: 619221.00000 5394393.00000
SECONDARY_XY_ORIGIN: 619298.00000 5394181.00000
NATION: US
STATE: MT
NW_QUAD_CORNER_XY: 619596.36000 5393991.62500
NE_QUAD_CORNER_XY: 624196.05300 5394091.52400
SE_QUAD_CORNERY_XY: 624349.70900 5387144.49300
SW_QUAD_CORNER_XY: 619744.32100 5387044.56600
SECONDARY_NW_QUAD_XY: 619600.17700 5393772.67300
SECONDARY_NE_QUAD_XY: 624200.01700 5393872.57500
SECONDARY_SE_QUAD_XY: 624353.67200 5386925.55000
SECONDARY_SW_QUAD_XY: 619748.13800 5386825.61900
RMSE_XY: 2.70000
IMAGE_SOURCE: BLACK AND WHITE FILM
SOURCE_IMAGE_ID: NAPP 8418 12
SOURCE_IMAGE_DATE: 1995 8 5
SOURCE_DEM_DATE: 1997 2 27
AGENCY: WESTERN MAPPING CENTER (WMC)
PRODUCER: USFS
PRODUCTION_SYSTEM: DV2.6.3 10/9OV2.4 5/95
COMPRESSION: UNDEFINED
STANDARD_VERSION: 1996 12
METADATA_DATE: 1997 11 2
DATA_FILE_SIZE: 41567624
BYTE_COUNT: 5428
