FILENAME: O4811521.NES.56544.tif
QUADRANGLE_NAME: PARSNIP MOUNTAIN
QUADRANT: NE
WEST_LONGITUDE: -115 26 15.00000
EAST_LONGITUDE: -115 22 30.00000
NORTH_LATITUDE: 48 45 0.00000
SOUTH_LATITUDE: 48 41 15.00000
PRODUCTION_DATE: 1997 2 20
RASTER_ORDER: LEFT_RIGHT/TOP_BOTTOM
BAND_ORGANIZATION: SINGLE FILE
BAND_CONTENT: BLACK&WHITE
BAND_CONTENT: UNDEFINED
BAND_CONTENT: UNDEFINED
BITS_PER_PIXEL: 8
SAMPLES_AND_LINES: 5418 7655
HORIZONTAL_DATUM: NAD83
HORIZONTAL_COORDINATE_SYSTEM: UTM
COORDINATE_ZONE: 11
HORIZONTAL_UNITS: METERS
HORIZONTAL_RESOLUTION: 1.00000
SECONDARY_HORIZONTAL_DATUM: NAD27
XY_ORIGIN: 614479.00000 5401248.00000
SECONDARY_XY_ORIGIN: 614556.74000 5401035.35000
NATION: US
STATE: MT
NW_QUAD_CORNER_XY: 614854.31000 5400842.61000
NE_QUAD_CORNER_XY: 619448.32000 5400938.71000
SE_QUAD_CORNERY_XY: 619596.43000 5393991.58000
SW_QUAD_CORNER_XY: 614996.71000 5393895.46000
SECONDARY_NW_QUAD_XY: 614857.98000 5400623.65000
SECONDARY_NE_QUAD_XY: 619452.14000 5400719.76000
SECONDARY_SE_QUAD_XY: 619600.24000 5393772.63000
SECONDARY_SW_QUAD_XY: 615000.38000 5393676.50000
RMSE_XY: 1.50000
IMAGE_SOURCE: BLACK AND WHITE FILM
SOURCE_IMAGE_ID: NAPP 8419 140
SOURCE_IMAGE_DATE: 1995 8 21
SOURCE_IMAGE_ID: NAPP 8419 138
SOURCE_IMAGE_DATE: 1995 8 21
SOURCE_DEM_DATE: 1997 2 20
AGENCY: WESTERN MAPPING CENTER (WMC)
PRODUCER: USFS
PRODUCTION_SYSTEM: DV2.6.3 10/9OV2.4 5/95
COMPRESSION: UNDEFINED
STANDARD_VERSION: 1996 12
METADATA_DATE: 1997 11 2
DATA_FILE_SIZE: 41480208
BYTE_COUNT: 5418
