FILENAME: O4811521.SES.56543.tif
QUADRANGLE_NAME: PARSNIP MOUNTAIN
QUADRANT: SE
WEST_LONGITUDE: -115 26 15.00000
EAST_LONGITUDE: -115 22 30.00000
NORTH_LATITUDE: 48 41 15.00000
SOUTH_LATITUDE: 48 37 30.00000
PRODUCTION_DATE: 1997 2 20
RASTER_ORDER: LEFT_RIGHT/TOP_BOTTOM
BAND_ORGANIZATION: SINGLE FILE
BAND_CONTENT: BLACK&WHITE
BAND_CONTENT: UNDEFINED
BAND_CONTENT: UNDEFINED
BITS_PER_PIXEL: 8
SAMPLES_AND_LINES: 5424 7653
HORIZONTAL_DATUM: NAD83
HORIZONTAL_COORDINATE_SYSTEM: UTM
COORDINATE_ZONE: 11
HORIZONTAL_UNITS: METERS
HORIZONTAL_RESOLUTION: 1.00000
SECONDARY_HORIZONTAL_DATUM: NAD27
XY_ORIGIN: 614622.00000 5394293.00000
SECONDARY_XY_ORIGIN: 614699.68900 5394080.44000
NATION: US
STATE: MT
NW_QUAD_CORNER_XY: 614996.64800 5393895.49700
NE_QUAD_CORNER_XY: 619596.36000 5393991.62500
SE_QUAD_CORNERY_XY: 619744.32100 5387044.56600
SW_QUAD_CORNER_XY: 615138.91600 5386948.41100
SECONDARY_NW_QUAD_XY: 615000.31800 5393676.54200
SECONDARY_NE_QUAD_XY: 619600.17700 5393772.67300
SECONDARY_SE_QUAD_XY: 619748.13800 5386825.61900
SECONDARY_SW_QUAD_XY: 615142.58700 5386729.46200
RMSE_XY: 2.90000
IMAGE_SOURCE: BLACK AND WHITE FILM
SOURCE_IMAGE_ID: NAPP 8419 138
SOURCE_IMAGE_DATE: 1995 8 21
SOURCE_DEM_DATE: 1997 2 20
AGENCY: WESTERN MAPPING CENTER (WMC)
PRODUCER: USFS
PRODUCTION_SYSTEM: DV2.6.3 10/9OV2.4 5/95
COMPRESSION: UNDEFINED
STANDARD_VERSION: 1996 12
METADATA_DATE: 1997 11 2
DATA_FILE_SIZE: 41515296
BYTE_COUNT: 5424
