FILENAME: O4811521.SWS.56565.tif
QUADRANGLE_NAME: PARSNIP MOUNTAIN
QUADRANT: SW
WEST_LONGITUDE: -115 30 0.00000
EAST_LONGITUDE: -115 26 15.00000
NORTH_LATITUDE: 48 41 15.00000
SOUTH_LATITUDE: 48 37 30.00000
PRODUCTION_DATE: 1997 2 20
RASTER_ORDER: LEFT_RIGHT/TOP_BOTTOM
BAND_ORGANIZATION: SINGLE FILE
BAND_CONTENT: BLACK&WHITE
BAND_CONTENT: UNDEFINED
BAND_CONTENT: UNDEFINED
BITS_PER_PIXEL: 8
SAMPLES_AND_LINES: 5416 7649
HORIZONTAL_DATUM: NAD83
HORIZONTAL_COORDINATE_SYSTEM: UTM
COORDINATE_ZONE: 11
HORIZONTAL_UNITS: METERS
HORIZONTAL_RESOLUTION: 1.00000
SECONDARY_HORIZONTAL_DATUM: NAD27
XY_ORIGIN: 610022.00000 5394196.00000
SECONDARY_XY_ORIGIN: 610099.64900 5393983.53900
NATION: US
STATE: MT
NW_QUAD_CORNER_XY: 610396.91800 5393803.14000
NE_QUAD_CORNER_XY: 614996.64800 5393895.49700
SE_QUAD_CORNERY_XY: 615138.91600 5386948.41100
SW_QUAD_CORNER_XY: 610533.49400 5386856.02900
SECONDARY_NW_QUAD_XY: 610400.44200 5393584.18200
SECONDARY_NE_QUAD_XY: 615000.31800 5393676.54200
SECONDARY_SE_QUAD_XY: 615142.58700 5386729.46200
SECONDARY_SW_QUAD_XY: 610537.01700 5386637.07600
RMSE_XY: 1.50000
IMAGE_SOURCE: BLACK AND WHITE FILM
SOURCE_IMAGE_ID: NAPP 8419 113
SOURCE_IMAGE_DATE: 1995 8 21
SOURCE_DEM_DATE: 1997 2 20
AGENCY: WESTERN MAPPING CENTER (WMC)
PRODUCER: USFS
PRODUCTION_SYSTEM: DV2.6.3 10/9OV2.4 5/95
COMPRESSION: UNDEFINED
STANDARD_VERSION: 1996 12
METADATA_DATE: 1997 11 2
DATA_FILE_SIZE: 41432400
BYTE_COUNT: 5416
