FILENAME: O4811520.NES.56588.tif
QUADRANGLE_NAME: PINK MOUNTAIN
QUADRANT: NE
WEST_LONGITUDE: -115 33 45.00000
EAST_LONGITUDE: -115 30 0.00000
NORTH_LATITUDE: 48 45 0.00000
SOUTH_LATITUDE: 48 41 15.00000
PRODUCTION_DATE: 1997 3 5
RASTER_ORDER: LEFT_RIGHT/TOP_BOTTOM
BAND_ORGANIZATION: SINGLE FILE
BAND_CONTENT: BLACK&WHITE
BAND_CONTENT: UNDEFINED
BAND_CONTENT: UNDEFINED
BITS_PER_PIXEL: 8
SAMPLES_AND_LINES: 5409 7646
HORIZONTAL_DATUM: NAD83
HORIZONTAL_COORDINATE_SYSTEM: UTM
COORDINATE_ZONE: 11
HORIZONTAL_UNITS: METERS
HORIZONTAL_RESOLUTION: 1.00000
SECONDARY_HORIZONTAL_DATUM: NAD27
XY_ORIGIN: 605291.00000 5401055.00000
SECONDARY_XY_ORIGIN: 605368.64000 5400842.54000
NATION: US
STATE: MT
NW_QUAD_CORNER_XY: 605666.23000 5400661.72000
NE_QUAD_CORNER_XY: 610260.28000 5400750.28000
SE_QUAD_CORNERY_XY: 610396.99000 5393803.10000
SW_QUAD_CORNER_XY: 605797.24000 5393714.51000
SECONDARY_NW_QUAD_XY: 605669.61000 5400442.75000
SECONDARY_NE_QUAD_XY: 610263.80000 5400531.32000
SECONDARY_SE_QUAD_XY: 610400.51000 5393584.14000
SECONDARY_SW_QUAD_XY: 605800.62000 5393495.55000
RMSE_XY: 2.50000
IMAGE_SOURCE: BLACK AND WHITE FILM
SOURCE_IMAGE_ID: NAPP 8419 159
SOURCE_IMAGE_DATE: 1995 8 21
SOURCE_IMAGE_ID: NAPP 8419 161
SOURCE_IMAGE_DATE: 1995 8 21
SOURCE_DEM_DATE: 1997 3 5
AGENCY: WESTERN MAPPING CENTER (WMC)
PRODUCER: USFS
PRODUCTION_SYSTEM: DV2.6.1 6/95OV2.4 5/95
COMPRESSION: UNDEFINED
STANDARD_VERSION: 1996 12
METADATA_DATE: 1997 11 2
DATA_FILE_SIZE: 41362623
BYTE_COUNT: 5409
