FILENAME: O4811520.SES.56587.tif
QUADRANGLE_NAME: PINK MOUNTAIN
QUADRANT: SE
WEST_LONGITUDE: -115 33 45.00000
EAST_LONGITUDE: -115 30 0.00000
NORTH_LATITUDE: 48 41 15.00000
SOUTH_LATITUDE: 48 37 30.00000
PRODUCTION_DATE: 1997 3 5
RASTER_ORDER: LEFT_RIGHT/TOP_BOTTOM
BAND_ORGANIZATION: SINGLE FILE
BAND_CONTENT: BLACK&WHITE
BAND_CONTENT: UNDEFINED
BAND_CONTENT: UNDEFINED
BITS_PER_PIXEL: 8
SAMPLES_AND_LINES: 5412 7645
HORIZONTAL_DATUM: NAD83
HORIZONTAL_COORDINATE_SYSTEM: UTM
COORDINATE_ZONE: 11
HORIZONTAL_UNITS: METERS
HORIZONTAL_RESOLUTION: 1.00000
SECONDARY_HORIZONTAL_DATUM: NAD27
XY_ORIGIN: 605422.00000 5394104.00000
SECONDARY_XY_ORIGIN: 605499.56400 5393891.62900
NATION: US
STATE: MT
NW_QUAD_CORNER_XY: 605797.17200 5393714.55400
NE_QUAD_CORNER_XY: 610396.91800 5393803.14000
SE_QUAD_CORNERY_XY: 610533.49400 5386856.02900
SW_QUAD_CORNER_XY: 605928.05500 5386767.41800
SECONDARY_NW_QUAD_XY: 605800.54900 5393495.59300
SECONDARY_NE_QUAD_XY: 610400.44200 5393584.18200
SECONDARY_SE_QUAD_XY: 610537.01700 5386637.07600
SECONDARY_SW_QUAD_XY: 605931.43200 5386548.46300
RMSE_XY: 2.40000
IMAGE_SOURCE: BLACK AND WHITE FILM
SOURCE_IMAGE_ID: NAPP 8419 161
SOURCE_IMAGE_DATE: 1995 8 21
SOURCE_DEM_DATE: 1997 3 5
AGENCY: WESTERN MAPPING CENTER (WMC)
PRODUCER: USFS
PRODUCTION_SYSTEM: DV2.6.1 6/95OV2.4 5/95
COMPRESSION: UNDEFINED
STANDARD_VERSION: 1996 12
METADATA_DATE: 1997 11 2
DATA_FILE_SIZE: 41380152
BYTE_COUNT: 5412
