FILENAME: O4811518.NES.56680.tif
QUADRANGLE_NAME: SYLVANITE
QUADRANT: NE
WEST_LONGITUDE: -115 48 45.00000
EAST_LONGITUDE: -115 45 0.00000
NORTH_LATITUDE: 48 45 0.00000
SOUTH_LATITUDE: 48 41 15.00000
PRODUCTION_DATE: 1997 2 27
RASTER_ORDER: LEFT_RIGHT/TOP_BOTTOM
BAND_ORGANIZATION: SINGLE FILE
BAND_CONTENT: BLACK&WHITE
BAND_CONTENT: UNDEFINED
BAND_CONTENT: UNDEFINED
BITS_PER_PIXEL: 8
SAMPLES_AND_LINES: 5385 7632
HORIZONTAL_DATUM: NAD83
HORIZONTAL_COORDINATE_SYSTEM: UTM
COORDINATE_ZONE: 11
HORIZONTAL_UNITS: METERS
HORIZONTAL_RESOLUTION: 1.00000
SECONDARY_HORIZONTAL_DATUM: NAD27
XY_ORIGIN: 586914.00000 5400724.00000
SECONDARY_XY_ORIGIN: 586991.46000 5400511.90000
NATION: US
STATE: MT
NW_QUAD_CORNER_XY: 587289.88000 5400345.17000
NE_QUAD_CORNER_XY: 591883.99000 5400418.66000
SE_QUAD_CORNERY_XY: 591997.91000 5393471.38000
SW_QUAD_CORNER_XY: 587398.10000 5393397.88000
SECONDARY_NW_QUAD_XY: 587292.67000 5400126.20000
SECONDARY_NE_QUAD_XY: 591886.93000 5400199.68000
SECONDARY_SE_QUAD_XY: 592000.84000 5393252.41000
SECONDARY_SW_QUAD_XY: 587400.89000 5393178.91000
RMSE_XY: 1.80000
IMAGE_SOURCE: BLACK AND WHITE FILM
SOURCE_IMAGE_ID: NAPP 2670 115
SOURCE_IMAGE_DATE: 1990 9 6
SOURCE_IMAGE_ID: NAPP 2670 117
SOURCE_IMAGE_DATE: 1990 9 6
SOURCE_DEM_DATE: 1997 2 27
AGENCY: WESTERN MAPPING CENTER (WMC)
PRODUCER: USFS
PRODUCTION_SYSTEM: DV2.6.3 10/9OV2.4 5/95
COMPRESSION: UNDEFINED
STANDARD_VERSION: 1996 12
METADATA_DATE: 1997 11 2
DATA_FILE_SIZE: 41103705
BYTE_COUNT: 5385
