FILENAME: O4811517.SES.56721.tif
QUADRANGLE_NAME: NEWTON MOUNTAIN
QUADRANT: SE
WEST_LONGITUDE: -115 56 15.00000
EAST_LONGITUDE: -115 52 30.00000
NORTH_LATITUDE: 48 41 15.00000
SOUTH_LATITUDE: 48 37 30.00000
PRODUCTION_DATE: 1997 2 22
RASTER_ORDER: LEFT_RIGHT/TOP_BOTTOM
BAND_ORGANIZATION: SINGLE FILE
BAND_CONTENT: BLACK&WHITE
BAND_CONTENT: UNDEFINED
BAND_CONTENT: UNDEFINED
BITS_PER_PIXEL: 8
SAMPLES_AND_LINES: 5381 7624
HORIZONTAL_DATUM: NAD83
HORIZONTAL_COORDINATE_SYSTEM: UTM
COORDINATE_ZONE: 11
HORIZONTAL_UNITS: METERS
HORIZONTAL_RESOLUTION: 1.00000
SECONDARY_HORIZONTAL_DATUM: NAD27
XY_ORIGIN: 577823.00000 5393633.00000
SECONDARY_XY_ORIGIN: 577900.35000 5393421.20000
NATION: US
STATE: MT
NW_QUAD_CORNER_XY: 578198.45000 5393262.18000
NE_QUAD_CORNER_XY: 582798.28000 5393328.14000
SE_QUAD_CORNERY_XY: 582900.71000 5386380.90000
SW_QUAD_CORNER_XY: 578295.18000 5386314.92000
SECONDARY_NW_QUAD_XY: 578200.95000 5393043.20000
SECONDARY_NE_QUAD_XY: 582800.92000 5393109.17000
SECONDARY_SE_QUAD_XY: 582903.35000 5386161.93000
SECONDARY_SW_QUAD_XY: 578297.68000 5386095.95000
RMSE_XY: 2.10000
IMAGE_SOURCE: BLACK AND WHITE FILM
SOURCE_IMAGE_ID: NAPP 8422 5
SOURCE_IMAGE_DATE: 1995 7 28
SOURCE_IMAGE_ID: NAPP 8422 3
SOURCE_IMAGE_DATE: 1995 7 28
SOURCE_DEM_DATE: 1997 2 22
AGENCY: WESTERN MAPPING CENTER (WMC)
PRODUCER: USFS
PRODUCTION_SYSTEM: DV2.6.3 10/9OV2.4 5/95
COMPRESSION: UNDEFINED
STANDARD_VERSION: 1996 12
METADATA_DATE: 1997 11 2
DATA_FILE_SIZE: 41030125
BYTE_COUNT: 5381
