FILENAME: O4811516.NWS.56445.tif
QUADRANGLE_NAME: EUREKA SOUTH
QUADRANT: NW
WEST_LONGITUDE: -115 7 30.00000
EAST_LONGITUDE: -115 3 45.00000
NORTH_LATITUDE: 48 52 30.00000
SOUTH_LATITUDE: 48 48 45.00000
PRODUCTION_DATE: 1997 3 7
RASTER_ORDER: LEFT_RIGHT/TOP_BOTTOM
BAND_ORGANIZATION: SINGLE FILE
BAND_CONTENT: BLACK&WHITE
BAND_CONTENT: UNDEFINED
BAND_CONTENT: UNDEFINED
BITS_PER_PIXEL: 8
SAMPLES_AND_LINES: 5436 7671
HORIZONTAL_DATUM: NAD83
HORIZONTAL_COORDINATE_SYSTEM: UTM
COORDINATE_ZONE: 11
HORIZONTAL_UNITS: METERS
HORIZONTAL_RESOLUTION: 1.00000
SECONDARY_HORIZONTAL_DATUM: NAD27
XY_ORIGIN: 637107.00000 5415671.00000
SECONDARY_XY_ORIGIN: 637184.80200 5415457.87900
NATION: US
STATE: MT
NW_QUAD_CORNER_XY: 637481.81400 5415255.08600
NE_QUAD_CORNER_XY: 642064.31100 5415369.97400
SE_QUAD_CORNERY_XY: 642241.25600 5408422.86200
SW_QUAD_CORNER_XY: 637653.04700 5408307.94100
SECONDARY_NW_QUAD_XY: 637486.21900 5415036.13400
SECONDARY_NE_QUAD_XY: 642068.86300 5415151.02600
SECONDARY_SE_QUAD_XY: 642245.80700 5408203.91800
SECONDARY_SW_QUAD_XY: 637657.45200 5408088.99200
RMSE_XY: 2.30000
IMAGE_SOURCE: BLACK AND WHITE FILM
SOURCE_IMAGE_ID: NAPP 8420 133
SOURCE_IMAGE_DATE: 1995 8 20
SOURCE_DEM_DATE: 1997 3 7
AGENCY: WESTERN MAPPING CENTER (WMC)
PRODUCER: USFS
PRODUCTION_SYSTEM: DV2.6.3 10/9OV2.4 5/95
COMPRESSION: UNDEFINED
STANDARD_VERSION: 1996 12
METADATA_DATE: 1997 11 2
DATA_FILE_SIZE: 41704992
BYTE_COUNT: 5436
