FILENAME: O4811515.SES.56464.tif
QUADRANGLE_NAME: BEARTRAP MOUNTAIN
QUADRANT: SE
WEST_LONGITUDE: -115 11 15.00000
EAST_LONGITUDE: -115 7 30.00000
NORTH_LATITUDE: 48 48 45.00000
SOUTH_LATITUDE: 48 45 0.00000
PRODUCTION_DATE: 1997 3 4
RASTER_ORDER: LEFT_RIGHT/TOP_BOTTOM
BAND_ORGANIZATION: SINGLE FILE
BAND_CONTENT: BLACK&WHITE
BAND_CONTENT: UNDEFINED
BAND_CONTENT: UNDEFINED
BITS_PER_PIXEL: 8
SAMPLES_AND_LINES: 5436 7667
HORIZONTAL_DATUM: NAD83
HORIZONTAL_COORDINATE_SYSTEM: UTM
COORDINATE_ZONE: 11
HORIZONTAL_UNITS: METERS
HORIZONTAL_RESOLUTION: 1.00000
SECONDARY_HORIZONTAL_DATUM: NAD27
XY_ORIGIN: 632690.00000 5408609.00000
SECONDARY_XY_ORIGIN: 632767.82500 5408395.96700
NATION: US
STATE: MT
NW_QUAD_CORNER_XY: 633064.81800 5408196.78900
NE_QUAD_CORNER_XY: 637653.04700 5408307.94100
SE_QUAD_CORNERY_XY: 637824.11600 5401360.86300
SW_QUAD_CORNER_XY: 633230.18100 5401249.68000
SECONDARY_NW_QUAD_XY: 633069.07500 5407977.83700
SECONDARY_NE_QUAD_XY: 637657.45200 5408088.99200
SECONDARY_SE_QUAD_XY: 637828.52000 5401141.91900
SECONDARY_SW_QUAD_XY: 633234.43800 5401030.73200
RMSE_XY: 1.70000
IMAGE_SOURCE: BLACK AND WHITE FILM
SOURCE_IMAGE_ID: NAPP 8420 146
SOURCE_IMAGE_DATE: 1995 8 20
SOURCE_DEM_DATE: 1997 3 4
AGENCY: WESTERN MAPPING CENTER (WMC)
PRODUCER: USFS
PRODUCTION_SYSTEM: DV2.6.3 10/9OV2.4 5/95
COMPRESSION: UNDEFINED
STANDARD_VERSION: 1996 12
METADATA_DATE: 1997 11 4
DATA_FILE_SIZE: 41683248
BYTE_COUNT: 5436
