FILENAME: O4811514.NES.56505.tif
QUADRANGLE_NAME: WEBB MOUNTAIN
QUADRANT: NE
WEST_LONGITUDE: -115 18 45.00000
EAST_LONGITUDE: -115 15 0.00000
NORTH_LATITUDE: 48 52 30.00000
SOUTH_LATITUDE: 48 48 45.00000
PRODUCTION_DATE: 1997 2 27
RASTER_ORDER: LEFT_RIGHT/TOP_BOTTOM
BAND_ORGANIZATION: SINGLE FILE
BAND_CONTENT: BLACK&WHITE
BAND_CONTENT: UNDEFINED
BAND_CONTENT: UNDEFINED
BITS_PER_PIXEL: 8
SAMPLES_AND_LINES: 5420 7660
HORIZONTAL_DATUM: NAD83
HORIZONTAL_COORDINATE_SYSTEM: UTM
COORDINATE_ZONE: 11
HORIZONTAL_UNITS: METERS
HORIZONTAL_RESOLUTION: 1.00000
SECONDARY_HORIZONTAL_DATUM: NAD27
XY_ORIGIN: 623359.00000 5415338.00000
SECONDARY_XY_ORIGIN: 623436.79600 5415124.98100
NATION: US
STATE: MT
NW_QUAD_CORNER_XY: 623734.19500 5414933.03400
NE_QUAD_CORNER_XY: 628316.75500 5415036.61600
SE_QUAD_CORNERY_XY: 628476.56700 5408089.40700
SW_QUAD_CORNER_XY: 623888.29600 5407985.79500
SECONDARY_NW_QUAD_XY: 623738.15900 5414714.07300
SECONDARY_NE_QUAD_XY: 628320.86600 5414817.65800
SECONDARY_SE_QUAD_XY: 628480.67800 5407870.45200
SECONDARY_SW_QUAD_XY: 623892.26000 5407766.83700
RMSE_XY: 1.50000
IMAGE_SOURCE: BLACK AND WHITE FILM
SOURCE_IMAGE_ID: NAPP 8419 171
SOURCE_IMAGE_DATE: 1995 8 21
SOURCE_DEM_DATE: 1997 2 27
AGENCY: WESTERN MAPPING CENTER (WMC)
PRODUCER: USFS
PRODUCTION_SYSTEM: DV2.6.3 10/9OV2.4 5/95
COMPRESSION: UNDEFINED
STANDARD_VERSION: 1996 12
METADATA_DATE: 1997 11 2
DATA_FILE_SIZE: 41522620
BYTE_COUNT: 5420
