FILENAME: O4811513.NWS.56568.tif
QUADRANGLE_NAME: BOULDER LAKES
QUADRANT: NW
WEST_LONGITUDE: -115 30 0.00000
EAST_LONGITUDE: -115 26 15.00000
NORTH_LATITUDE: 48 52 30.00000
SOUTH_LATITUDE: 48 48 45.00000
PRODUCTION_DATE: 1997 2 20
RASTER_ORDER: LEFT_RIGHT/TOP_BOTTOM
BAND_ORGANIZATION: SINGLE FILE
BAND_CONTENT: BLACK&WHITE
BAND_CONTENT: UNDEFINED
BAND_CONTENT: UNDEFINED
BITS_PER_PIXEL: 8
SAMPLES_AND_LINES: 5400 7649
HORIZONTAL_DATUM: NAD83
HORIZONTAL_COORDINATE_SYSTEM: UTM
COORDINATE_ZONE: 11
HORIZONTAL_UNITS: METERS
HORIZONTAL_RESOLUTION: 1.00000
SECONDARY_HORIZONTAL_DATUM: NAD27
XY_ORIGIN: 609611.00000 5415038.00000
SECONDARY_XY_ORIGIN: 609688.00000 5414826.00000
NATION: US
STATE: MT
NW_QUAD_CORNER_XY: 609986.39700 5414644.89800
NE_QUAD_CORNER_XY: 614569.01500 5414737.17600
SE_QUAD_CORNERY_XY: 614711.69700 5407789.87900
SW_QUAD_CORNER_XY: 610123.37000 5407697.57500
SECONDARY_NW_QUAD_XY: 609989.92100 5414425.92700
SECONDARY_NE_QUAD_XY: 614572.68600 5414518.20800
SECONDARY_SE_QUAD_XY: 614715.36700 5407570.91500
SECONDARY_SW_QUAD_XY: 610126.89400 5407478.60700
RMSE_XY: 4.70000
IMAGE_SOURCE: BLACK AND WHITE FILM
SOURCE_IMAGE_ID: NAPP 8419 119
SOURCE_IMAGE_DATE: 1995 8 21
SOURCE_DEM_DATE: 1997 2 20
AGENCY: WESTERN MAPPING CENTER (WMC)
PRODUCER: USFS
PRODUCTION_SYSTEM: DV2.6.3 10/9OV2.4 5/95
COMPRESSION: UNDEFINED
STANDARD_VERSION: 1996 12
METADATA_DATE: 1997 11 2
DATA_FILE_SIZE: 41310000
BYTE_COUNT: 5400
