FILENAME: O4811512.SWS.56611.tif
QUADRANGLE_NAME: LOST HORSE MOUNTAIN
QUADRANT: SW
WEST_LONGITUDE: -115 37 30.00000
EAST_LONGITUDE: -115 33 45.00000
NORTH_LATITUDE: 48 48 45.00000
SOUTH_LATITUDE: 48 45 0.00000
PRODUCTION_DATE: 1997 3 4
RASTER_ORDER: LEFT_RIGHT/TOP_BOTTOM
BAND_ORGANIZATION: SINGLE FILE
BAND_CONTENT: BLACK&WHITE
BAND_CONTENT: UNDEFINED
BAND_CONTENT: UNDEFINED
BITS_PER_PIXEL: 8
SAMPLES_AND_LINES: 5397 7643
HORIZONTAL_DATUM: NAD83
HORIZONTAL_COORDINATE_SYSTEM: UTM
COORDINATE_ZONE: 11
HORIZONTAL_UNITS: METERS
HORIZONTAL_RESOLUTION: 1.00000
SECONDARY_HORIZONTAL_DATUM: NAD27
XY_ORIGIN: 600571.00000 5407914.00000
SECONDARY_XY_ORIGIN: 600648.61000 5407701.45000
NATION: US
STATE: MT
NW_QUAD_CORNER_XY: 600946.73000 5407524.23000
NE_QUAD_CORNER_XY: 605535.09000 5407609.00000
SE_QUAD_CORNERY_XY: 605666.23000 5400661.72000
SW_QUAD_CORNER_XY: 601072.16000 5400576.93000
SECONDARY_NW_QUAD_XY: 600949.96000 5407305.26000
SECONDARY_NE_QUAD_XY: 605538.47000 5407390.03000
SECONDARY_SE_QUAD_XY: 605669.61000 5400442.75000
SECONDARY_SW_QUAD_XY: 601075.39000 5400357.96000
RMSE_XY: 6.60000
IMAGE_SOURCE: BLACK AND WHITE FILM
SOURCE_IMAGE_ID: NAPP 8419 128
SOURCE_IMAGE_DATE: 1995 8 21
SOURCE_IMAGE_ID: NAPP 8419 157
SOURCE_IMAGE_DATE: 1995 8 21
SOURCE_DEM_DATE: 1997 3 4
AGENCY: WESTERN MAPPING CENTER (WMC)
PRODUCER: USFS
PRODUCTION_SYSTEM: DV2.6.1 6/95OV2.4 5/95
COMPRESSION: UNDEFINED
STANDARD_VERSION: 1996 12
METADATA_DATE: 1997 11 2
DATA_FILE_SIZE: 41254668
BYTE_COUNT: 5397
