FILENAME: O4811511.SWS.56659.tif
QUADRANGLE_NAME: YAAK
QUADRANT: SW
WEST_LONGITUDE: -115 45 0.00000
EAST_LONGITUDE: -115 41 15.00000
NORTH_LATITUDE: 48 48 45.00000
SOUTH_LATITUDE: 48 45 0.00000
PRODUCTION_DATE: 1997 2 28
RASTER_ORDER: LEFT_RIGHT/TOP_BOTTOM
BAND_ORGANIZATION: SINGLE FILE
BAND_CONTENT: BLACK&WHITE
BAND_CONTENT: UNDEFINED
BAND_CONTENT: UNDEFINED
BITS_PER_PIXEL: 8
SAMPLES_AND_LINES: 5384 7634
HORIZONTAL_DATUM: NAD83
HORIZONTAL_COORDINATE_SYSTEM: UTM
COORDINATE_ZONE: 11
HORIZONTAL_UNITS: METERS
HORIZONTAL_RESOLUTION: 1.00000
SECONDARY_HORIZONTAL_DATUM: NAD27
XY_ORIGIN: 591394.00000 5407744.00000
SECONDARY_XY_ORIGIN: 591471.50000 5407531.59300
NATION: US
STATE: MT
NW_QUAD_CORNER_XY: 591769.89600 5407366.04500
NE_QUAD_CORNER_XY: 596358.28800 5407443.27500
SE_QUAD_CORNERY_XY: 596478.01800 5400495.94900
SW_QUAD_CORNER_XY: 591883.92400 5400418.69700
SECONDARY_NW_QUAD_XY: 591772.83300 5407147.06700
SECONDARY_NE_QUAD_XY: 596361.37100 5407224.29900
SECONDARY_SE_QUAD_XY: 596481.10100 5400276.97800
SECONDARY_SW_QUAD_XY: 591886.86000 5400199.72300
RMSE_XY: 3.90000
IMAGE_SOURCE: BLACK AND WHITE FILM
SOURCE_IMAGE_ID: NAPP 8419 46
SOURCE_IMAGE_DATE: 1995 8 21
SOURCE_DEM_DATE: 1997 2 28
AGENCY: WESTERN MAPPING CENTER (WMC)
PRODUCER: USFS
PRODUCTION_SYSTEM: DV2.6.1 6/95OV2.4 5/95
COMPRESSION: UNDEFINED
STANDARD_VERSION: 1996 12
METADATA_DATE: 1997 11 2
DATA_FILE_SIZE: 41106840
BYTE_COUNT: 5384
