FILENAME: O4811509.NWS.56744.tif
QUADRANGLE_NAME: MOUNT BALDY
QUADRANT: NW
WEST_LONGITUDE: -116 0 0.00000
EAST_LONGITUDE: -115 56 15.00000
NORTH_LATITUDE: 48 52 30.00000
SOUTH_LATITUDE: 48 48 45.00000
PRODUCTION_DATE: 1997 2 22
RASTER_ORDER: LEFT_RIGHT/TOP_BOTTOM
BAND_ORGANIZATION: SINGLE FILE
BAND_CONTENT: BLACK&WHITE
BAND_CONTENT: UNDEFINED
BAND_CONTENT: UNDEFINED
BITS_PER_PIXEL: 8
SAMPLES_AND_LINES: 5356 7619
HORIZONTAL_DATUM: NAD83
HORIZONTAL_COORDINATE_SYSTEM: UTM
COORDINATE_ZONE: 11
HORIZONTAL_UNITS: METERS
HORIZONTAL_RESOLUTION: 1.00000
SECONDARY_HORIZONTAL_DATUM: NAD27
XY_ORIGIN: 572949.00000 5414405.00000
SECONDARY_XY_ORIGIN: 573026.55700 5414192.60600
NATION: US
STATE: MT
NW_QUAD_CORNER_XY: 573324.88700 5414042.30600
NE_QUAD_CORNER_XY: 577907.62500 5414104.44500
SE_QUAD_CORNERY_XY: 578004.63800 5407156.96400
SW_QUAD_CORNER_XY: 573416.19300 5407094.80700
SECONDARY_NW_QUAD_XY: 573327.23600 5413823.31500
SECONDARY_NE_QUAD_XY: 577910.12100 5413885.45700
SECONDARY_SE_QUAD_XY: 578007.13400 5406937.98000
SECONDARY_SW_QUAD_XY: 573418.54200 5406875.82000
RMSE_XY: 1.90000
IMAGE_SOURCE: BLACK AND WHITE FILM
SOURCE_IMAGE_ID: NAPP 8419 72
SOURCE_IMAGE_DATE: 1995 8 21
SOURCE_DEM_DATE: 1997 2 22
AGENCY: WESTERN MAPPING CENTER (WMC)
PRODUCER: USFS
PRODUCTION_SYSTEM: DV2.6.3 10/9OV2.4 5/95
COMPRESSION: UNDEFINED
STANDARD_VERSION: 1996 12
METADATA_DATE: 1997 11 2
DATA_FILE_SIZE: 40812720
BYTE_COUNT: 5356
