FILENAME: O4811508.NWS.56447.tif
QUADRANGLE_NAME: EUREKA NORTH
QUADRANT: NW
WEST_LONGITUDE: -115 7 30.00000
EAST_LONGITUDE: -115 3 45.00000
NORTH_LATITUDE: 49 0 0.00000
SOUTH_LATITUDE: 48 56 15.00000
PRODUCTION_DATE: 1997 4 2
RASTER_ORDER: LEFT_RIGHT/TOP_BOTTOM
BAND_ORGANIZATION: SINGLE FILE
BAND_CONTENT: BLACK&WHITE
BAND_CONTENT: UNDEFINED
BAND_CONTENT: UNDEFINED
BITS_PER_PIXEL: 8
SAMPLES_AND_LINES: 5424 7670
HORIZONTAL_DATUM: NAD83
HORIZONTAL_COORDINATE_SYSTEM: UTM
COORDINATE_ZONE: 11
HORIZONTAL_UNITS: METERS
HORIZONTAL_RESOLUTION: 1.00000
SECONDARY_HORIZONTAL_DATUM: NAD27
XY_ORIGIN: 636764.00000 5429565.00000
SECONDARY_XY_ORIGIN: 636841.76400 5429351.71200
NATION: US
STATE: MT
NW_QUAD_CORNER_XY: 637138.85300 5429149.57900
NE_QUAD_CORNER_XY: 641709.91100 5429264.39800
SE_QUAD_CORNERY_XY: 641887.19600 5422317.15200
SW_QUAD_CORNER_XY: 637310.41600 5422202.29900
SECONDARY_NW_QUAD_XY: 637143.25800 5428930.62300
SECONDARY_NE_QUAD_XY: 641714.46300 5429045.44600
SECONDARY_SE_QUAD_XY: 641891.74800 5422098.20200
SECONDARY_SW_QUAD_XY: 637314.82100 5421983.34400
RMSE_XY: 1.10000
IMAGE_SOURCE: BLACK AND WHITE FILM
SOURCE_IMAGE_ID: NAPP 8420 137
SOURCE_IMAGE_DATE: 1995 8 20
SOURCE_DEM_DATE: 1997 4 2
AGENCY: WESTERN MAPPING CENTER (WMC)
PRODUCER: USFS
PRODUCTION_SYSTEM: DV2.6.3 10/9OV2.4 5/95
COMPRESSION: UNDEFINED
STANDARD_VERSION: 1996 12
METADATA_DATE: 1997 11 2
DATA_FILE_SIZE: 41607504
BYTE_COUNT: 5424
