FILENAME: O4811507.NES.56467.tif
QUADRANGLE_NAME: REXFORD
QUADRANT: NE
WEST_LONGITUDE: -115 11 15.00000
EAST_LONGITUDE: -115 7 30.00000
NORTH_LATITUDE: 49 0 0.00000
SOUTH_LATITUDE: 48 56 15.00000
PRODUCTION_DATE: 1997 4 2
RASTER_ORDER: LEFT_RIGHT/TOP_BOTTOM
BAND_ORGANIZATION: SINGLE FILE
BAND_CONTENT: BLACK&WHITE
BAND_CONTENT: UNDEFINED
BAND_CONTENT: UNDEFINED
BITS_PER_PIXEL: 8
SAMPLES_AND_LINES: 5416 7668
HORIZONTAL_DATUM: NAD83
HORIZONTAL_COORDINATE_SYSTEM: UTM
COORDINATE_ZONE: 11
HORIZONTAL_UNITS: METERS
HORIZONTAL_RESOLUTION: 1.00000
SECONDARY_HORIZONTAL_DATUM: NAD27
XY_ORIGIN: 632193.00000 5429451.00000
SECONDARY_XY_ORIGIN: 632270.77000 5429237.74900
NATION: US
STATE: MT
NW_QUAD_CORNER_XY: 632567.77300 5429038.52600
NE_QUAD_CORNER_XY: 637138.85300 5429149.57900
SE_QUAD_CORNERY_XY: 637310.41600 5422202.29900
SW_QUAD_CORNER_XY: 632733.61400 5422091.21200
SECONDARY_NW_QUAD_XY: 632572.03100 5428819.56700
SECONDARY_NE_QUAD_XY: 637143.25800 5428930.62300
SECONDARY_SE_QUAD_XY: 637314.82100 5421983.34400
SECONDARY_SW_QUAD_XY: 632737.87100 5421872.25500
RMSE_XY: 1.10000
IMAGE_SOURCE: BLACK AND WHITE FILM
SOURCE_IMAGE_ID: NAPP 8420 140
SOURCE_IMAGE_DATE: 1995 8 20
SOURCE_DEM_DATE: 1997 4 2
AGENCY: WESTERN MAPPING CENTER (WMC)
PRODUCER: USFS
PRODUCTION_SYSTEM: DV2.6.3 10/9OV2.4 5/95
COMPRESSION: UNDEFINED
STANDARD_VERSION: 1996 12
METADATA_DATE: 1997 11 2
DATA_FILE_SIZE: 41535304
BYTE_COUNT: 5416
