FILENAME: O4811506.NES.860572.tif
QUADRANGLE_NAME: RED MOUNTAIN
QUADRANT: NE
WEST_LONGITUDE: -115 18 45.00000
EAST_LONGITUDE: -115 15 0.00000
NORTH_LATITUDE: 49 0 0.00000
SOUTH_LATITUDE: 48 56 15.00000
PRODUCTION_DATE: 1997 3 28
RASTER_ORDER: LEFT_RIGHT/TOP_BOTTOM
BAND_ORGANIZATION: SINGLE FILE
BAND_CONTENT: BLACK&WHITE
BAND_CONTENT: UNDEFINED
BAND_CONTENT: UNDEFINED
BITS_PER_PIXEL: 8
SAMPLES_AND_LINES: 5408 7660
HORIZONTAL_DATUM: NAD83
HORIZONTAL_COORDINATE_SYSTEM: UTM
COORDINATE_ZONE: 11
HORIZONTAL_UNITS: METERS
HORIZONTAL_RESOLUTION: 1.00000
SECONDARY_HORIZONTAL_DATUM: NAD27
XY_ORIGIN: 623051.00000 5429232.00000
SECONDARY_XY_ORIGIN: 623128.77800 5429018.81500
NATION: US
NATION: CA
STATE: MT
NW_QUAD_CORNER_XY: 623425.55000 5428827.72000
NE_QUAD_CORNER_XY: 627996.67000 5428931.24000
SE_QUAD_CORNERY_XY: 628156.79000 5421983.89000
SW_QUAD_CORNER_XY: 623579.94000 5421880.34000
SECONDARY_NW_QUAD_XY: 623429.51000 5428608.75000
SECONDARY_NE_QUAD_XY: 628000.78000 5428712.28000
SECONDARY_SE_QUAD_XY: 628160.90000 5421764.93000
SECONDARY_SW_QUAD_XY: 623583.91000 5421661.38000
RMSE_XY: 2.50000
IMAGE_SOURCE: BLACK AND WHITE FILM
SOURCE_IMAGE_ID: NAPP 8423 14
SOURCE_IMAGE_DATE: 1995 9 12
SOURCE_DEM_DATE: 1997 3 28
AGENCY: U.S. FOREST SERVICE (FS)
PRODUCER: USFS - GEOMETRONICS SERVICE CENTER
PRODUCTION_SYSTEM: DV2.6.3 10/9OV2.4 5/95
COMPRESSION: UNDEFINED
STANDARD_VERSION: 1996 12
METADATA_DATE: 1997 12 3
DATA_FILE_SIZE: 41430688
BYTE_COUNT: 5408
