FILENAME: O4811506.SES.56506.tif
QUADRANGLE_NAME: RED MOUNTAIN
QUADRANT: SE
WEST_LONGITUDE: -115 18 45.00000
EAST_LONGITUDE: -115 15 0.00000
NORTH_LATITUDE: 48 56 15.00000
SOUTH_LATITUDE: 48 52 30.00000
PRODUCTION_DATE: 1997 3 27
RASTER_ORDER: LEFT_RIGHT/TOP_BOTTOM
BAND_ORGANIZATION: SINGLE FILE
BAND_CONTENT: BLACK&WHITE
BAND_CONTENT: UNDEFINED
BAND_CONTENT: UNDEFINED
BITS_PER_PIXEL: 8
SAMPLES_AND_LINES: 5412 7660
HORIZONTAL_DATUM: NAD83
HORIZONTAL_COORDINATE_SYSTEM: UTM
COORDINATE_ZONE: 11
HORIZONTAL_UNITS: METERS
HORIZONTAL_RESOLUTION: 1.00000
SECONDARY_HORIZONTAL_DATUM: NAD27
XY_ORIGIN: 623205.00000 5422285.00000
SECONDARY_XY_ORIGIN: 623282.00000 5422072.00000
NATION: US
STATE: MT
NW_QUAD_CORNER_XY: 623579.94500 5421880.34300
NE_QUAD_CORNER_XY: 628156.79000 5421983.89400
SE_QUAD_CORNERY_XY: 628316.75500 5415036.61600
SW_QUAD_CORNER_XY: 623734.19500 5414933.03400
SECONDARY_NW_QUAD_XY: 623583.90900 5421661.37800
SECONDARY_NE_QUAD_XY: 628160.90100 5421764.93300
SECONDARY_SE_QUAD_XY: 628320.86600 5414817.65800
SECONDARY_SW_QUAD_XY: 623738.15900 5414714.07300
RMSE_XY: 1.80000
IMAGE_SOURCE: BLACK AND WHITE FILM
SOURCE_IMAGE_ID: NAPP 8423 12
SOURCE_IMAGE_DATE: 1995 9 12
SOURCE_DEM_DATE: 1997 3 27
AGENCY: WESTERN MAPPING CENTER (WMC)
PRODUCER: USFS
PRODUCTION_SYSTEM: DV2.6.3 10/9OV2.4 5/95
COMPRESSION: UNDEFINED
STANDARD_VERSION: 1996 12
METADATA_DATE: 1997 11 2
DATA_FILE_SIZE: 41461332
BYTE_COUNT: 5412
