FILENAME: O4811503.SES.56637.tif
QUADRANGLE_NAME: BONNET TOP
QUADRANT: SE
WEST_LONGITUDE: -115 41 15.00000
EAST_LONGITUDE: -115 37 30.00000
NORTH_LATITUDE: 48 56 15.00000
SOUTH_LATITUDE: 48 52 30.00000
PRODUCTION_DATE: 1997 3 12
RASTER_ORDER: LEFT_RIGHT/TOP_BOTTOM
BAND_ORGANIZATION: SINGLE FILE
BAND_CONTENT: BLACK&WHITE
BAND_CONTENT: UNDEFINED
BAND_CONTENT: UNDEFINED
BITS_PER_PIXEL: 8
SAMPLES_AND_LINES: 5380 7638
HORIZONTAL_DATUM: NAD83
HORIZONTAL_COORDINATE_SYSTEM: UTM
COORDINATE_ZONE: 11
HORIZONTAL_UNITS: METERS
HORIZONTAL_RESOLUTION: 1.00000
SECONDARY_HORIZONTAL_DATUM: NAD27
XY_ORIGIN: 595743.00000 5421720.00000
SECONDARY_XY_ORIGIN: 595820.00000 5421508.00000
NATION: US
STATE: MT
NW_QUAD_CORNER_XY: 596118.48100 5421338.14100
NE_QUAD_CORNER_XY: 600695.43500 5421419.09200
SE_QUAD_CORNERY_XY: 600821.11000 5414471.64700
SW_QUAD_CORNER_XY: 596238.44200 5414390.67200
SECONDARY_NW_QUAD_XY: 596121.56500 5421119.15900
SECONDARY_NE_QUAD_XY: 600698.66500 5421200.11300
SECONDARY_SE_QUAD_XY: 600824.34000 5414252.67000
SECONDARY_SW_QUAD_XY: 596241.52600 5414171.69300
RMSE_XY: 3.00000
IMAGE_SOURCE: BLACK AND WHITE FILM
SOURCE_IMAGE_ID: NAPP 8419 57
SOURCE_IMAGE_DATE: 1995 8 21
SOURCE_DEM_DATE: 1997 3 12
AGENCY: WESTERN MAPPING CENTER (WMC)
PRODUCER: USFS
PRODUCTION_SYSTEM: DV2.6.3 10/9OV2.4 5/95
COMPRESSION: UNDEFINED
STANDARD_VERSION: 1996 12
METADATA_DATE: 1997 11 2
DATA_FILE_SIZE: 41097820
BYTE_COUNT: 5380
