FILENAME: O4811502.SES.56683.tif
QUADRANGLE_NAME: GARVER MOUNTAIN
QUADRANT: SE
WEST_LONGITUDE: -115 48 45.00000
EAST_LONGITUDE: -115 45 0.00000
NORTH_LATITUDE: 48 56 15.00000
SOUTH_LATITUDE: 48 52 30.00000
PRODUCTION_DATE: 1997 3 12
RASTER_ORDER: LEFT_RIGHT/TOP_BOTTOM
BAND_ORGANIZATION: SINGLE FILE
BAND_CONTENT: BLACK&WHITE
BAND_CONTENT: UNDEFINED
BAND_CONTENT: UNDEFINED
BITS_PER_PIXEL: 8
SAMPLES_AND_LINES: 5368 7630
HORIZONTAL_DATUM: NAD83
HORIZONTAL_COORDINATE_SYSTEM: UTM
COORDINATE_ZONE: 11
HORIZONTAL_UNITS: METERS
HORIZONTAL_RESOLUTION: 1.00000
SECONDARY_HORIZONTAL_DATUM: NAD27
XY_ORIGIN: 586589.00000 5421562.00000
SECONDARY_XY_ORIGIN: 586666.60100 5421349.21500
NATION: US
STATE: MT
NW_QUAD_CORNER_XY: 586964.52800 5421187.53800
NE_QUAD_CORNER_XY: 591541.51200 5421260.95700
SE_QUAD_CORNERY_XY: 591655.75900 5414313.46500
SW_QUAD_CORNER_XY: 587073.06100 5414240.02500
SECONDARY_NW_QUAD_XY: 586967.31700 5420968.55200
SECONDARY_NE_QUAD_XY: 591544.44800 5421041.97200
SECONDARY_SE_QUAD_XY: 591658.69600 5414094.48300
SECONDARY_SW_QUAD_XY: 587075.85100 5414021.04100
RMSE_XY: 5.30000
IMAGE_SOURCE: BLACK AND WHITE FILM
SOURCE_IMAGE_ID: NAPP 8423 29
SOURCE_IMAGE_DATE: 1995 9 12
SOURCE_DEM_DATE: 1997 3 12
AGENCY: WESTERN MAPPING CENTER (WMC)
PRODUCER: USFS
PRODUCTION_SYSTEM: DV2.6.3 10/9OV2.4 5/95
COMPRESSION: UNDEFINED
STANDARD_VERSION: 1996 12
METADATA_DATE: 1997 11 2
DATA_FILE_SIZE: 40963208
BYTE_COUNT: 5368
