FILENAME: O4811501.NWS.56746.tif
QUADRANGLE_NAME: NORTHWEST PEAK
QUADRANT: NW
WEST_LONGITUDE: -116 0 0.00000
EAST_LONGITUDE: -115 56 15.00000
NORTH_LATITUDE: 49 0 0.00000
SOUTH_LATITUDE: 48 56 15.00000
PRODUCTION_DATE: 1997 3 28
RASTER_ORDER: LEFT_RIGHT/TOP_BOTTOM
BAND_ORGANIZATION: SINGLE FILE
BAND_CONTENT: BLACK&WHITE
BAND_CONTENT: UNDEFINED
BAND_CONTENT: UNDEFINED
BITS_PER_PIXEL: 8
SAMPLES_AND_LINES: 5344 7619
HORIZONTAL_DATUM: NAD83
HORIZONTAL_COORDINATE_SYSTEM: UTM
COORDINATE_ZONE: 11
HORIZONTAL_UNITS: METERS
HORIZONTAL_RESOLUTION: 1.00000
SECONDARY_HORIZONTAL_DATUM: NAD27
XY_ORIGIN: 572766.00000 5428301.00000
SECONDARY_XY_ORIGIN: 572843.61600 5428088.02200
NATION: US
STATE: MT
NW_QUAD_CORNER_XY: 573142.01200 5427937.52400
NE_QUAD_CORNER_XY: 577713.31800 5427999.62600
SE_QUAD_CORNERY_XY: 577810.51800 5421051.99900
SW_QUAD_CORNER_XY: 573233.49400 5420989.87800
SECONDARY_NW_QUAD_XY: 573144.36100 5427718.52900
SECONDARY_NE_QUAD_XY: 577715.81400 5427780.63300
SECONDARY_SE_QUAD_XY: 577813.01400 5420833.00800
SECONDARY_SW_QUAD_XY: 573235.84300 5420770.88500
RMSE_XY: 1.90000
IMAGE_SOURCE: BLACK AND WHITE FILM
SOURCE_IMAGE_ID: NAPP 8419 68
SOURCE_IMAGE_DATE: 1995 8 21
SOURCE_DEM_DATE: 1997 3 28
AGENCY: WESTERN MAPPING CENTER (WMC)
PRODUCER: USFS
PRODUCTION_SYSTEM: DV2.6.3 10/9OV2.4 5/95
COMPRESSION: UNDEFINED
STANDARD_VERSION: 1996 12
METADATA_DATE: 1997 11 2
DATA_FILE_SIZE: 40721280
BYTE_COUNT: 5344
