FILENAME: O4811632.NES.56758.tif
QUADRANGLE_NAME: LEONIA
QUADRANT: NE
WEST_LONGITUDE: -116 3 45.00000
EAST_LONGITUDE: -116 0 0.00000
NORTH_LATITUDE: 48 37 30.00000
SOUTH_LATITUDE: 48 33 45.00000
PRODUCTION_DATE: 1997 2 19
RASTER_ORDER: LEFT_RIGHT/TOP_BOTTOM
BAND_ORGANIZATION: SINGLE FILE
BAND_CONTENT: BLACK&WHITE
BAND_CONTENT: UNDEFINED
BAND_CONTENT: UNDEFINED
BITS_PER_PIXEL: 8
SAMPLES_AND_LINES: 5373 7617
HORIZONTAL_DATUM: NAD83
HORIZONTAL_COORDINATE_SYSTEM: UTM
COORDINATE_ZONE: 11
HORIZONTAL_UNITS: METERS
HORIZONTAL_RESOLUTION: 1.00000
SECONDARY_HORIZONTAL_DATUM: NAD27
XY_ORIGIN: 568708.00000 5386558.00000
SECONDARY_XY_ORIGIN: 568785.24000 5386346.51000
NATION: US
STATE: MT
STATE: ID
NW_QUAD_CORNER_XY: 569084.10000 5386194.27000
NE_QUAD_CORNER_XY: 573689.65000 5386252.71000
SE_QUAD_CORNERY_XY: 573780.60000 5379305.50000
SW_QUAD_CORNER_XY: 569169.37000 5379247.05000
SECONDARY_NW_QUAD_XY: 569086.30000 5385975.30000
SECONDARY_NE_QUAD_XY: 573692.00000 5386033.74000
SECONDARY_SE_QUAD_XY: 573782.95000 5379086.54000
SECONDARY_SW_QUAD_XY: 569171.57000 5379028.08000
RMSE_XY: 4.00000
IMAGE_SOURCE: BLACK AND WHITE FILM
SOURCE_IMAGE_ID: NAPP 8417 61
SOURCE_IMAGE_DATE: 1995 7 28
SOURCE_IMAGE_ID: NAPP 8417 59
SOURCE_IMAGE_DATE: 1995 7 28
SOURCE_DEM_DATE: 1997 2 19
AGENCY: WESTERN MAPPING CENTER (WMC)
PRODUCER: USFS
PRODUCTION_SYSTEM: DV2.6.3 10/9OV2.4 5/95
COMPRESSION: UNDEFINED
STANDARD_VERSION: 1996 12
METADATA_DATE: 1997 11 2
DATA_FILE_SIZE: 40931514
BYTE_COUNT: 5373
