<PAMDataset>
  <SRS dataAxisToSRSAxisMapping="2,1,3">PROJCS["NAD_1983_StatePlane_Montana_FIPS_2500",GEOGCS["GCS_North_American_1983",DATUM["North_American_Datum_1983",SPHEROID["GRS_1980",6378137,298.257222101]],PRIMEM["Greenwich",0],UNIT["Degree",0.0174532925199432955],AUTHORITY["EPSG","4269"]],PROJECTION["Lambert_Conformal_Conic_2SP"],PARAMETER["False_Easting",600000],PARAMETER["False_Northing",0],PARAMETER["Central_Meridian",-109.5],PARAMETER["Standard_Parallel_1",45],PARAMETER["Standard_Parallel_2",49],PARAMETER["Latitude_Of_Origin",44.25],UNIT["Meter",1]]</SRS>
  <GeoTransform>  8.5108000000000000e+05,  1.0000000000000000e+00,  0.0000000000000000e+00,  2.7839700000000000e+05,  0.0000000000000000e+00, -1.0000000000000000e+00</GeoTransform>
  <Metadata>
    <MDI key="GEOTIFF_CHAR__GeogAngularUnitsGeoKey">Angular_Degree</MDI>
    <MDI key="GEOTIFF_CHAR__GeogLinearUnitsGeoKey">Linear_Meter</MDI>
    <MDI key="GEOTIFF_CHAR__GTModelTypeGeoKey">ModelTypeProjected</MDI>
    <MDI key="GEOTIFF_CHAR__GTRasterTypeGeoKey">RasterPixelIsArea</MDI>
    <MDI key="GEOTIFF_CHAR__ProjectedCSTypeGeoKey">PCS_NAD83_Montana</MDI>
    <MDI key="GEOTIFF_CHAR__ProjLinearUnitsGeoKey">Linear_Meter</MDI>
    <MDI key="GEOTIFF_NUM__1024__GTModelTypeGeoKey">1</MDI>
    <MDI key="GEOTIFF_NUM__1025__GTRasterTypeGeoKey">1</MDI>
    <MDI key="GEOTIFF_NUM__1026__GTCitationGeoKey">IMAGINE GeoTIFF Support
Copyright 1991 - 2001 by ERDAS, Inc. All Rights Reserved
@(#)$RCSfile: egtf.c $ $Revision: 1.11.2.3 $ $Date: 2004/11/24 09:12:56EST $
Projection Name = NAD_1983_StatePlane_Montana_FIPS_2500
Units = meters
GeoTIFF Units = meters</MDI>
    <MDI key="GEOTIFF_NUM__2052__GeogLinearUnitsGeoKey">9001</MDI>
    <MDI key="GEOTIFF_NUM__2054__GeogAngularUnitsGeoKey">9102</MDI>
    <MDI key="GEOTIFF_NUM__3072__ProjectedCSTypeGeoKey">32100</MDI>
    <MDI key="GEOTIFF_NUM__3076__ProjLinearUnitsGeoKey">9001</MDI>
    <MDI key="IMAGE__BITS_PER_SAMPLE">8</MDI>
    <MDI key="IMAGE__COLOR_SCHEME">3</MDI>
    <MDI key="IMAGE__COMPRESSION_BLOCK_SIZE">1024</MDI>
    <MDI key="IMAGE__COMPRESSION_GAMMA">2.000000</MDI>
    <MDI key="IMAGE__COMPRESSION_NLEV">8</MDI>
    <MDI key="IMAGE__COMPRESSION_VERSION">2,0,0</MDI>
    <MDI key="IMAGE__COMPRESSION_WEIGHT">2.000000</MDI>
    <MDI key="IMAGE__CREATION_DATE">Tue Mar 14 12:25:35 2006
</MDI>
    <MDI key="IMAGE__DATA_TYPE">0</MDI>
    <MDI key="IMAGE__DYNAMIC_RANGE_LEVEL">127.500000</MDI>
    <MDI key="IMAGE__DYNAMIC_RANGE_WINDOW">256.000000</MDI>
    <MDI key="IMAGE__HEIGHT">51054</MDI>
    <MDI key="IMAGE__INPUT_FILE_SIZE">2949492677.000000</MDI>
    <MDI key="IMAGE__INPUT_FORMAT">GeoTIFF</MDI>
    <MDI key="IMAGE__INPUT_NAME">\\mslhlnimg001\ddata\Yellowstone\1976\Custer.tif</MDI>
    <MDI key="IMAGE__TARGET_COMPRESSION_RATIO">14.999999</MDI>
    <MDI key="IMAGE__WIDTH">57756</MDI>
    <MDI key="IMAGE__WKT">PROJCS["NAD83 / Montana",GEOGCS["NAD83",DATUM["North_American_Datum_1983",SPHEROID["GRS 1980",6378137,298.2572221010002,AUTHORITY["EPSG","7019"]],AUTHORITY["EPSG","6269"]],PRIMEM["Greenwich",0],UNIT["degree",0.0174532925199433],AUTHORITY["EPSG","4269"]],PROJECTION["Lambert_Conformal_Conic_2SP"],PARAMETER["standard_parallel_1",49],PARAMETER["standard_parallel_2",45],PARAMETER["latitude_of_origin",44.25],PARAMETER["central_meridian",-109.5],PARAMETER["false_easting",600000],PARAMETER["false_northing",0],UNIT["metre",1,AUTHORITY["EPSG","9001"]],AUTHORITY["EPSG","32100"]]</MDI>
    <MDI key="IMAGE__XY_ORIGIN">851080.500000,278396.500000</MDI>
    <MDI key="IMAGE__X_RESOLUTION">1.000000</MDI>
    <MDI key="IMAGE__Y_RESOLUTION">1.000000</MDI>
    <MDI key="VERSION">MG2</MDI>
  </Metadata>
  <PAMRasterBand band="1">
    <GDALRasterAttributeTable tableType="thematic">
      <FieldDefn index="0">
        <Name>Histogram</Name>
        <Type>0</Type>
        <Usage>1</Usage>
      </FieldDefn>
      <Row index="0">
        <F>1228416898</F>
      </Row>
      <Row index="1">
        <F>1223481424</F>
      </Row>
      <Row index="2">
        <F>4532249</F>
      </Row>
      <Row index="3">
        <F>4467733</F>
      </Row>
      <Row index="4">
        <F>4709668</F>
      </Row>
      <Row index="5">
        <F>3096768</F>
      </Row>
      <Row index="6">
        <F>1516126</F>
      </Row>
      <Row index="7">
        <F>548386</F>
      </Row>
      <Row index="8">
        <F>483870</F>
      </Row>
      <Row index="9">
        <F>225806</F>
      </Row>
      <Row index="10">
        <F>274193</F>
      </Row>
      <Row index="11">
        <F>387096</F>
      </Row>
      <Row index="12">
        <F>403225</F>
      </Row>
      <Row index="13">
        <F>145161</F>
      </Row>
      <Row index="14">
        <F>177419</F>
      </Row>
      <Row index="15">
        <F>306451</F>
      </Row>
      <Row index="16">
        <F>290322</F>
      </Row>
      <Row index="17">
        <F>241935</F>
      </Row>
      <Row index="18">
        <F>225806</F>
      </Row>
      <Row index="19">
        <F>322580</F>
      </Row>
      <Row index="20">
        <F>193548</F>
      </Row>
      <Row index="21">
        <F>209677</F>
      </Row>
      <Row index="22">
        <F>145161</F>
      </Row>
      <Row index="23">
        <F>274193</F>
      </Row>
      <Row index="24">
        <F>209677</F>
      </Row>
      <Row index="25">
        <F>209677</F>
      </Row>
      <Row index="26">
        <F>209677</F>
      </Row>
      <Row index="27">
        <F>354838</F>
      </Row>
      <Row index="28">
        <F>193548</F>
      </Row>
      <Row index="29">
        <F>177419</F>
      </Row>
      <Row index="30">
        <F>193548</F>
      </Row>
      <Row index="31">
        <F>193548</F>
      </Row>
      <Row index="32">
        <F>225806</F>
      </Row>
      <Row index="33">
        <F>258064</F>
      </Row>
      <Row index="34">
        <F>209677</F>
      </Row>
      <Row index="35">
        <F>177419</F>
      </Row>
      <Row index="36">
        <F>161290</F>
      </Row>
      <Row index="37">
        <F>129032</F>
      </Row>
      <Row index="38">
        <F>64516</F>
      </Row>
      <Row index="39">
        <F>193548</F>
      </Row>
      <Row index="40">
        <F>96774</F>
      </Row>
      <Row index="41">
        <F>145161</F>
      </Row>
      <Row index="42">
        <F>129032</F>
      </Row>
      <Row index="43">
        <F>177419</F>
      </Row>
      <Row index="44">
        <F>161290</F>
      </Row>
      <Row index="45">
        <F>145161</F>
      </Row>
      <Row index="46">
        <F>129032</F>
      </Row>
      <Row index="47">
        <F>145161</F>
      </Row>
      <Row index="48">
        <F>161290</F>
      </Row>
      <Row index="49">
        <F>225806</F>
      </Row>
      <Row index="50">
        <F>209677</F>
      </Row>
      <Row index="51">
        <F>129032</F>
      </Row>
      <Row index="52">
        <F>80645</F>
      </Row>
      <Row index="53">
        <F>80645</F>
      </Row>
      <Row index="54">
        <F>129032</F>
      </Row>
      <Row index="55">
        <F>96774</F>
      </Row>
      <Row index="56">
        <F>225806</F>
      </Row>
      <Row index="57">
        <F>145161</F>
      </Row>
      <Row index="58">
        <F>177419</F>
      </Row>
      <Row index="59">
        <F>129032</F>
      </Row>
      <Row index="60">
        <F>96774</F>
      </Row>
      <Row index="61">
        <F>145161</F>
      </Row>
      <Row index="62">
        <F>209677</F>
      </Row>
      <Row index="63">
        <F>258064</F>
      </Row>
      <Row index="64">
        <F>209677</F>
      </Row>
      <Row index="65">
        <F>193548</F>
      </Row>
      <Row index="66">
        <F>225806</F>
      </Row>
      <Row index="67">
        <F>209677</F>
      </Row>
      <Row index="68">
        <F>145161</F>
      </Row>
      <Row index="69">
        <F>177419</F>
      </Row>
      <Row index="70">
        <F>145161</F>
      </Row>
      <Row index="71">
        <F>129032</F>
      </Row>
      <Row index="72">
        <F>161290</F>
      </Row>
      <Row index="73">
        <F>193548</F>
      </Row>
      <Row index="74">
        <F>209677</F>
      </Row>
      <Row index="75">
        <F>290322</F>
      </Row>
      <Row index="76">
        <F>322580</F>
      </Row>
      <Row index="77">
        <F>209677</F>
      </Row>
      <Row index="78">
        <F>209677</F>
      </Row>
      <Row index="79">
        <F>290322</F>
      </Row>
      <Row index="80">
        <F>241935</F>
      </Row>
      <Row index="81">
        <F>306451</F>
      </Row>
      <Row index="82">
        <F>274193</F>
      </Row>
      <Row index="83">
        <F>306451</F>
      </Row>
      <Row index="84">
        <F>403225</F>
      </Row>
      <Row index="85">
        <F>290322</F>
      </Row>
      <Row index="86">
        <F>354838</F>
      </Row>
      <Row index="87">
        <F>274193</F>
      </Row>
      <Row index="88">
        <F>338709</F>
      </Row>
      <Row index="89">
        <F>370967</F>
      </Row>
      <Row index="90">
        <F>451612</F>
      </Row>
      <Row index="91">
        <F>306451</F>
      </Row>
      <Row index="92">
        <F>387096</F>
      </Row>
      <Row index="93">
        <F>467741</F>
      </Row>
      <Row index="94">
        <F>467741</F>
      </Row>
      <Row index="95">
        <F>645160</F>
      </Row>
      <Row index="96">
        <F>451612</F>
      </Row>
      <Row index="97">
        <F>387096</F>
      </Row>
      <Row index="98">
        <F>451612</F>
      </Row>
      <Row index="99">
        <F>580644</F>
      </Row>
      <Row index="100">
        <F>596773</F>
      </Row>
      <Row index="101">
        <F>580644</F>
      </Row>
      <Row index="102">
        <F>693547</F>
      </Row>
      <Row index="103">
        <F>758063</F>
      </Row>
      <Row index="104">
        <F>870966</F>
      </Row>
      <Row index="105">
        <F>629031</F>
      </Row>
      <Row index="106">
        <F>806450</F>
      </Row>
      <Row index="107">
        <F>774192</F>
      </Row>
      <Row index="108">
        <F>870966</F>
      </Row>
      <Row index="109">
        <F>838708</F>
      </Row>
      <Row index="110">
        <F>1080643</F>
      </Row>
      <Row index="111">
        <F>709676</F>
      </Row>
      <Row index="112">
        <F>1048385</F>
      </Row>
      <Row index="113">
        <F>1064514</F>
      </Row>
      <Row index="114">
        <F>1193546</F>
      </Row>
      <Row index="115">
        <F>1064514</F>
      </Row>
      <Row index="116">
        <F>1145159</F>
      </Row>
      <Row index="117">
        <F>1177417</F>
      </Row>
      <Row index="118">
        <F>1193546</F>
      </Row>
      <Row index="119">
        <F>999998</F>
      </Row>
      <Row index="120">
        <F>1306449</F>
      </Row>
      <Row index="121">
        <F>1580642</F>
      </Row>
      <Row index="122">
        <F>1451610</F>
      </Row>
      <Row index="123">
        <F>1596771</F>
      </Row>
      <Row index="124">
        <F>1645158</F>
      </Row>
      <Row index="125">
        <F>1483868</F>
      </Row>
      <Row index="126">
        <F>1451610</F>
      </Row>
      <Row index="127">
        <F>1499997</F>
      </Row>
      <Row index="128">
        <F>1693545</F>
      </Row>
      <Row index="129">
        <F>1629029</F>
      </Row>
      <Row index="130">
        <F>1903222</F>
      </Row>
      <Row index="131">
        <F>1935480</F>
      </Row>
      <Row index="132">
        <F>1758061</F>
      </Row>
      <Row index="133">
        <F>2016125</F>
      </Row>
      <Row index="134">
        <F>2322576</F>
      </Row>
      <Row index="135">
        <F>2241931</F>
      </Row>
      <Row index="136">
        <F>2451608</F>
      </Row>
      <Row index="137">
        <F>2596769</F>
      </Row>
      <Row index="138">
        <F>2548382</F>
      </Row>
      <Row index="139">
        <F>2838704</F>
      </Row>
      <Row index="140">
        <F>2612898</F>
      </Row>
      <Row index="141">
        <F>2967736</F>
      </Row>
      <Row index="142">
        <F>2822575</F>
      </Row>
      <Row index="143">
        <F>3290316</F>
      </Row>
      <Row index="144">
        <F>3822573</F>
      </Row>
      <Row index="145">
        <F>3645154</F>
      </Row>
      <Row index="146">
        <F>3258058</F>
      </Row>
      <Row index="147">
        <F>3661283</F>
      </Row>
      <Row index="148">
        <F>3935476</F>
      </Row>
      <Row index="149">
        <F>4241927</F>
      </Row>
      <Row index="150">
        <F>4354830</F>
      </Row>
      <Row index="151">
        <F>4145153</F>
      </Row>
      <Row index="152">
        <F>4580636</F>
      </Row>
      <Row index="153">
        <F>4645152</F>
      </Row>
      <Row index="154">
        <F>4306443</F>
      </Row>
      <Row index="155">
        <F>4774184</F>
      </Row>
      <Row index="156">
        <F>4661281</F>
      </Row>
      <Row index="157">
        <F>4983861</F>
      </Row>
      <Row index="158">
        <F>4951603</F>
      </Row>
      <Row index="159">
        <F>4999990</F>
      </Row>
      <Row index="160">
        <F>5112893</F>
      </Row>
      <Row index="161">
        <F>5177409</F>
      </Row>
      <Row index="162">
        <F>5258054</F>
      </Row>
      <Row index="163">
        <F>4806442</F>
      </Row>
      <Row index="164">
        <F>5499989</F>
      </Row>
      <Row index="165">
        <F>5919343</F>
      </Row>
      <Row index="166">
        <F>5774182</F>
      </Row>
      <Row index="167">
        <F>6403213</F>
      </Row>
      <Row index="168">
        <F>5951601</F>
      </Row>
      <Row index="169">
        <F>6145149</F>
      </Row>
      <Row index="170">
        <F>5516118</F>
      </Row>
      <Row index="171">
        <F>5903214</F>
      </Row>
      <Row index="172">
        <F>5322570</F>
      </Row>
      <Row index="173">
        <F>5677408</F>
      </Row>
      <Row index="174">
        <F>5532247</F>
      </Row>
      <Row index="175">
        <F>6016117</F>
      </Row>
      <Row index="176">
        <F>5790311</F>
      </Row>
      <Row index="177">
        <F>5596763</F>
      </Row>
      <Row index="178">
        <F>5322570</F>
      </Row>
      <Row index="179">
        <F>5112893</F>
      </Row>
      <Row index="180">
        <F>6290310</F>
      </Row>
      <Row index="181">
        <F>5516118</F>
      </Row>
      <Row index="182">
        <F>5370957</F>
      </Row>
      <Row index="183">
        <F>5580634</F>
      </Row>
      <Row index="184">
        <F>5483860</F>
      </Row>
      <Row index="185">
        <F>5064506</F>
      </Row>
      <Row index="186">
        <F>4661281</F>
      </Row>
      <Row index="187">
        <F>5145151</F>
      </Row>
      <Row index="188">
        <F>5322570</F>
      </Row>
      <Row index="189">
        <F>4870958</F>
      </Row>
      <Row index="190">
        <F>4451604</F>
      </Row>
      <Row index="191">
        <F>4661281</F>
      </Row>
      <Row index="192">
        <F>4951603</F>
      </Row>
      <Row index="193">
        <F>4709668</F>
      </Row>
      <Row index="194">
        <F>4322572</F>
      </Row>
      <Row index="195">
        <F>4709668</F>
      </Row>
      <Row index="196">
        <F>4241927</F>
      </Row>
      <Row index="197">
        <F>3661283</F>
      </Row>
      <Row index="198">
        <F>4129024</F>
      </Row>
      <Row index="199">
        <F>4338701</F>
      </Row>
      <Row index="200">
        <F>3548380</F>
      </Row>
      <Row index="201">
        <F>3677412</F>
      </Row>
      <Row index="202">
        <F>3129026</F>
      </Row>
      <Row index="203">
        <F>3048381</F>
      </Row>
      <Row index="204">
        <F>3483864</F>
      </Row>
      <Row index="205">
        <F>3112897</F>
      </Row>
      <Row index="206">
        <F>2709672</F>
      </Row>
      <Row index="207">
        <F>2935478</F>
      </Row>
      <Row index="208">
        <F>2629027</F>
      </Row>
      <Row index="209">
        <F>2129028</F>
      </Row>
      <Row index="210">
        <F>2370963</F>
      </Row>
      <Row index="211">
        <F>2032254</F>
      </Row>
      <Row index="212">
        <F>1967738</F>
      </Row>
      <Row index="213">
        <F>2225802</F>
      </Row>
      <Row index="214">
        <F>2145157</F>
      </Row>
      <Row index="215">
        <F>1741932</F>
      </Row>
      <Row index="216">
        <F>1661287</F>
      </Row>
      <Row index="217">
        <F>1693545</F>
      </Row>
      <Row index="218">
        <F>1854835</F>
      </Row>
      <Row index="219">
        <F>1645158</F>
      </Row>
      <Row index="220">
        <F>1225804</F>
      </Row>
      <Row index="221">
        <F>1451610</F>
      </Row>
      <Row index="222">
        <F>1306449</F>
      </Row>
      <Row index="223">
        <F>1225804</F>
      </Row>
      <Row index="224">
        <F>1096772</F>
      </Row>
      <Row index="225">
        <F>854837</F>
      </Row>
      <Row index="226">
        <F>983869</F>
      </Row>
      <Row index="227">
        <F>1112901</F>
      </Row>
      <Row index="228">
        <F>790321</F>
      </Row>
      <Row index="229">
        <F>741934</F>
      </Row>
      <Row index="230">
        <F>612902</F>
      </Row>
      <Row index="231">
        <F>596773</F>
      </Row>
      <Row index="232">
        <F>564515</F>
      </Row>
      <Row index="233">
        <F>790321</F>
      </Row>
      <Row index="234">
        <F>612902</F>
      </Row>
      <Row index="235">
        <F>532257</F>
      </Row>
      <Row index="236">
        <F>483870</F>
      </Row>
      <Row index="237">
        <F>467741</F>
      </Row>
      <Row index="238">
        <F>612902</F>
      </Row>
      <Row index="239">
        <F>419354</F>
      </Row>
      <Row index="240">
        <F>354838</F>
      </Row>
      <Row index="241">
        <F>177419</F>
      </Row>
      <Row index="242">
        <F>354838</F>
      </Row>
      <Row index="243">
        <F>290322</F>
      </Row>
      <Row index="244">
        <F>354838</F>
      </Row>
      <Row index="245">
        <F>209677</F>
      </Row>
      <Row index="246">
        <F>193548</F>
      </Row>
      <Row index="247">
        <F>338709</F>
      </Row>
      <Row index="248">
        <F>225806</F>
      </Row>
      <Row index="249">
        <F>112903</F>
      </Row>
      <Row index="250">
        <F>80645</F>
      </Row>
      <Row index="251">
        <F>161290</F>
      </Row>
      <Row index="252">
        <F>177419</F>
      </Row>
      <Row index="253">
        <F>96774</F>
      </Row>
      <Row index="254">
        <F>177419</F>
      </Row>
      <Row index="255">
        <F>322580</F>
      </Row>
    </GDALRasterAttributeTable>
    <Metadata>
      <MDI key="LAYER_TYPE">athematic</MDI>
      <MDI key="STATISTICS_APPROXIMATE">YES</MDI>
      <MDI key="STATISTICS_HISTOBINVALUES">1228416898|1223481424|4532249|4467733|4709668|3096768|1516126|548386|483870|225806|274193|387096|403225|145161|177419|306451|290322|241935|225806|322580|193548|209677|145161|274193|209677|209677|209677|354838|193548|177419|193548|193548|225806|258064|209677|177419|161290|129032|64516|193548|96774|145161|129032|177419|161290|145161|129032|145161|161290|225806|209677|129032|80645|80645|129032|96774|225806|145161|177419|129032|96774|145161|209677|258064|209677|193548|225806|209677|145161|177419|145161|129032|161290|193548|209677|290322|322580|209677|209677|290322|241935|306451|274193|306451|403225|290322|354838|274193|338709|370967|451612|306451|387096|467741|467741|645160|451612|387096|451612|580644|596773|580644|693547|758063|870966|629031|806450|774192|870966|838708|1080643|709676|1048385|1064514|1193546|1064514|1145159|1177417|1193546|999998|1306449|1580642|1451610|1596771|1645158|1483868|1451610|1499997|1693545|1629029|1903222|1935480|1758061|2016125|2322576|2241931|2451608|2596769|2548382|2838704|2612898|2967736|2822575|3290316|3822573|3645154|3258058|3661283|3935476|4241927|4354830|4145153|4580636|4645152|4306443|4774184|4661281|4983861|4951603|4999990|5112893|5177409|5258054|4806442|5499989|5919343|5774182|6403213|5951601|6145149|5516118|5903214|5322570|5677408|5532247|6016117|5790311|5596763|5322570|5112893|6290310|5516118|5370957|5580634|5483860|5064506|4661281|5145151|5322570|4870958|4451604|4661281|4951603|4709668|4322572|4709668|4241927|3661283|4129024|4338701|3548380|3677412|3129026|3048381|3483864|3112897|2709672|2935478|2629027|2129028|2370963|2032254|1967738|2225802|2145157|1741932|1661287|1693545|1854835|1645158|1225804|1451610|1306449|1225804|1096772|854837|983869|1112901|790321|741934|612902|596773|564515|790321|612902|532257|483870|467741|612902|419354|354838|177419|354838|290322|354838|209677|193548|338709|225806|112903|80645|161290|177419|96774|177419|322580|</MDI>
      <MDI key="STATISTICS_MAXIMUM">251</MDI>
      <MDI key="STATISTICS_MEAN">24.906327433628</MDI>
      <MDI key="STATISTICS_MINIMUM">0</MDI>
      <MDI key="STATISTICS_STDDEV">60.35393092138</MDI>
      <MDI key="STATISTICS_VALID_PERCENT">100</MDI>
    </Metadata>
  </PAMRasterBand>
</PAMDataset>
