<PAMDataset>
  <SRS dataAxisToSRSAxisMapping="2,1,3">PROJCS["NAD_1983_StatePlane_Montana_FIPS_2500",GEOGCS["GCS_North_American_1983",DATUM["North_American_Datum_1983",SPHEROID["GRS_1980",6378137,298.257222101]],PRIMEM["Greenwich",0],UNIT["Degree",0.0174532925199432955],AUTHORITY["EPSG","4269"]],PROJECTION["Lambert_Conformal_Conic_2SP"],PARAMETER["False_Easting",600000],PARAMETER["False_Northing",0],PARAMETER["Central_Meridian",-109.5],PARAMETER["Standard_Parallel_1",45],PARAMETER["Standard_Parallel_2",49],PARAMETER["Latitude_Of_Origin",44.25],UNIT["Meter",1]]</SRS>
  <GeoTransform>  8.9898800000000000e+05,  1.0000000000000000e+00,  0.0000000000000000e+00,  3.0668600000000000e+05,  0.0000000000000000e+00, -1.0000000000000000e+00</GeoTransform>
  <Metadata>
    <MDI key="GEOTIFF_CHAR__GeogAngularUnitsGeoKey">Angular_Degree</MDI>
    <MDI key="GEOTIFF_CHAR__GeogLinearUnitsGeoKey">Linear_Meter</MDI>
    <MDI key="GEOTIFF_CHAR__GTModelTypeGeoKey">ModelTypeProjected</MDI>
    <MDI key="GEOTIFF_CHAR__GTRasterTypeGeoKey">RasterPixelIsArea</MDI>
    <MDI key="GEOTIFF_CHAR__ProjectedCSTypeGeoKey">PCS_NAD83_Montana</MDI>
    <MDI key="GEOTIFF_CHAR__ProjLinearUnitsGeoKey">Linear_Meter</MDI>
    <MDI key="GEOTIFF_NUM__1024__GTModelTypeGeoKey">1</MDI>
    <MDI key="GEOTIFF_NUM__1025__GTRasterTypeGeoKey">1</MDI>
    <MDI key="GEOTIFF_NUM__1026__GTCitationGeoKey">IMAGINE GeoTIFF Support
Copyright 1991 - 2001 by ERDAS, Inc. All Rights Reserved
@(#)$RCSfile: egtf.c $ $Revision: 1.11.2.3 $ $Date: 2004/11/24 09:12:56EST $
Projection Name = NAD_1983_StatePlane_Montana_FIPS_2500
Units = meters
GeoTIFF Units = meters</MDI>
    <MDI key="GEOTIFF_NUM__2052__GeogLinearUnitsGeoKey">9001</MDI>
    <MDI key="GEOTIFF_NUM__2054__GeogAngularUnitsGeoKey">9102</MDI>
    <MDI key="GEOTIFF_NUM__3072__ProjectedCSTypeGeoKey">32100</MDI>
    <MDI key="GEOTIFF_NUM__3076__ProjLinearUnitsGeoKey">9001</MDI>
    <MDI key="IMAGE__BITS_PER_SAMPLE">8</MDI>
    <MDI key="IMAGE__COLOR_SCHEME">3</MDI>
    <MDI key="IMAGE__COMPRESSION_BLOCK_SIZE">1024</MDI>
    <MDI key="IMAGE__COMPRESSION_GAMMA">2.000000</MDI>
    <MDI key="IMAGE__COMPRESSION_NLEV">8</MDI>
    <MDI key="IMAGE__COMPRESSION_VERSION">2,0,0</MDI>
    <MDI key="IMAGE__COMPRESSION_WEIGHT">2.000000</MDI>
    <MDI key="IMAGE__CREATION_DATE">Tue Mar 14 14:02:55 2006
</MDI>
    <MDI key="IMAGE__DATA_TYPE">0</MDI>
    <MDI key="IMAGE__DYNAMIC_RANGE_LEVEL">127.500000</MDI>
    <MDI key="IMAGE__DYNAMIC_RANGE_WINDOW">256.000000</MDI>
    <MDI key="IMAGE__HEIGHT">38275</MDI>
    <MDI key="IMAGE__INPUT_FILE_SIZE">1925960715.000000</MDI>
    <MDI key="IMAGE__INPUT_FORMAT">GeoTIFF</MDI>
    <MDI key="IMAGE__INPUT_NAME">\\mslhlnimg001\ddata\Yellowstone\1976\Prairie.tif</MDI>
    <MDI key="IMAGE__TARGET_COMPRESSION_RATIO">14.999999</MDI>
    <MDI key="IMAGE__WIDTH">50303</MDI>
    <MDI key="IMAGE__WKT">PROJCS["NAD83 / Montana",GEOGCS["NAD83",DATUM["North_American_Datum_1983",SPHEROID["GRS 1980",6378137,298.2572221010002,AUTHORITY["EPSG","7019"]],AUTHORITY["EPSG","6269"]],PRIMEM["Greenwich",0],UNIT["degree",0.0174532925199433],AUTHORITY["EPSG","4269"]],PROJECTION["Lambert_Conformal_Conic_2SP"],PARAMETER["standard_parallel_1",49],PARAMETER["standard_parallel_2",45],PARAMETER["latitude_of_origin",44.25],PARAMETER["central_meridian",-109.5],PARAMETER["false_easting",600000],PARAMETER["false_northing",0],UNIT["metre",1,AUTHORITY["EPSG","9001"]],AUTHORITY["EPSG","32100"]]</MDI>
    <MDI key="IMAGE__XY_ORIGIN">898988.500000,306685.500000</MDI>
    <MDI key="IMAGE__X_RESOLUTION">1.000000</MDI>
    <MDI key="IMAGE__Y_RESOLUTION">1.000000</MDI>
    <MDI key="VERSION">MG2</MDI>
  </Metadata>
  <PAMRasterBand band="1">
    <GDALRasterAttributeTable tableType="thematic">
      <FieldDefn index="0">
        <Name>Histogram</Name>
        <Type>0</Type>
        <Usage>1</Usage>
      </FieldDefn>
      <Row index="0">
        <F>749299572</F>
      </Row>
      <Row index="1">
        <F>756880362</F>
      </Row>
      <Row index="2">
        <F>2425059</F>
      </Row>
      <Row index="3">
        <F>2365524</F>
      </Row>
      <Row index="4">
        <F>1936872</F>
      </Row>
      <Row index="5">
        <F>952560</F>
      </Row>
      <Row index="6">
        <F>448497</F>
      </Row>
      <Row index="7">
        <F>337365</F>
      </Row>
      <Row index="8">
        <F>230202</F>
      </Row>
      <Row index="9">
        <F>254016</F>
      </Row>
      <Row index="10">
        <F>218295</F>
      </Row>
      <Row index="11">
        <F>146853</F>
      </Row>
      <Row index="12">
        <F>186543</F>
      </Row>
      <Row index="13">
        <F>166698</F>
      </Row>
      <Row index="14">
        <F>162729</F>
      </Row>
      <Row index="15">
        <F>158760</F>
      </Row>
      <Row index="16">
        <F>134946</F>
      </Row>
      <Row index="17">
        <F>158760</F>
      </Row>
      <Row index="18">
        <F>186543</F>
      </Row>
      <Row index="19">
        <F>99225</F>
      </Row>
      <Row index="20">
        <F>115101</F>
      </Row>
      <Row index="21">
        <F>178605</F>
      </Row>
      <Row index="22">
        <F>150822</F>
      </Row>
      <Row index="23">
        <F>111132</F>
      </Row>
      <Row index="24">
        <F>150822</F>
      </Row>
      <Row index="25">
        <F>174636</F>
      </Row>
      <Row index="26">
        <F>178605</F>
      </Row>
      <Row index="27">
        <F>130977</F>
      </Row>
      <Row index="28">
        <F>134946</F>
      </Row>
      <Row index="29">
        <F>178605</F>
      </Row>
      <Row index="30">
        <F>146853</F>
      </Row>
      <Row index="31">
        <F>166698</F>
      </Row>
      <Row index="32">
        <F>103194</F>
      </Row>
      <Row index="33">
        <F>111132</F>
      </Row>
      <Row index="34">
        <F>130977</F>
      </Row>
      <Row index="35">
        <F>138915</F>
      </Row>
      <Row index="36">
        <F>107163</F>
      </Row>
      <Row index="37">
        <F>134946</F>
      </Row>
      <Row index="38">
        <F>99225</F>
      </Row>
      <Row index="39">
        <F>158760</F>
      </Row>
      <Row index="40">
        <F>130977</F>
      </Row>
      <Row index="41">
        <F>134946</F>
      </Row>
      <Row index="42">
        <F>103194</F>
      </Row>
      <Row index="43">
        <F>123039</F>
      </Row>
      <Row index="44">
        <F>146853</F>
      </Row>
      <Row index="45">
        <F>119070</F>
      </Row>
      <Row index="46">
        <F>142884</F>
      </Row>
      <Row index="47">
        <F>115101</F>
      </Row>
      <Row index="48">
        <F>130977</F>
      </Row>
      <Row index="49">
        <F>130977</F>
      </Row>
      <Row index="50">
        <F>134946</F>
      </Row>
      <Row index="51">
        <F>158760</F>
      </Row>
      <Row index="52">
        <F>146853</F>
      </Row>
      <Row index="53">
        <F>115101</F>
      </Row>
      <Row index="54">
        <F>174636</F>
      </Row>
      <Row index="55">
        <F>170667</F>
      </Row>
      <Row index="56">
        <F>158760</F>
      </Row>
      <Row index="57">
        <F>162729</F>
      </Row>
      <Row index="58">
        <F>198450</F>
      </Row>
      <Row index="59">
        <F>198450</F>
      </Row>
      <Row index="60">
        <F>198450</F>
      </Row>
      <Row index="61">
        <F>174636</F>
      </Row>
      <Row index="62">
        <F>210357</F>
      </Row>
      <Row index="63">
        <F>222264</F>
      </Row>
      <Row index="64">
        <F>190512</F>
      </Row>
      <Row index="65">
        <F>289737</F>
      </Row>
      <Row index="66">
        <F>186543</F>
      </Row>
      <Row index="67">
        <F>265923</F>
      </Row>
      <Row index="68">
        <F>186543</F>
      </Row>
      <Row index="69">
        <F>214326</F>
      </Row>
      <Row index="70">
        <F>301644</F>
      </Row>
      <Row index="71">
        <F>254016</F>
      </Row>
      <Row index="72">
        <F>230202</F>
      </Row>
      <Row index="73">
        <F>269892</F>
      </Row>
      <Row index="74">
        <F>325458</F>
      </Row>
      <Row index="75">
        <F>357210</F>
      </Row>
      <Row index="76">
        <F>281799</F>
      </Row>
      <Row index="77">
        <F>349272</F>
      </Row>
      <Row index="78">
        <F>325458</F>
      </Row>
      <Row index="79">
        <F>436590</F>
      </Row>
      <Row index="80">
        <F>384993</F>
      </Row>
      <Row index="81">
        <F>408807</F>
      </Row>
      <Row index="82">
        <F>408807</F>
      </Row>
      <Row index="83">
        <F>464373</F>
      </Row>
      <Row index="84">
        <F>388962</F>
      </Row>
      <Row index="85">
        <F>392931</F>
      </Row>
      <Row index="86">
        <F>428652</F>
      </Row>
      <Row index="87">
        <F>484218</F>
      </Row>
      <Row index="88">
        <F>480249</F>
      </Row>
      <Row index="89">
        <F>531846</F>
      </Row>
      <Row index="90">
        <F>559629</F>
      </Row>
      <Row index="91">
        <F>623133</F>
      </Row>
      <Row index="92">
        <F>682668</F>
      </Row>
      <Row index="93">
        <F>611226</F>
      </Row>
      <Row index="94">
        <F>631071</F>
      </Row>
      <Row index="95">
        <F>674730</F>
      </Row>
      <Row index="96">
        <F>702513</F>
      </Row>
      <Row index="97">
        <F>781893</F>
      </Row>
      <Row index="98">
        <F>837459</F>
      </Row>
      <Row index="99">
        <F>924777</F>
      </Row>
      <Row index="100">
        <F>873180</F>
      </Row>
      <Row index="101">
        <F>956529</F>
      </Row>
      <Row index="102">
        <F>1051785</F>
      </Row>
      <Row index="103">
        <F>1020033</F>
      </Row>
      <Row index="104">
        <F>988281</F>
      </Row>
      <Row index="105">
        <F>1000188</F>
      </Row>
      <Row index="106">
        <F>1107351</F>
      </Row>
      <Row index="107">
        <F>1067661</F>
      </Row>
      <Row index="108">
        <F>1341522</F>
      </Row>
      <Row index="109">
        <F>1246266</F>
      </Row>
      <Row index="110">
        <F>1424871</F>
      </Row>
      <Row index="111">
        <F>1420902</F>
      </Row>
      <Row index="112">
        <F>1357398</F>
      </Row>
      <Row index="113">
        <F>1428840</F>
      </Row>
      <Row index="114">
        <F>1460592</F>
      </Row>
      <Row index="115">
        <F>1663011</F>
      </Row>
      <Row index="116">
        <F>1627290</F>
      </Row>
      <Row index="117">
        <F>1635228</F>
      </Row>
      <Row index="118">
        <F>1579662</F>
      </Row>
      <Row index="119">
        <F>1881306</F>
      </Row>
      <Row index="120">
        <F>1722546</F>
      </Row>
      <Row index="121">
        <F>1821771</F>
      </Row>
      <Row index="122">
        <F>2143260</F>
      </Row>
      <Row index="123">
        <F>2091663</F>
      </Row>
      <Row index="124">
        <F>2051973</F>
      </Row>
      <Row index="125">
        <F>2083725</F>
      </Row>
      <Row index="126">
        <F>2190888</F>
      </Row>
      <Row index="127">
        <F>2393307</F>
      </Row>
      <Row index="128">
        <F>2115477</F>
      </Row>
      <Row index="129">
        <F>2552067</F>
      </Row>
      <Row index="130">
        <F>2369493</F>
      </Row>
      <Row index="131">
        <F>2484594</F>
      </Row>
      <Row index="132">
        <F>2639385</F>
      </Row>
      <Row index="133">
        <F>2659230</F>
      </Row>
      <Row index="134">
        <F>2536191</F>
      </Row>
      <Row index="135">
        <F>2877525</F>
      </Row>
      <Row index="136">
        <F>2778300</F>
      </Row>
      <Row index="137">
        <F>3075975</F>
      </Row>
      <Row index="138">
        <F>2829897</F>
      </Row>
      <Row index="139">
        <F>2984688</F>
      </Row>
      <Row index="140">
        <F>3068037</F>
      </Row>
      <Row index="141">
        <F>2992626</F>
      </Row>
      <Row index="142">
        <F>3210921</F>
      </Row>
      <Row index="143">
        <F>3099789</F>
      </Row>
      <Row index="144">
        <F>3329991</F>
      </Row>
      <Row index="145">
        <F>3056130</F>
      </Row>
      <Row index="146">
        <F>3262518</F>
      </Row>
      <Row index="147">
        <F>3464937</F>
      </Row>
      <Row index="148">
        <F>3226797</F>
      </Row>
      <Row index="149">
        <F>3357774</F>
      </Row>
      <Row index="150">
        <F>3496689</F>
      </Row>
      <Row index="151">
        <F>3488751</F>
      </Row>
      <Row index="152">
        <F>3607821</F>
      </Row>
      <Row index="153">
        <F>3460968</F>
      </Row>
      <Row index="154">
        <F>3560193</F>
      </Row>
      <Row index="155">
        <F>3675294</F>
      </Row>
      <Row index="156">
        <F>3667356</F>
      </Row>
      <Row index="157">
        <F>3500658</F>
      </Row>
      <Row index="158">
        <F>3635604</F>
      </Row>
      <Row index="159">
        <F>3726891</F>
      </Row>
      <Row index="160">
        <F>3524472</F>
      </Row>
      <Row index="161">
        <F>3703077</F>
      </Row>
      <Row index="162">
        <F>3778488</F>
      </Row>
      <Row index="163">
        <F>3905496</F>
      </Row>
      <Row index="164">
        <F>3921372</F>
      </Row>
      <Row index="165">
        <F>3707046</F>
      </Row>
      <Row index="166">
        <F>3703077</F>
      </Row>
      <Row index="167">
        <F>3790395</F>
      </Row>
      <Row index="168">
        <F>3762612</F>
      </Row>
      <Row index="169">
        <F>3794364</F>
      </Row>
      <Row index="170">
        <F>3750705</F>
      </Row>
      <Row index="171">
        <F>3631635</F>
      </Row>
      <Row index="172">
        <F>3599883</F>
      </Row>
      <Row index="173">
        <F>3976938</F>
      </Row>
      <Row index="174">
        <F>3659418</F>
      </Row>
      <Row index="175">
        <F>3754674</F>
      </Row>
      <Row index="176">
        <F>3576069</F>
      </Row>
      <Row index="177">
        <F>3667356</F>
      </Row>
      <Row index="178">
        <F>3695139</F>
      </Row>
      <Row index="179">
        <F>3492720</F>
      </Row>
      <Row index="180">
        <F>3445092</F>
      </Row>
      <Row index="181">
        <F>3401433</F>
      </Row>
      <Row index="182">
        <F>3409371</F>
      </Row>
      <Row index="183">
        <F>3484782</F>
      </Row>
      <Row index="184">
        <F>3417309</F>
      </Row>
      <Row index="185">
        <F>3266487</F>
      </Row>
      <Row index="186">
        <F>3234735</F>
      </Row>
      <Row index="187">
        <F>3115665</F>
      </Row>
      <Row index="188">
        <F>3036285</F>
      </Row>
      <Row index="189">
        <F>3151386</F>
      </Row>
      <Row index="190">
        <F>3087882</F>
      </Row>
      <Row index="191">
        <F>3143448</F>
      </Row>
      <Row index="192">
        <F>2825928</F>
      </Row>
      <Row index="193">
        <F>2742579</F>
      </Row>
      <Row index="194">
        <F>2798145</F>
      </Row>
      <Row index="195">
        <F>2520315</F>
      </Row>
      <Row index="196">
        <F>2468718</F>
      </Row>
      <Row index="197">
        <F>2393307</F>
      </Row>
      <Row index="198">
        <F>2607633</F>
      </Row>
      <Row index="199">
        <F>2377431</F>
      </Row>
      <Row index="200">
        <F>2357586</F>
      </Row>
      <Row index="201">
        <F>2294082</F>
      </Row>
      <Row index="202">
        <F>1964655</F>
      </Row>
      <Row index="203">
        <F>1964655</F>
      </Row>
      <Row index="204">
        <F>1980531</F>
      </Row>
      <Row index="205">
        <F>2024190</F>
      </Row>
      <Row index="206">
        <F>2044035</F>
      </Row>
      <Row index="207">
        <F>1670949</F>
      </Row>
      <Row index="208">
        <F>1845585</F>
      </Row>
      <Row index="209">
        <F>1805895</F>
      </Row>
      <Row index="210">
        <F>1726515</F>
      </Row>
      <Row index="211">
        <F>1599507</F>
      </Row>
      <Row index="212">
        <F>1619352</F>
      </Row>
      <Row index="213">
        <F>1365336</F>
      </Row>
      <Row index="214">
        <F>1293894</F>
      </Row>
      <Row index="215">
        <F>1281987</F>
      </Row>
      <Row index="216">
        <F>1373274</F>
      </Row>
      <Row index="217">
        <F>1174824</F>
      </Row>
      <Row index="218">
        <F>1206576</F>
      </Row>
      <Row index="219">
        <F>1063692</F>
      </Row>
      <Row index="220">
        <F>1079568</F>
      </Row>
      <Row index="221">
        <F>1103382</F>
      </Row>
      <Row index="222">
        <F>944622</F>
      </Row>
      <Row index="223">
        <F>948591</F>
      </Row>
      <Row index="224">
        <F>904932</F>
      </Row>
      <Row index="225">
        <F>916839</F>
      </Row>
      <Row index="226">
        <F>789831</F>
      </Row>
      <Row index="227">
        <F>781893</F>
      </Row>
      <Row index="228">
        <F>813645</F>
      </Row>
      <Row index="229">
        <F>722358</F>
      </Row>
      <Row index="230">
        <F>722358</F>
      </Row>
      <Row index="231">
        <F>595350</F>
      </Row>
      <Row index="232">
        <F>512001</F>
      </Row>
      <Row index="233">
        <F>587412</F>
      </Row>
      <Row index="234">
        <F>515970</F>
      </Row>
      <Row index="235">
        <F>523908</F>
      </Row>
      <Row index="236">
        <F>428652</F>
      </Row>
      <Row index="237">
        <F>424683</F>
      </Row>
      <Row index="238">
        <F>484218</F>
      </Row>
      <Row index="239">
        <F>424683</F>
      </Row>
      <Row index="240">
        <F>345303</F>
      </Row>
      <Row index="241">
        <F>369117</F>
      </Row>
      <Row index="242">
        <F>404838</F>
      </Row>
      <Row index="243">
        <F>377055</F>
      </Row>
      <Row index="244">
        <F>357210</F>
      </Row>
      <Row index="245">
        <F>325458</F>
      </Row>
      <Row index="246">
        <F>285768</F>
      </Row>
      <Row index="247">
        <F>281799</F>
      </Row>
      <Row index="248">
        <F>297675</F>
      </Row>
      <Row index="249">
        <F>297675</F>
      </Row>
      <Row index="250">
        <F>210357</F>
      </Row>
      <Row index="251">
        <F>202419</F>
      </Row>
      <Row index="252">
        <F>226233</F>
      </Row>
      <Row index="253">
        <F>186543</F>
      </Row>
      <Row index="254">
        <F>178605</F>
      </Row>
      <Row index="255">
        <F>563598</F>
      </Row>
    </GDALRasterAttributeTable>
    <Metadata>
      <MDI key="LAYER_TYPE">athematic</MDI>
      <MDI key="STATISTICS_APPROXIMATE">YES</MDI>
      <MDI key="STATISTICS_HISTOBINVALUES">749299572|756880362|2425059|2365524|1936872|952560|448497|337365|230202|254016|218295|146853|186543|166698|162729|158760|134946|158760|186543|99225|115101|178605|150822|111132|150822|174636|178605|130977|134946|178605|146853|166698|103194|111132|130977|138915|107163|134946|99225|158760|130977|134946|103194|123039|146853|119070|142884|115101|130977|130977|134946|158760|146853|115101|174636|170667|158760|162729|198450|198450|198450|174636|210357|222264|190512|289737|186543|265923|186543|214326|301644|254016|230202|269892|325458|357210|281799|349272|325458|436590|384993|408807|408807|464373|388962|392931|428652|484218|480249|531846|559629|623133|682668|611226|631071|674730|702513|781893|837459|924777|873180|956529|1051785|1020033|988281|1000188|1107351|1067661|1341522|1246266|1424871|1420902|1357398|1428840|1460592|1663011|1627290|1635228|1579662|1881306|1722546|1821771|2143260|2091663|2051973|2083725|2190888|2393307|2115477|2552067|2369493|2484594|2639385|2659230|2536191|2877525|2778300|3075975|2829897|2984688|3068037|2992626|3210921|3099789|3329991|3056130|3262518|3464937|3226797|3357774|3496689|3488751|3607821|3460968|3560193|3675294|3667356|3500658|3635604|3726891|3524472|3703077|3778488|3905496|3921372|3707046|3703077|3790395|3762612|3794364|3750705|3631635|3599883|3976938|3659418|3754674|3576069|3667356|3695139|3492720|3445092|3401433|3409371|3484782|3417309|3266487|3234735|3115665|3036285|3151386|3087882|3143448|2825928|2742579|2798145|2520315|2468718|2393307|2607633|2377431|2357586|2294082|1964655|1964655|1980531|2024190|2044035|1670949|1845585|1805895|1726515|1599507|1619352|1365336|1293894|1281987|1373274|1174824|1206576|1063692|1079568|1103382|944622|948591|904932|916839|789831|781893|813645|722358|722358|595350|512001|587412|515970|523908|428652|424683|484218|424683|345303|369117|404838|377055|357210|325458|285768|281799|297675|297675|210357|202419|226233|186543|178605|563598|</MDI>
      <MDI key="STATISTICS_MAXIMUM">247</MDI>
      <MDI key="STATISTICS_MEAN">30.003384094755</MDI>
      <MDI key="STATISTICS_MINIMUM">0</MDI>
      <MDI key="STATISTICS_STDDEV">63.23996992136</MDI>
      <MDI key="STATISTICS_VALID_PERCENT">100</MDI>
    </Metadata>
  </PAMRasterBand>
</PAMDataset>
