<PAMDataset>
  <SRS dataAxisToSRSAxisMapping="2,1,3">PROJCS["NAD_1983_StatePlane_Montana_FIPS_2500",GEOGCS["GCS_North_American_1983",DATUM["North_American_Datum_1983",SPHEROID["GRS_1980",6378137,298.257222101]],PRIMEM["Greenwich",0],UNIT["Degree",0.0174532925199432955],AUTHORITY["EPSG","4269"]],PROJECTION["Lambert_Conformal_Conic_2SP"],PARAMETER["False_Easting",600000],PARAMETER["False_Northing",0],PARAMETER["Central_Meridian",-109.5],PARAMETER["Standard_Parallel_1",45],PARAMETER["Standard_Parallel_2",49],PARAMETER["Latitude_Of_Origin",44.25],UNIT["Meter",1]]</SRS>
  <GeoTransform>  7.8667800000000000e+05,  1.0000000000000000e+00,  0.0000000000000000e+00,  2.3802200000000000e+05,  0.0000000000000000e+00, -1.0000000000000000e+00</GeoTransform>
  <Metadata>
    <MDI key="GEOTIFF_CHAR__GeogAngularUnitsGeoKey">Angular_Degree</MDI>
    <MDI key="GEOTIFF_CHAR__GeogLinearUnitsGeoKey">Linear_Meter</MDI>
    <MDI key="GEOTIFF_CHAR__GTModelTypeGeoKey">ModelTypeProjected</MDI>
    <MDI key="GEOTIFF_CHAR__GTRasterTypeGeoKey">RasterPixelIsArea</MDI>
    <MDI key="GEOTIFF_CHAR__ProjectedCSTypeGeoKey">PCS_NAD83_Montana</MDI>
    <MDI key="GEOTIFF_CHAR__ProjLinearUnitsGeoKey">Linear_Meter</MDI>
    <MDI key="GEOTIFF_NUM__1024__GTModelTypeGeoKey">1</MDI>
    <MDI key="GEOTIFF_NUM__1025__GTRasterTypeGeoKey">1</MDI>
    <MDI key="GEOTIFF_NUM__1026__GTCitationGeoKey">IMAGINE GeoTIFF Support
Copyright 1991 - 2001 by ERDAS, Inc. All Rights Reserved
@(#)$RCSfile: egtf.c $ $Revision: 1.11.2.3 $ $Date: 2004/11/24 09:12:56EST $
Projection Name = NAD_1983_StatePlane_Montana_FIPS_2500
Units = meters
GeoTIFF Units = meters</MDI>
    <MDI key="GEOTIFF_NUM__2052__GeogLinearUnitsGeoKey">9001</MDI>
    <MDI key="GEOTIFF_NUM__2054__GeogAngularUnitsGeoKey">9102</MDI>
    <MDI key="GEOTIFF_NUM__3072__ProjectedCSTypeGeoKey">32100</MDI>
    <MDI key="GEOTIFF_NUM__3076__ProjLinearUnitsGeoKey">9001</MDI>
    <MDI key="IMAGE__BITS_PER_SAMPLE">8</MDI>
    <MDI key="IMAGE__COLOR_SCHEME">3</MDI>
    <MDI key="IMAGE__COMPRESSION_BLOCK_SIZE">1536</MDI>
    <MDI key="IMAGE__COMPRESSION_GAMMA">2.000000</MDI>
    <MDI key="IMAGE__COMPRESSION_NLEV">6</MDI>
    <MDI key="IMAGE__COMPRESSION_VERSION">2,0,0</MDI>
    <MDI key="IMAGE__COMPRESSION_WEIGHT">2.000000</MDI>
    <MDI key="IMAGE__CREATION_DATE">Tue Mar 14 14:27:59 2006
</MDI>
    <MDI key="IMAGE__DATA_TYPE">0</MDI>
    <MDI key="IMAGE__DYNAMIC_RANGE_LEVEL">127.500000</MDI>
    <MDI key="IMAGE__DYNAMIC_RANGE_WINDOW">256.000000</MDI>
    <MDI key="IMAGE__HEIGHT">14608</MDI>
    <MDI key="IMAGE__INPUT_FILE_SIZE">1117995053.000000</MDI>
    <MDI key="IMAGE__INPUT_FORMAT">GeoTIFF</MDI>
    <MDI key="IMAGE__INPUT_NAME">\\mslhlnimg001\ddata\Yellowstone\1976\Rosebud.tif</MDI>
    <MDI key="IMAGE__TARGET_COMPRESSION_RATIO">14.999999</MDI>
    <MDI key="IMAGE__WIDTH">76517</MDI>
    <MDI key="IMAGE__WKT">PROJCS["NAD83 / Montana",GEOGCS["NAD83",DATUM["North_American_Datum_1983",SPHEROID["GRS 1980",6378137,298.2572221010002,AUTHORITY["EPSG","7019"]],AUTHORITY["EPSG","6269"]],PRIMEM["Greenwich",0],UNIT["degree",0.0174532925199433],AUTHORITY["EPSG","4269"]],PROJECTION["Lambert_Conformal_Conic_2SP"],PARAMETER["standard_parallel_1",49],PARAMETER["standard_parallel_2",45],PARAMETER["latitude_of_origin",44.25],PARAMETER["central_meridian",-109.5],PARAMETER["false_easting",600000],PARAMETER["false_northing",0],UNIT["metre",1,AUTHORITY["EPSG","9001"]],AUTHORITY["EPSG","32100"]]</MDI>
    <MDI key="IMAGE__XY_ORIGIN">786678.500000,238021.500000</MDI>
    <MDI key="IMAGE__X_RESOLUTION">1.000000</MDI>
    <MDI key="IMAGE__Y_RESOLUTION">1.000000</MDI>
    <MDI key="VERSION">MG2</MDI>
  </Metadata>
  <PAMRasterBand band="1">
    <GDALRasterAttributeTable tableType="thematic">
      <FieldDefn index="0">
        <Name>Histogram</Name>
        <Type>0</Type>
        <Usage>1</Usage>
      </FieldDefn>
      <Row index="0">
        <F>330260490</F>
      </Row>
      <Row index="1">
        <F>331887780</F>
      </Row>
      <Row index="2">
        <F>2242485</F>
      </Row>
      <Row index="3">
        <F>2774331</F>
      </Row>
      <Row index="4">
        <F>2869587</F>
      </Row>
      <Row index="5">
        <F>1539972</F>
      </Row>
      <Row index="6">
        <F>420714</F>
      </Row>
      <Row index="7">
        <F>305613</F>
      </Row>
      <Row index="8">
        <F>226233</F>
      </Row>
      <Row index="9">
        <F>214326</F>
      </Row>
      <Row index="10">
        <F>174636</F>
      </Row>
      <Row index="11">
        <F>174636</F>
      </Row>
      <Row index="12">
        <F>142884</F>
      </Row>
      <Row index="13">
        <F>186543</F>
      </Row>
      <Row index="14">
        <F>202419</F>
      </Row>
      <Row index="15">
        <F>162729</F>
      </Row>
      <Row index="16">
        <F>182574</F>
      </Row>
      <Row index="17">
        <F>107163</F>
      </Row>
      <Row index="18">
        <F>95256</F>
      </Row>
      <Row index="19">
        <F>127008</F>
      </Row>
      <Row index="20">
        <F>158760</F>
      </Row>
      <Row index="21">
        <F>146853</F>
      </Row>
      <Row index="22">
        <F>119070</F>
      </Row>
      <Row index="23">
        <F>103194</F>
      </Row>
      <Row index="24">
        <F>115101</F>
      </Row>
      <Row index="25">
        <F>103194</F>
      </Row>
      <Row index="26">
        <F>115101</F>
      </Row>
      <Row index="27">
        <F>115101</F>
      </Row>
      <Row index="28">
        <F>111132</F>
      </Row>
      <Row index="29">
        <F>134946</F>
      </Row>
      <Row index="30">
        <F>111132</F>
      </Row>
      <Row index="31">
        <F>115101</F>
      </Row>
      <Row index="32">
        <F>107163</F>
      </Row>
      <Row index="33">
        <F>150822</F>
      </Row>
      <Row index="34">
        <F>83349</F>
      </Row>
      <Row index="35">
        <F>103194</F>
      </Row>
      <Row index="36">
        <F>103194</F>
      </Row>
      <Row index="37">
        <F>79380</F>
      </Row>
      <Row index="38">
        <F>99225</F>
      </Row>
      <Row index="39">
        <F>115101</F>
      </Row>
      <Row index="40">
        <F>107163</F>
      </Row>
      <Row index="41">
        <F>91287</F>
      </Row>
      <Row index="42">
        <F>103194</F>
      </Row>
      <Row index="43">
        <F>119070</F>
      </Row>
      <Row index="44">
        <F>111132</F>
      </Row>
      <Row index="45">
        <F>103194</F>
      </Row>
      <Row index="46">
        <F>111132</F>
      </Row>
      <Row index="47">
        <F>123039</F>
      </Row>
      <Row index="48">
        <F>127008</F>
      </Row>
      <Row index="49">
        <F>142884</F>
      </Row>
      <Row index="50">
        <F>99225</F>
      </Row>
      <Row index="51">
        <F>107163</F>
      </Row>
      <Row index="52">
        <F>166698</F>
      </Row>
      <Row index="53">
        <F>123039</F>
      </Row>
      <Row index="54">
        <F>99225</F>
      </Row>
      <Row index="55">
        <F>150822</F>
      </Row>
      <Row index="56">
        <F>103194</F>
      </Row>
      <Row index="57">
        <F>138915</F>
      </Row>
      <Row index="58">
        <F>127008</F>
      </Row>
      <Row index="59">
        <F>115101</F>
      </Row>
      <Row index="60">
        <F>154791</F>
      </Row>
      <Row index="61">
        <F>107163</F>
      </Row>
      <Row index="62">
        <F>162729</F>
      </Row>
      <Row index="63">
        <F>174636</F>
      </Row>
      <Row index="64">
        <F>134946</F>
      </Row>
      <Row index="65">
        <F>154791</F>
      </Row>
      <Row index="66">
        <F>134946</F>
      </Row>
      <Row index="67">
        <F>166698</F>
      </Row>
      <Row index="68">
        <F>265923</F>
      </Row>
      <Row index="69">
        <F>162729</F>
      </Row>
      <Row index="70">
        <F>154791</F>
      </Row>
      <Row index="71">
        <F>214326</F>
      </Row>
      <Row index="72">
        <F>206388</F>
      </Row>
      <Row index="73">
        <F>214326</F>
      </Row>
      <Row index="74">
        <F>261954</F>
      </Row>
      <Row index="75">
        <F>301644</F>
      </Row>
      <Row index="76">
        <F>242109</F>
      </Row>
      <Row index="77">
        <F>269892</F>
      </Row>
      <Row index="78">
        <F>246078</F>
      </Row>
      <Row index="79">
        <F>341334</F>
      </Row>
      <Row index="80">
        <F>333396</F>
      </Row>
      <Row index="81">
        <F>305613</F>
      </Row>
      <Row index="82">
        <F>365148</F>
      </Row>
      <Row index="83">
        <F>412776</F>
      </Row>
      <Row index="84">
        <F>508032</F>
      </Row>
      <Row index="85">
        <F>472311</F>
      </Row>
      <Row index="86">
        <F>504063</F>
      </Row>
      <Row index="87">
        <F>480249</F>
      </Row>
      <Row index="88">
        <F>563598</F>
      </Row>
      <Row index="89">
        <F>595350</F>
      </Row>
      <Row index="90">
        <F>619164</F>
      </Row>
      <Row index="91">
        <F>734265</F>
      </Row>
      <Row index="92">
        <F>710451</F>
      </Row>
      <Row index="93">
        <F>829521</F>
      </Row>
      <Row index="94">
        <F>817614</F>
      </Row>
      <Row index="95">
        <F>869211</F>
      </Row>
      <Row index="96">
        <F>924777</F>
      </Row>
      <Row index="97">
        <F>1024002</F>
      </Row>
      <Row index="98">
        <F>908901</F>
      </Row>
      <Row index="99">
        <F>964467</F>
      </Row>
      <Row index="100">
        <F>1051785</F>
      </Row>
      <Row index="101">
        <F>1103382</F>
      </Row>
      <Row index="102">
        <F>1178793</F>
      </Row>
      <Row index="103">
        <F>1361367</F>
      </Row>
      <Row index="104">
        <F>1278018</F>
      </Row>
      <Row index="105">
        <F>1289925</F>
      </Row>
      <Row index="106">
        <F>1246266</F>
      </Row>
      <Row index="107">
        <F>1401057</F>
      </Row>
      <Row index="108">
        <F>1492344</F>
      </Row>
      <Row index="109">
        <F>1424871</F>
      </Row>
      <Row index="110">
        <F>1623321</F>
      </Row>
      <Row index="111">
        <F>1678887</F>
      </Row>
      <Row index="112">
        <F>1674918</F>
      </Row>
      <Row index="113">
        <F>1817802</F>
      </Row>
      <Row index="114">
        <F>1782081</F>
      </Row>
      <Row index="115">
        <F>1730484</F>
      </Row>
      <Row index="116">
        <F>1790019</F>
      </Row>
      <Row index="117">
        <F>1893213</F>
      </Row>
      <Row index="118">
        <F>1980531</F>
      </Row>
      <Row index="119">
        <F>2182950</F>
      </Row>
      <Row index="120">
        <F>2250423</F>
      </Row>
      <Row index="121">
        <F>2178981</F>
      </Row>
      <Row index="122">
        <F>2603664</F>
      </Row>
      <Row index="123">
        <F>2480625</F>
      </Row>
      <Row index="124">
        <F>2397276</F>
      </Row>
      <Row index="125">
        <F>2500470</F>
      </Row>
      <Row index="126">
        <F>2690982</F>
      </Row>
      <Row index="127">
        <F>2635416</F>
      </Row>
      <Row index="128">
        <F>2746548</F>
      </Row>
      <Row index="129">
        <F>2794176</F>
      </Row>
      <Row index="130">
        <F>2893401</F>
      </Row>
      <Row index="131">
        <F>2817990</F>
      </Row>
      <Row index="132">
        <F>3151386</F>
      </Row>
      <Row index="133">
        <F>2948967</F>
      </Row>
      <Row index="134">
        <F>3040254</F>
      </Row>
      <Row index="135">
        <F>3012471</F>
      </Row>
      <Row index="136">
        <F>3195045</F>
      </Row>
      <Row index="137">
        <F>3337929</F>
      </Row>
      <Row index="138">
        <F>3397464</F>
      </Row>
      <Row index="139">
        <F>3361743</F>
      </Row>
      <Row index="140">
        <F>3373650</F>
      </Row>
      <Row index="141">
        <F>3754674</F>
      </Row>
      <Row index="142">
        <F>3484782</F>
      </Row>
      <Row index="143">
        <F>3782457</F>
      </Row>
      <Row index="144">
        <F>4036473</F>
      </Row>
      <Row index="145">
        <F>3810240</F>
      </Row>
      <Row index="146">
        <F>3881682</F>
      </Row>
      <Row index="147">
        <F>4167450</F>
      </Row>
      <Row index="148">
        <F>4052349</F>
      </Row>
      <Row index="149">
        <F>4008690</F>
      </Row>
      <Row index="150">
        <F>3873744</F>
      </Row>
      <Row index="151">
        <F>3972969</F>
      </Row>
      <Row index="152">
        <F>4151574</F>
      </Row>
      <Row index="153">
        <F>4139667</F>
      </Row>
      <Row index="154">
        <F>4155543</F>
      </Row>
      <Row index="155">
        <F>4417497</F>
      </Row>
      <Row index="156">
        <F>4500846</F>
      </Row>
      <Row index="157">
        <F>4318272</F>
      </Row>
      <Row index="158">
        <F>4270644</F>
      </Row>
      <Row index="159">
        <F>4350024</F>
      </Row>
      <Row index="160">
        <F>4600071</F>
      </Row>
      <Row index="161">
        <F>4504815</F>
      </Row>
      <Row index="162">
        <F>4342086</F>
      </Row>
      <Row index="163">
        <F>4441311</F>
      </Row>
      <Row index="164">
        <F>4449249</F>
      </Row>
      <Row index="165">
        <F>4473063</F>
      </Row>
      <Row index="166">
        <F>4437342</F>
      </Row>
      <Row index="167">
        <F>4564350</F>
      </Row>
      <Row index="168">
        <F>4639761</F>
      </Row>
      <Row index="169">
        <F>4393683</F>
      </Row>
      <Row index="170">
        <F>4667544</F>
      </Row>
      <Row index="171">
        <F>4282551</F>
      </Row>
      <Row index="172">
        <F>4619916</F>
      </Row>
      <Row index="173">
        <F>4719141</F>
      </Row>
      <Row index="174">
        <F>4088070</F>
      </Row>
      <Row index="175">
        <F>4671513</F>
      </Row>
      <Row index="176">
        <F>4310334</F>
      </Row>
      <Row index="177">
        <F>4302396</F>
      </Row>
      <Row index="178">
        <F>4401621</F>
      </Row>
      <Row index="179">
        <F>4286520</F>
      </Row>
      <Row index="180">
        <F>4294458</F>
      </Row>
      <Row index="181">
        <F>4072194</F>
      </Row>
      <Row index="182">
        <F>4286520</F>
      </Row>
      <Row index="183">
        <F>4020597</F>
      </Row>
      <Row index="184">
        <F>3976938</F>
      </Row>
      <Row index="185">
        <F>3972969</F>
      </Row>
      <Row index="186">
        <F>3909465</F>
      </Row>
      <Row index="187">
        <F>3778488</F>
      </Row>
      <Row index="188">
        <F>3615759</F>
      </Row>
      <Row index="189">
        <F>3679263</F>
      </Row>
      <Row index="190">
        <F>3572100</F>
      </Row>
      <Row index="191">
        <F>3564162</F>
      </Row>
      <Row index="192">
        <F>3341898</F>
      </Row>
      <Row index="193">
        <F>3258549</F>
      </Row>
      <Row index="194">
        <F>3226797</F>
      </Row>
      <Row index="195">
        <F>3210921</F>
      </Row>
      <Row index="196">
        <F>3167262</F>
      </Row>
      <Row index="197">
        <F>2881494</F>
      </Row>
      <Row index="198">
        <F>2948967</F>
      </Row>
      <Row index="199">
        <F>2837835</F>
      </Row>
      <Row index="200">
        <F>2798145</F>
      </Row>
      <Row index="201">
        <F>2623509</F>
      </Row>
      <Row index="202">
        <F>2615571</F>
      </Row>
      <Row index="203">
        <F>2595726</F>
      </Row>
      <Row index="204">
        <F>2353617</F>
      </Row>
      <Row index="205">
        <F>2468718</F>
      </Row>
      <Row index="206">
        <F>2290113</F>
      </Row>
      <Row index="207">
        <F>2317896</F>
      </Row>
      <Row index="208">
        <F>2198826</F>
      </Row>
      <Row index="209">
        <F>2214702</F>
      </Row>
      <Row index="210">
        <F>2091663</F>
      </Row>
      <Row index="211">
        <F>2115477</F>
      </Row>
      <Row index="212">
        <F>2036097</F>
      </Row>
      <Row index="213">
        <F>1952748</F>
      </Row>
      <Row index="214">
        <F>1619352</F>
      </Row>
      <Row index="215">
        <F>1722546</F>
      </Row>
      <Row index="216">
        <F>1575693</F>
      </Row>
      <Row index="217">
        <F>1575693</F>
      </Row>
      <Row index="218">
        <F>1377243</F>
      </Row>
      <Row index="219">
        <F>1345491</F>
      </Row>
      <Row index="220">
        <F>1230390</F>
      </Row>
      <Row index="221">
        <F>1361367</F>
      </Row>
      <Row index="222">
        <F>1131165</F>
      </Row>
      <Row index="223">
        <F>1222452</F>
      </Row>
      <Row index="224">
        <F>1206576</F>
      </Row>
      <Row index="225">
        <F>992250</F>
      </Row>
      <Row index="226">
        <F>936684</F>
      </Row>
      <Row index="227">
        <F>916839</F>
      </Row>
      <Row index="228">
        <F>845397</F>
      </Row>
      <Row index="229">
        <F>722358</F>
      </Row>
      <Row index="230">
        <F>817614</F>
      </Row>
      <Row index="231">
        <F>726327</F>
      </Row>
      <Row index="232">
        <F>623133</F>
      </Row>
      <Row index="233">
        <F>623133</F>
      </Row>
      <Row index="234">
        <F>639009</F>
      </Row>
      <Row index="235">
        <F>587412</F>
      </Row>
      <Row index="236">
        <F>460404</F>
      </Row>
      <Row index="237">
        <F>488187</F>
      </Row>
      <Row index="238">
        <F>412776</F>
      </Row>
      <Row index="239">
        <F>325458</F>
      </Row>
      <Row index="240">
        <F>373086</F>
      </Row>
      <Row index="241">
        <F>313551</F>
      </Row>
      <Row index="242">
        <F>373086</F>
      </Row>
      <Row index="243">
        <F>349272</F>
      </Row>
      <Row index="244">
        <F>321489</F>
      </Row>
      <Row index="245">
        <F>269892</F>
      </Row>
      <Row index="246">
        <F>301644</F>
      </Row>
      <Row index="247">
        <F>214326</F>
      </Row>
      <Row index="248">
        <F>206388</F>
      </Row>
      <Row index="249">
        <F>250047</F>
      </Row>
      <Row index="250">
        <F>198450</F>
      </Row>
      <Row index="251">
        <F>194481</F>
      </Row>
      <Row index="252">
        <F>134946</F>
      </Row>
      <Row index="253">
        <F>91287</F>
      </Row>
      <Row index="254">
        <F>119070</F>
      </Row>
      <Row index="255">
        <F>472311</F>
      </Row>
    </GDALRasterAttributeTable>
    <Metadata>
      <MDI key="LAYER_TYPE">athematic</MDI>
      <MDI key="STATISTICS_APPROXIMATE">YES</MDI>
      <MDI key="STATISTICS_HISTOBINVALUES">330260490|331887780|2242485|2774331|2869587|1539972|420714|305613|226233|214326|174636|174636|142884|186543|202419|162729|182574|107163|95256|127008|158760|146853|119070|103194|115101|103194|115101|115101|111132|134946|111132|115101|107163|150822|83349|103194|103194|79380|99225|115101|107163|91287|103194|119070|111132|103194|111132|123039|127008|142884|99225|107163|166698|123039|99225|150822|103194|138915|127008|115101|154791|107163|162729|174636|134946|154791|134946|166698|265923|162729|154791|214326|206388|214326|261954|301644|242109|269892|246078|341334|333396|305613|365148|412776|508032|472311|504063|480249|563598|595350|619164|734265|710451|829521|817614|869211|924777|1024002|908901|964467|1051785|1103382|1178793|1361367|1278018|1289925|1246266|1401057|1492344|1424871|1623321|1678887|1674918|1817802|1782081|1730484|1790019|1893213|1980531|2182950|2250423|2178981|2603664|2480625|2397276|2500470|2690982|2635416|2746548|2794176|2893401|2817990|3151386|2948967|3040254|3012471|3195045|3337929|3397464|3361743|3373650|3754674|3484782|3782457|4036473|3810240|3881682|4167450|4052349|4008690|3873744|3972969|4151574|4139667|4155543|4417497|4500846|4318272|4270644|4350024|4600071|4504815|4342086|4441311|4449249|4473063|4437342|4564350|4639761|4393683|4667544|4282551|4619916|4719141|4088070|4671513|4310334|4302396|4401621|4286520|4294458|4072194|4286520|4020597|3976938|3972969|3909465|3778488|3615759|3679263|3572100|3564162|3341898|3258549|3226797|3210921|3167262|2881494|2948967|2837835|2798145|2623509|2615571|2595726|2353617|2468718|2290113|2317896|2198826|2214702|2091663|2115477|2036097|1952748|1619352|1722546|1575693|1575693|1377243|1345491|1230390|1361367|1131165|1222452|1206576|992250|936684|916839|845397|722358|817614|726327|623133|623133|639009|587412|460404|488187|412776|325458|373086|313551|373086|349272|321489|269892|301644|214326|206388|250047|198450|194481|134946|91287|119070|472311|</MDI>
      <MDI key="STATISTICS_MAXIMUM">255</MDI>
      <MDI key="STATISTICS_MEAN">61.120627711002</MDI>
      <MDI key="STATISTICS_MINIMUM">0</MDI>
      <MDI key="STATISTICS_STDDEV">81.354749069416</MDI>
      <MDI key="STATISTICS_VALID_PERCENT">100</MDI>
    </Metadata>
  </PAMRasterBand>
</PAMDataset>
