<PAMDataset>
  <SRS dataAxisToSRSAxisMapping="2,1,3">PROJCS["NAD_1983_StatePlane_Montana_FIPS_2500",GEOGCS["GCS_North_American_1983",DATUM["North_American_Datum_1983",SPHEROID["GRS_1980",6378137,298.257222101]],PRIMEM["Greenwich",0],UNIT["Degree",0.0174532925199432955],AUTHORITY["EPSG","4269"]],PROJECTION["Lambert_Conformal_Conic_2SP"],PARAMETER["False_Easting",600000],PARAMETER["False_Northing",0],PARAMETER["Central_Meridian",-109.5],PARAMETER["Standard_Parallel_1",45],PARAMETER["Standard_Parallel_2",49],PARAMETER["Latitude_Of_Origin",44.25],UNIT["Meter",1]]</SRS>
  <GeoTransform>  5.9012600000000000e+05,  1.0000000000000000e+00,  0.0000000000000000e+00,  1.6620400000000000e+05,  0.0000000000000000e+00, -1.0000000000000000e+00</GeoTransform>
  <Metadata>
    <MDI key="GEOTIFF_CHAR__GeogAngularUnitsGeoKey">Angular_Degree</MDI>
    <MDI key="GEOTIFF_CHAR__GeogLinearUnitsGeoKey">Linear_Meter</MDI>
    <MDI key="GEOTIFF_CHAR__GTModelTypeGeoKey">Undefined</MDI>
    <MDI key="GEOTIFF_CHAR__GTRasterTypeGeoKey">RasterPixelIsArea</MDI>
    <MDI key="GEOTIFF_CHAR__ProjectedCSTypeGeoKey">PCS_NAD83_Montana</MDI>
    <MDI key="GEOTIFF_CHAR__ProjLinearUnitsGeoKey">Linear_Fathom</MDI>
    <MDI key="GEOTIFF_NUM__1024__GTModelTypeGeoKey">0</MDI>
    <MDI key="GEOTIFF_NUM__1025__GTRasterTypeGeoKey">1</MDI>
    <MDI key="GEOTIFF_NUM__1026__GTCitationGeoKey">IMAGINE GeoTIFF Support
Copyright 1991 - 2001 by ERDAS, Inc. All Rights Reserved
@(#)$RCSfile: egtf.c $ $Revision: 1.11.2.3 $ $Date: 2004/11/24 09:12:56EST $
Geocoding information not available
Projection Name = Unknown
Units = other
GeoTIFF Units = other</MDI>
    <MDI key="GEOTIFF_NUM__2052__GeogLinearUnitsGeoKey">9001</MDI>
    <MDI key="GEOTIFF_NUM__2054__GeogAngularUnitsGeoKey">9102</MDI>
    <MDI key="GEOTIFF_NUM__3072__ProjectedCSTypeGeoKey">32100</MDI>
    <MDI key="GEOTIFF_NUM__3076__ProjLinearUnitsGeoKey">9014</MDI>
    <MDI key="IMAGE__BITS_PER_SAMPLE">8</MDI>
    <MDI key="IMAGE__COLOR_SCHEME">3</MDI>
    <MDI key="IMAGE__COMPRESSION_BLOCK_SIZE">1024</MDI>
    <MDI key="IMAGE__COMPRESSION_GAMMA">2.000000</MDI>
    <MDI key="IMAGE__COMPRESSION_NLEV">7</MDI>
    <MDI key="IMAGE__COMPRESSION_VERSION">2,0,0</MDI>
    <MDI key="IMAGE__COMPRESSION_WEIGHT">2.000000</MDI>
    <MDI key="IMAGE__CREATION_DATE">Tue Mar 14 14:45:39 2006
</MDI>
    <MDI key="IMAGE__DATA_TYPE">0</MDI>
    <MDI key="IMAGE__DYNAMIC_RANGE_LEVEL">127.500000</MDI>
    <MDI key="IMAGE__DYNAMIC_RANGE_WINDOW">256.000000</MDI>
    <MDI key="IMAGE__HEIGHT">22771</MDI>
    <MDI key="IMAGE__INPUT_FILE_SIZE">1486833793.000000</MDI>
    <MDI key="IMAGE__INPUT_FORMAT">GeoTIFF</MDI>
    <MDI key="IMAGE__INPUT_NAME">\\mslhlnimg001\ddata\Yellowstone\1976\Stillwater.tif</MDI>
    <MDI key="IMAGE__TARGET_COMPRESSION_RATIO">14.999999</MDI>
    <MDI key="IMAGE__WIDTH">65271</MDI>
    <MDI key="IMAGE__XY_ORIGIN">590126.500000,166203.500000</MDI>
    <MDI key="IMAGE__X_RESOLUTION">1.000000</MDI>
    <MDI key="IMAGE__Y_RESOLUTION">1.000000</MDI>
    <MDI key="VERSION">MG2</MDI>
  </Metadata>
  <PAMRasterBand band="1">
    <GDALRasterAttributeTable tableType="thematic">
      <FieldDefn index="0">
        <Name>Histogram</Name>
        <Type>0</Type>
        <Usage>1</Usage>
      </FieldDefn>
      <Row index="0">
        <F>516557412</F>
      </Row>
      <Row index="1">
        <F>530143299</F>
      </Row>
      <Row index="2">
        <F>2520315</F>
      </Row>
      <Row index="3">
        <F>2488563</F>
      </Row>
      <Row index="4">
        <F>2353617</F>
      </Row>
      <Row index="5">
        <F>1174824</F>
      </Row>
      <Row index="6">
        <F>369117</F>
      </Row>
      <Row index="7">
        <F>297675</F>
      </Row>
      <Row index="8">
        <F>238140</F>
      </Row>
      <Row index="9">
        <F>154791</F>
      </Row>
      <Row index="10">
        <F>202419</F>
      </Row>
      <Row index="11">
        <F>170667</F>
      </Row>
      <Row index="12">
        <F>194481</F>
      </Row>
      <Row index="13">
        <F>178605</F>
      </Row>
      <Row index="14">
        <F>162729</F>
      </Row>
      <Row index="15">
        <F>146853</F>
      </Row>
      <Row index="16">
        <F>154791</F>
      </Row>
      <Row index="17">
        <F>123039</F>
      </Row>
      <Row index="18">
        <F>142884</F>
      </Row>
      <Row index="19">
        <F>130977</F>
      </Row>
      <Row index="20">
        <F>138915</F>
      </Row>
      <Row index="21">
        <F>186543</F>
      </Row>
      <Row index="22">
        <F>107163</F>
      </Row>
      <Row index="23">
        <F>130977</F>
      </Row>
      <Row index="24">
        <F>162729</F>
      </Row>
      <Row index="25">
        <F>134946</F>
      </Row>
      <Row index="26">
        <F>178605</F>
      </Row>
      <Row index="27">
        <F>158760</F>
      </Row>
      <Row index="28">
        <F>138915</F>
      </Row>
      <Row index="29">
        <F>166698</F>
      </Row>
      <Row index="30">
        <F>154791</F>
      </Row>
      <Row index="31">
        <F>166698</F>
      </Row>
      <Row index="32">
        <F>150822</F>
      </Row>
      <Row index="33">
        <F>178605</F>
      </Row>
      <Row index="34">
        <F>162729</F>
      </Row>
      <Row index="35">
        <F>158760</F>
      </Row>
      <Row index="36">
        <F>190512</F>
      </Row>
      <Row index="37">
        <F>158760</F>
      </Row>
      <Row index="38">
        <F>146853</F>
      </Row>
      <Row index="39">
        <F>154791</F>
      </Row>
      <Row index="40">
        <F>194481</F>
      </Row>
      <Row index="41">
        <F>154791</F>
      </Row>
      <Row index="42">
        <F>170667</F>
      </Row>
      <Row index="43">
        <F>154791</F>
      </Row>
      <Row index="44">
        <F>154791</F>
      </Row>
      <Row index="45">
        <F>174636</F>
      </Row>
      <Row index="46">
        <F>146853</F>
      </Row>
      <Row index="47">
        <F>194481</F>
      </Row>
      <Row index="48">
        <F>186543</F>
      </Row>
      <Row index="49">
        <F>174636</F>
      </Row>
      <Row index="50">
        <F>154791</F>
      </Row>
      <Row index="51">
        <F>198450</F>
      </Row>
      <Row index="52">
        <F>190512</F>
      </Row>
      <Row index="53">
        <F>222264</F>
      </Row>
      <Row index="54">
        <F>182574</F>
      </Row>
      <Row index="55">
        <F>242109</F>
      </Row>
      <Row index="56">
        <F>194481</F>
      </Row>
      <Row index="57">
        <F>206388</F>
      </Row>
      <Row index="58">
        <F>254016</F>
      </Row>
      <Row index="59">
        <F>325458</F>
      </Row>
      <Row index="60">
        <F>269892</F>
      </Row>
      <Row index="61">
        <F>273861</F>
      </Row>
      <Row index="62">
        <F>273861</F>
      </Row>
      <Row index="63">
        <F>325458</F>
      </Row>
      <Row index="64">
        <F>365148</F>
      </Row>
      <Row index="65">
        <F>369117</F>
      </Row>
      <Row index="66">
        <F>377055</F>
      </Row>
      <Row index="67">
        <F>353241</F>
      </Row>
      <Row index="68">
        <F>420714</F>
      </Row>
      <Row index="69">
        <F>365148</F>
      </Row>
      <Row index="70">
        <F>428652</F>
      </Row>
      <Row index="71">
        <F>476280</F>
      </Row>
      <Row index="72">
        <F>500094</F>
      </Row>
      <Row index="73">
        <F>515970</F>
      </Row>
      <Row index="74">
        <F>476280</F>
      </Row>
      <Row index="75">
        <F>539784</F>
      </Row>
      <Row index="76">
        <F>535815</F>
      </Row>
      <Row index="77">
        <F>539784</F>
      </Row>
      <Row index="78">
        <F>579474</F>
      </Row>
      <Row index="79">
        <F>646947</F>
      </Row>
      <Row index="80">
        <F>639009</F>
      </Row>
      <Row index="81">
        <F>750141</F>
      </Row>
      <Row index="82">
        <F>829521</F>
      </Row>
      <Row index="83">
        <F>805707</F>
      </Row>
      <Row index="84">
        <F>738234</F>
      </Row>
      <Row index="85">
        <F>924777</F>
      </Row>
      <Row index="86">
        <F>829521</F>
      </Row>
      <Row index="87">
        <F>857304</F>
      </Row>
      <Row index="88">
        <F>837459</F>
      </Row>
      <Row index="89">
        <F>956529</F>
      </Row>
      <Row index="90">
        <F>1024002</F>
      </Row>
      <Row index="91">
        <F>1016064</F>
      </Row>
      <Row index="92">
        <F>1067661</F>
      </Row>
      <Row index="93">
        <F>1143072</F>
      </Row>
      <Row index="94">
        <F>1262142</F>
      </Row>
      <Row index="95">
        <F>1162917</F>
      </Row>
      <Row index="96">
        <F>1123227</F>
      </Row>
      <Row index="97">
        <F>1262142</F>
      </Row>
      <Row index="98">
        <F>1337553</F>
      </Row>
      <Row index="99">
        <F>1369305</F>
      </Row>
      <Row index="100">
        <F>1226421</F>
      </Row>
      <Row index="101">
        <F>1480437</F>
      </Row>
      <Row index="102">
        <F>1416933</F>
      </Row>
      <Row index="103">
        <F>1397088</F>
      </Row>
      <Row index="104">
        <F>1408995</F>
      </Row>
      <Row index="105">
        <F>1428840</F>
      </Row>
      <Row index="106">
        <F>1607445</F>
      </Row>
      <Row index="107">
        <F>1575693</F>
      </Row>
      <Row index="108">
        <F>1619352</F>
      </Row>
      <Row index="109">
        <F>1746360</F>
      </Row>
      <Row index="110">
        <F>1619352</F>
      </Row>
      <Row index="111">
        <F>1710639</F>
      </Row>
      <Row index="112">
        <F>1750329</F>
      </Row>
      <Row index="113">
        <F>1714608</F>
      </Row>
      <Row index="114">
        <F>1928934</F>
      </Row>
      <Row index="115">
        <F>1948779</F>
      </Row>
      <Row index="116">
        <F>2040066</F>
      </Row>
      <Row index="117">
        <F>2186919</F>
      </Row>
      <Row index="118">
        <F>2190888</F>
      </Row>
      <Row index="119">
        <F>2083725</F>
      </Row>
      <Row index="120">
        <F>2135322</F>
      </Row>
      <Row index="121">
        <F>2178981</F>
      </Row>
      <Row index="122">
        <F>2222640</F>
      </Row>
      <Row index="123">
        <F>2393307</F>
      </Row>
      <Row index="124">
        <F>2290113</F>
      </Row>
      <Row index="125">
        <F>2333772</F>
      </Row>
      <Row index="126">
        <F>2464749</F>
      </Row>
      <Row index="127">
        <F>2520315</F>
      </Row>
      <Row index="128">
        <F>2500470</F>
      </Row>
      <Row index="129">
        <F>2655261</F>
      </Row>
      <Row index="130">
        <F>2710827</F>
      </Row>
      <Row index="131">
        <F>2738610</F>
      </Row>
      <Row index="132">
        <F>2758455</F>
      </Row>
      <Row index="133">
        <F>2714796</F>
      </Row>
      <Row index="134">
        <F>2901339</F>
      </Row>
      <Row index="135">
        <F>3036285</F>
      </Row>
      <Row index="136">
        <F>2845773</F>
      </Row>
      <Row index="137">
        <F>3326022</F>
      </Row>
      <Row index="138">
        <F>3187107</F>
      </Row>
      <Row index="139">
        <F>3167262</F>
      </Row>
      <Row index="140">
        <F>3202983</F>
      </Row>
      <Row index="141">
        <F>3163293</F>
      </Row>
      <Row index="142">
        <F>3405402</F>
      </Row>
      <Row index="143">
        <F>3353805</F>
      </Row>
      <Row index="144">
        <F>3468906</F>
      </Row>
      <Row index="145">
        <F>3381588</F>
      </Row>
      <Row index="146">
        <F>3711015</F>
      </Row>
      <Row index="147">
        <F>3711015</F>
      </Row>
      <Row index="148">
        <F>3806271</F>
      </Row>
      <Row index="149">
        <F>3631635</F>
      </Row>
      <Row index="150">
        <F>4060287</F>
      </Row>
      <Row index="151">
        <F>3683232</F>
      </Row>
      <Row index="152">
        <F>3877713</F>
      </Row>
      <Row index="153">
        <F>3754674</F>
      </Row>
      <Row index="154">
        <F>3802302</F>
      </Row>
      <Row index="155">
        <F>3734829</F>
      </Row>
      <Row index="156">
        <F>3865806</F>
      </Row>
      <Row index="157">
        <F>3897558</F>
      </Row>
      <Row index="158">
        <F>4159512</F>
      </Row>
      <Row index="159">
        <F>3830085</F>
      </Row>
      <Row index="160">
        <F>4016628</F>
      </Row>
      <Row index="161">
        <F>4115853</F>
      </Row>
      <Row index="162">
        <F>3873744</F>
      </Row>
      <Row index="163">
        <F>3984876</F>
      </Row>
      <Row index="164">
        <F>4119822</F>
      </Row>
      <Row index="165">
        <F>3976938</F>
      </Row>
      <Row index="166">
        <F>4016628</F>
      </Row>
      <Row index="167">
        <F>3937248</F>
      </Row>
      <Row index="168">
        <F>4032504</F>
      </Row>
      <Row index="169">
        <F>3770550</F>
      </Row>
      <Row index="170">
        <F>3980907</F>
      </Row>
      <Row index="171">
        <F>3810240</F>
      </Row>
      <Row index="172">
        <F>3758643</F>
      </Row>
      <Row index="173">
        <F>3818178</F>
      </Row>
      <Row index="174">
        <F>4036473</F>
      </Row>
      <Row index="175">
        <F>3857868</F>
      </Row>
      <Row index="176">
        <F>3679263</F>
      </Row>
      <Row index="177">
        <F>3695139</F>
      </Row>
      <Row index="178">
        <F>3691170</F>
      </Row>
      <Row index="179">
        <F>3766581</F>
      </Row>
      <Row index="180">
        <F>3460968</F>
      </Row>
      <Row index="181">
        <F>3568131</F>
      </Row>
      <Row index="182">
        <F>3619728</F>
      </Row>
      <Row index="183">
        <F>3647511</F>
      </Row>
      <Row index="184">
        <F>3659418</F>
      </Row>
      <Row index="185">
        <F>3611790</F>
      </Row>
      <Row index="186">
        <F>3437154</F>
      </Row>
      <Row index="187">
        <F>3163293</F>
      </Row>
      <Row index="188">
        <F>3234735</F>
      </Row>
      <Row index="189">
        <F>3234735</F>
      </Row>
      <Row index="190">
        <F>3036285</F>
      </Row>
      <Row index="191">
        <F>3040254</F>
      </Row>
      <Row index="192">
        <F>2948967</F>
      </Row>
      <Row index="193">
        <F>3103758</F>
      </Row>
      <Row index="194">
        <F>2917215</F>
      </Row>
      <Row index="195">
        <F>2806083</F>
      </Row>
      <Row index="196">
        <F>2738610</F>
      </Row>
      <Row index="197">
        <F>2464749</F>
      </Row>
      <Row index="198">
        <F>2694951</F>
      </Row>
      <Row index="199">
        <F>2405214</F>
      </Row>
      <Row index="200">
        <F>2444904</F>
      </Row>
      <Row index="201">
        <F>2294082</F>
      </Row>
      <Row index="202">
        <F>2262330</F>
      </Row>
      <Row index="203">
        <F>2147229</F>
      </Row>
      <Row index="204">
        <F>2055942</F>
      </Row>
      <Row index="205">
        <F>2095632</F>
      </Row>
      <Row index="206">
        <F>2119446</F>
      </Row>
      <Row index="207">
        <F>1833678</F>
      </Row>
      <Row index="208">
        <F>1865430</F>
      </Row>
      <Row index="209">
        <F>1706670</F>
      </Row>
      <Row index="210">
        <F>1476468</F>
      </Row>
      <Row index="211">
        <F>1619352</F>
      </Row>
      <Row index="212">
        <F>1393119</F>
      </Row>
      <Row index="213">
        <F>1329615</F>
      </Row>
      <Row index="214">
        <F>1401057</F>
      </Row>
      <Row index="215">
        <F>1309770</F>
      </Row>
      <Row index="216">
        <F>1111320</F>
      </Row>
      <Row index="217">
        <F>1297863</F>
      </Row>
      <Row index="218">
        <F>1143072</F>
      </Row>
      <Row index="219">
        <F>1059723</F>
      </Row>
      <Row index="220">
        <F>968436</F>
      </Row>
      <Row index="221">
        <F>916839</F>
      </Row>
      <Row index="222">
        <F>896994</F>
      </Row>
      <Row index="223">
        <F>869211</F>
      </Row>
      <Row index="224">
        <F>829521</F>
      </Row>
      <Row index="225">
        <F>706482</F>
      </Row>
      <Row index="226">
        <F>579474</F>
      </Row>
      <Row index="227">
        <F>615195</F>
      </Row>
      <Row index="228">
        <F>496125</F>
      </Row>
      <Row index="229">
        <F>551691</F>
      </Row>
      <Row index="230">
        <F>444528</F>
      </Row>
      <Row index="231">
        <F>547722</F>
      </Row>
      <Row index="232">
        <F>408807</F>
      </Row>
      <Row index="233">
        <F>345303</F>
      </Row>
      <Row index="234">
        <F>377055</F>
      </Row>
      <Row index="235">
        <F>325458</F>
      </Row>
      <Row index="236">
        <F>285768</F>
      </Row>
      <Row index="237">
        <F>273861</F>
      </Row>
      <Row index="238">
        <F>218295</F>
      </Row>
      <Row index="239">
        <F>226233</F>
      </Row>
      <Row index="240">
        <F>162729</F>
      </Row>
      <Row index="241">
        <F>134946</F>
      </Row>
      <Row index="242">
        <F>134946</F>
      </Row>
      <Row index="243">
        <F>186543</F>
      </Row>
      <Row index="244">
        <F>91287</F>
      </Row>
      <Row index="245">
        <F>119070</F>
      </Row>
      <Row index="246">
        <F>75411</F>
      </Row>
      <Row index="247">
        <F>63504</F>
      </Row>
      <Row index="248">
        <F>75411</F>
      </Row>
      <Row index="249">
        <F>55566</F>
      </Row>
      <Row index="250">
        <F>55566</F>
      </Row>
      <Row index="251">
        <F>59535</F>
      </Row>
      <Row index="252">
        <F>71442</F>
      </Row>
      <Row index="253">
        <F>31752</F>
      </Row>
      <Row index="254">
        <F>31752</F>
      </Row>
      <Row index="255">
        <F>146853</F>
      </Row>
    </GDALRasterAttributeTable>
    <Metadata>
      <MDI key="LAYER_TYPE">athematic</MDI>
      <MDI key="STATISTICS_APPROXIMATE">YES</MDI>
      <MDI key="STATISTICS_HISTOBINVALUES">516557412|530143299|2520315|2488563|2353617|1174824|369117|297675|238140|154791|202419|170667|194481|178605|162729|146853|154791|123039|142884|130977|138915|186543|107163|130977|162729|134946|178605|158760|138915|166698|154791|166698|150822|178605|162729|158760|190512|158760|146853|154791|194481|154791|170667|154791|154791|174636|146853|194481|186543|174636|154791|198450|190512|222264|182574|242109|194481|206388|254016|325458|269892|273861|273861|325458|365148|369117|377055|353241|420714|365148|428652|476280|500094|515970|476280|539784|535815|539784|579474|646947|639009|750141|829521|805707|738234|924777|829521|857304|837459|956529|1024002|1016064|1067661|1143072|1262142|1162917|1123227|1262142|1337553|1369305|1226421|1480437|1416933|1397088|1408995|1428840|1607445|1575693|1619352|1746360|1619352|1710639|1750329|1714608|1928934|1948779|2040066|2186919|2190888|2083725|2135322|2178981|2222640|2393307|2290113|2333772|2464749|2520315|2500470|2655261|2710827|2738610|2758455|2714796|2901339|3036285|2845773|3326022|3187107|3167262|3202983|3163293|3405402|3353805|3468906|3381588|3711015|3711015|3806271|3631635|4060287|3683232|3877713|3754674|3802302|3734829|3865806|3897558|4159512|3830085|4016628|4115853|3873744|3984876|4119822|3976938|4016628|3937248|4032504|3770550|3980907|3810240|3758643|3818178|4036473|3857868|3679263|3695139|3691170|3766581|3460968|3568131|3619728|3647511|3659418|3611790|3437154|3163293|3234735|3234735|3036285|3040254|2948967|3103758|2917215|2806083|2738610|2464749|2694951|2405214|2444904|2294082|2262330|2147229|2055942|2095632|2119446|1833678|1865430|1706670|1476468|1619352|1393119|1329615|1401057|1309770|1111320|1297863|1143072|1059723|968436|916839|896994|869211|829521|706482|579474|615195|496125|551691|444528|547722|408807|345303|377055|325458|285768|273861|218295|226233|162729|134946|134946|186543|91287|119070|75411|63504|75411|55566|55566|59535|71442|31752|31752|146853|</MDI>
      <MDI key="STATISTICS_MAXIMUM">252</MDI>
      <MDI key="STATISTICS_MEAN">41.09676140119</MDI>
      <MDI key="STATISTICS_MINIMUM">0</MDI>
      <MDI key="STATISTICS_STDDEV">70.277204097892</MDI>
      <MDI key="STATISTICS_VALID_PERCENT">100</MDI>
    </Metadata>
  </PAMRasterBand>
</PAMDataset>
