<PAMDataset>
  <SRS dataAxisToSRSAxisMapping="2,1,3">PROJCS["NAD_1983_StatePlane_Montana_FIPS_2500",GEOGCS["GCS_North_American_1983",DATUM["North_American_Datum_1983",SPHEROID["GRS_1980",6378137,298.257222101]],PRIMEM["Greenwich",0],UNIT["Degree",0.0174532925199432955],AUTHORITY["EPSG","4269"]],PROJECTION["Lambert_Conformal_Conic_2SP"],PARAMETER["False_Easting",600000],PARAMETER["False_Northing",0],PARAMETER["Central_Meridian",-109.5],PARAMETER["Standard_Parallel_1",45],PARAMETER["Standard_Parallel_2",49],PARAMETER["Latitude_Of_Origin",44.25],UNIT["Meter",1]]</SRS>
  <GeoTransform>  5.4202200000000000e+05,  1.0000000000000000e+00,  0.0000000000000000e+00,  1.8224700000000000e+05,  0.0000000000000000e+00, -1.0000000000000000e+00</GeoTransform>
  <Metadata>
    <MDI key="GEOTIFF_CHAR__GeogAngularUnitsGeoKey">Angular_Degree</MDI>
    <MDI key="GEOTIFF_CHAR__GeogLinearUnitsGeoKey">Linear_Meter</MDI>
    <MDI key="GEOTIFF_CHAR__GTModelTypeGeoKey">ModelTypeProjected</MDI>
    <MDI key="GEOTIFF_CHAR__GTRasterTypeGeoKey">RasterPixelIsArea</MDI>
    <MDI key="GEOTIFF_CHAR__ProjectedCSTypeGeoKey">PCS_NAD83_Montana</MDI>
    <MDI key="GEOTIFF_CHAR__ProjLinearUnitsGeoKey">Linear_Meter</MDI>
    <MDI key="GEOTIFF_NUM__1024__GTModelTypeGeoKey">1</MDI>
    <MDI key="GEOTIFF_NUM__1025__GTRasterTypeGeoKey">1</MDI>
    <MDI key="GEOTIFF_NUM__1026__GTCitationGeoKey">IMAGINE GeoTIFF Support
Copyright 1991 - 2001 by ERDAS, Inc. All Rights Reserved
@(#)$RCSfile: egtf.c $ $Revision: 1.11.2.3 $ $Date: 2004/11/24 09:12:56EST $
Projection Name = NAD_1983_StatePlane_Montana_FIPS_2500
Units = meters
GeoTIFF Units = meters</MDI>
    <MDI key="GEOTIFF_NUM__2052__GeogLinearUnitsGeoKey">9001</MDI>
    <MDI key="GEOTIFF_NUM__2054__GeogAngularUnitsGeoKey">9102</MDI>
    <MDI key="GEOTIFF_NUM__3072__ProjectedCSTypeGeoKey">32100</MDI>
    <MDI key="GEOTIFF_NUM__3076__ProjLinearUnitsGeoKey">9001</MDI>
    <MDI key="IMAGE__BITS_PER_SAMPLE">8</MDI>
    <MDI key="IMAGE__COLOR_SCHEME">3</MDI>
    <MDI key="IMAGE__COMPRESSION_BLOCK_SIZE">1024</MDI>
    <MDI key="IMAGE__COMPRESSION_GAMMA">2.000000</MDI>
    <MDI key="IMAGE__COMPRESSION_NLEV">7</MDI>
    <MDI key="IMAGE__COMPRESSION_VERSION">2,0,0</MDI>
    <MDI key="IMAGE__COMPRESSION_WEIGHT">2.000000</MDI>
    <MDI key="IMAGE__CREATION_DATE">Tue Mar 14 15:07:20 2006
</MDI>
    <MDI key="IMAGE__DATA_TYPE">0</MDI>
    <MDI key="IMAGE__DYNAMIC_RANGE_LEVEL">127.500000</MDI>
    <MDI key="IMAGE__DYNAMIC_RANGE_WINDOW">256.000000</MDI>
    <MDI key="IMAGE__HEIGHT">23309</MDI>
    <MDI key="IMAGE__INPUT_FILE_SIZE">1376583911.000000</MDI>
    <MDI key="IMAGE__INPUT_FORMAT">GeoTIFF</MDI>
    <MDI key="IMAGE__INPUT_NAME">\\mslhlnimg001\ddata\Yellowstone\1976\Sweetgrass.tif</MDI>
    <MDI key="IMAGE__TARGET_COMPRESSION_RATIO">14.999999</MDI>
    <MDI key="IMAGE__WIDTH">59042</MDI>
    <MDI key="IMAGE__WKT">PROJCS["NAD83 / Montana",GEOGCS["NAD83",DATUM["North_American_Datum_1983",SPHEROID["GRS 1980",6378137,298.2572221010002,AUTHORITY["EPSG","7019"]],AUTHORITY["EPSG","6269"]],PRIMEM["Greenwich",0],UNIT["degree",0.0174532925199433],AUTHORITY["EPSG","4269"]],PROJECTION["Lambert_Conformal_Conic_2SP"],PARAMETER["standard_parallel_1",49],PARAMETER["standard_parallel_2",45],PARAMETER["latitude_of_origin",44.25],PARAMETER["central_meridian",-109.5],PARAMETER["false_easting",600000],PARAMETER["false_northing",0],UNIT["metre",1,AUTHORITY["EPSG","9001"]],AUTHORITY["EPSG","32100"]]</MDI>
    <MDI key="IMAGE__XY_ORIGIN">542022.500000,182246.500000</MDI>
    <MDI key="IMAGE__X_RESOLUTION">1.000000</MDI>
    <MDI key="IMAGE__Y_RESOLUTION">1.000000</MDI>
    <MDI key="VERSION">MG2</MDI>
  </Metadata>
  <PAMRasterBand band="1">
    <GDALRasterAttributeTable tableType="thematic">
      <FieldDefn index="0">
        <Name>Histogram</Name>
        <Type>0</Type>
        <Usage>1</Usage>
      </FieldDefn>
      <Row index="0">
        <F>477232560</F>
      </Row>
      <Row index="1">
        <F>488798226</F>
      </Row>
      <Row index="2">
        <F>2024190</F>
      </Row>
      <Row index="3">
        <F>2016252</F>
      </Row>
      <Row index="4">
        <F>1825740</F>
      </Row>
      <Row index="5">
        <F>1381212</F>
      </Row>
      <Row index="6">
        <F>710451</F>
      </Row>
      <Row index="7">
        <F>384993</F>
      </Row>
      <Row index="8">
        <F>230202</F>
      </Row>
      <Row index="9">
        <F>130977</F>
      </Row>
      <Row index="10">
        <F>170667</F>
      </Row>
      <Row index="11">
        <F>150822</F>
      </Row>
      <Row index="12">
        <F>162729</F>
      </Row>
      <Row index="13">
        <F>150822</F>
      </Row>
      <Row index="14">
        <F>146853</F>
      </Row>
      <Row index="15">
        <F>134946</F>
      </Row>
      <Row index="16">
        <F>99225</F>
      </Row>
      <Row index="17">
        <F>150822</F>
      </Row>
      <Row index="18">
        <F>146853</F>
      </Row>
      <Row index="19">
        <F>63504</F>
      </Row>
      <Row index="20">
        <F>91287</F>
      </Row>
      <Row index="21">
        <F>127008</F>
      </Row>
      <Row index="22">
        <F>79380</F>
      </Row>
      <Row index="23">
        <F>103194</F>
      </Row>
      <Row index="24">
        <F>119070</F>
      </Row>
      <Row index="25">
        <F>91287</F>
      </Row>
      <Row index="26">
        <F>75411</F>
      </Row>
      <Row index="27">
        <F>75411</F>
      </Row>
      <Row index="28">
        <F>119070</F>
      </Row>
      <Row index="29">
        <F>107163</F>
      </Row>
      <Row index="30">
        <F>75411</F>
      </Row>
      <Row index="31">
        <F>91287</F>
      </Row>
      <Row index="32">
        <F>111132</F>
      </Row>
      <Row index="33">
        <F>111132</F>
      </Row>
      <Row index="34">
        <F>119070</F>
      </Row>
      <Row index="35">
        <F>166698</F>
      </Row>
      <Row index="36">
        <F>119070</F>
      </Row>
      <Row index="37">
        <F>130977</F>
      </Row>
      <Row index="38">
        <F>99225</F>
      </Row>
      <Row index="39">
        <F>107163</F>
      </Row>
      <Row index="40">
        <F>138915</F>
      </Row>
      <Row index="41">
        <F>134946</F>
      </Row>
      <Row index="42">
        <F>158760</F>
      </Row>
      <Row index="43">
        <F>154791</F>
      </Row>
      <Row index="44">
        <F>154791</F>
      </Row>
      <Row index="45">
        <F>142884</F>
      </Row>
      <Row index="46">
        <F>142884</F>
      </Row>
      <Row index="47">
        <F>83349</F>
      </Row>
      <Row index="48">
        <F>134946</F>
      </Row>
      <Row index="49">
        <F>134946</F>
      </Row>
      <Row index="50">
        <F>158760</F>
      </Row>
      <Row index="51">
        <F>150822</F>
      </Row>
      <Row index="52">
        <F>162729</F>
      </Row>
      <Row index="53">
        <F>226233</F>
      </Row>
      <Row index="54">
        <F>146853</F>
      </Row>
      <Row index="55">
        <F>170667</F>
      </Row>
      <Row index="56">
        <F>162729</F>
      </Row>
      <Row index="57">
        <F>162729</F>
      </Row>
      <Row index="58">
        <F>178605</F>
      </Row>
      <Row index="59">
        <F>190512</F>
      </Row>
      <Row index="60">
        <F>166698</F>
      </Row>
      <Row index="61">
        <F>154791</F>
      </Row>
      <Row index="62">
        <F>222264</F>
      </Row>
      <Row index="63">
        <F>206388</F>
      </Row>
      <Row index="64">
        <F>178605</F>
      </Row>
      <Row index="65">
        <F>214326</F>
      </Row>
      <Row index="66">
        <F>238140</F>
      </Row>
      <Row index="67">
        <F>202419</F>
      </Row>
      <Row index="68">
        <F>234171</F>
      </Row>
      <Row index="69">
        <F>317520</F>
      </Row>
      <Row index="70">
        <F>226233</F>
      </Row>
      <Row index="71">
        <F>234171</F>
      </Row>
      <Row index="72">
        <F>273861</F>
      </Row>
      <Row index="73">
        <F>277830</F>
      </Row>
      <Row index="74">
        <F>293706</F>
      </Row>
      <Row index="75">
        <F>349272</F>
      </Row>
      <Row index="76">
        <F>329427</F>
      </Row>
      <Row index="77">
        <F>305613</F>
      </Row>
      <Row index="78">
        <F>309582</F>
      </Row>
      <Row index="79">
        <F>353241</F>
      </Row>
      <Row index="80">
        <F>345303</F>
      </Row>
      <Row index="81">
        <F>436590</F>
      </Row>
      <Row index="82">
        <F>448497</F>
      </Row>
      <Row index="83">
        <F>440559</F>
      </Row>
      <Row index="84">
        <F>424683</F>
      </Row>
      <Row index="85">
        <F>400869</F>
      </Row>
      <Row index="86">
        <F>456435</F>
      </Row>
      <Row index="87">
        <F>492156</F>
      </Row>
      <Row index="88">
        <F>404838</F>
      </Row>
      <Row index="89">
        <F>412776</F>
      </Row>
      <Row index="90">
        <F>440559</F>
      </Row>
      <Row index="91">
        <F>412776</F>
      </Row>
      <Row index="92">
        <F>515970</F>
      </Row>
      <Row index="93">
        <F>523908</F>
      </Row>
      <Row index="94">
        <F>468342</F>
      </Row>
      <Row index="95">
        <F>456435</F>
      </Row>
      <Row index="96">
        <F>587412</F>
      </Row>
      <Row index="97">
        <F>575505</F>
      </Row>
      <Row index="98">
        <F>603288</F>
      </Row>
      <Row index="99">
        <F>587412</F>
      </Row>
      <Row index="100">
        <F>599319</F>
      </Row>
      <Row index="101">
        <F>682668</F>
      </Row>
      <Row index="102">
        <F>666792</F>
      </Row>
      <Row index="103">
        <F>722358</F>
      </Row>
      <Row index="104">
        <F>642978</F>
      </Row>
      <Row index="105">
        <F>686637</F>
      </Row>
      <Row index="106">
        <F>773955</F>
      </Row>
      <Row index="107">
        <F>817614</F>
      </Row>
      <Row index="108">
        <F>742203</F>
      </Row>
      <Row index="109">
        <F>773955</F>
      </Row>
      <Row index="110">
        <F>873180</F>
      </Row>
      <Row index="111">
        <F>797769</F>
      </Row>
      <Row index="112">
        <F>952560</F>
      </Row>
      <Row index="113">
        <F>869211</F>
      </Row>
      <Row index="114">
        <F>904932</F>
      </Row>
      <Row index="115">
        <F>984312</F>
      </Row>
      <Row index="116">
        <F>1020033</F>
      </Row>
      <Row index="117">
        <F>1131165</F>
      </Row>
      <Row index="118">
        <F>1154979</F>
      </Row>
      <Row index="119">
        <F>1139103</F>
      </Row>
      <Row index="120">
        <F>1107351</F>
      </Row>
      <Row index="121">
        <F>1147041</F>
      </Row>
      <Row index="122">
        <F>1333584</F>
      </Row>
      <Row index="123">
        <F>1488375</F>
      </Row>
      <Row index="124">
        <F>1381212</F>
      </Row>
      <Row index="125">
        <F>1325646</F>
      </Row>
      <Row index="126">
        <F>1274049</F>
      </Row>
      <Row index="127">
        <F>1655073</F>
      </Row>
      <Row index="128">
        <F>1559817</F>
      </Row>
      <Row index="129">
        <F>1698732</F>
      </Row>
      <Row index="130">
        <F>1690794</F>
      </Row>
      <Row index="131">
        <F>1845585</F>
      </Row>
      <Row index="132">
        <F>1857492</F>
      </Row>
      <Row index="133">
        <F>1976562</F>
      </Row>
      <Row index="134">
        <F>1996407</F>
      </Row>
      <Row index="135">
        <F>1897182</F>
      </Row>
      <Row index="136">
        <F>2032128</F>
      </Row>
      <Row index="137">
        <F>2131353</F>
      </Row>
      <Row index="138">
        <F>2290113</F>
      </Row>
      <Row index="139">
        <F>2226609</F>
      </Row>
      <Row index="140">
        <F>2444904</F>
      </Row>
      <Row index="141">
        <F>2520315</F>
      </Row>
      <Row index="142">
        <F>2603664</F>
      </Row>
      <Row index="143">
        <F>2675106</F>
      </Row>
      <Row index="144">
        <F>2583819</F>
      </Row>
      <Row index="145">
        <F>2734641</F>
      </Row>
      <Row index="146">
        <F>2905308</F>
      </Row>
      <Row index="147">
        <F>2917215</F>
      </Row>
      <Row index="148">
        <F>2849742</F>
      </Row>
      <Row index="149">
        <F>2841804</F>
      </Row>
      <Row index="150">
        <F>2980719</F>
      </Row>
      <Row index="151">
        <F>3068037</F>
      </Row>
      <Row index="152">
        <F>3460968</F>
      </Row>
      <Row index="153">
        <F>3278394</F>
      </Row>
      <Row index="154">
        <F>3441123</F>
      </Row>
      <Row index="155">
        <F>3341898</F>
      </Row>
      <Row index="156">
        <F>3389526</F>
      </Row>
      <Row index="157">
        <F>3472875</F>
      </Row>
      <Row index="158">
        <F>3603852</F>
      </Row>
      <Row index="159">
        <F>3397464</F>
      </Row>
      <Row index="160">
        <F>3671325</F>
      </Row>
      <Row index="161">
        <F>3647511</F>
      </Row>
      <Row index="162">
        <F>3758643</F>
      </Row>
      <Row index="163">
        <F>3734829</F>
      </Row>
      <Row index="164">
        <F>3552255</F>
      </Row>
      <Row index="165">
        <F>3893589</F>
      </Row>
      <Row index="166">
        <F>3996783</F>
      </Row>
      <Row index="167">
        <F>3913434</F>
      </Row>
      <Row index="168">
        <F>3810240</F>
      </Row>
      <Row index="169">
        <F>3889620</F>
      </Row>
      <Row index="170">
        <F>4195233</F>
      </Row>
      <Row index="171">
        <F>3949155</F>
      </Row>
      <Row index="172">
        <F>3953124</F>
      </Row>
      <Row index="173">
        <F>4223016</F>
      </Row>
      <Row index="174">
        <F>4111884</F>
      </Row>
      <Row index="175">
        <F>4207140</F>
      </Row>
      <Row index="176">
        <F>3849930</F>
      </Row>
      <Row index="177">
        <F>4131729</F>
      </Row>
      <Row index="178">
        <F>4119822</F>
      </Row>
      <Row index="179">
        <F>3929310</F>
      </Row>
      <Row index="180">
        <F>4008690</F>
      </Row>
      <Row index="181">
        <F>3913434</F>
      </Row>
      <Row index="182">
        <F>4207140</F>
      </Row>
      <Row index="183">
        <F>4107915</F>
      </Row>
      <Row index="184">
        <F>4076163</F>
      </Row>
      <Row index="185">
        <F>3921372</F>
      </Row>
      <Row index="186">
        <F>3996783</F>
      </Row>
      <Row index="187">
        <F>4064256</F>
      </Row>
      <Row index="188">
        <F>4036473</F>
      </Row>
      <Row index="189">
        <F>4040442</F>
      </Row>
      <Row index="190">
        <F>3877713</F>
      </Row>
      <Row index="191">
        <F>4139667</F>
      </Row>
      <Row index="192">
        <F>3834054</F>
      </Row>
      <Row index="193">
        <F>3830085</F>
      </Row>
      <Row index="194">
        <F>3929310</F>
      </Row>
      <Row index="195">
        <F>3953124</F>
      </Row>
      <Row index="196">
        <F>3520503</F>
      </Row>
      <Row index="197">
        <F>3580038</F>
      </Row>
      <Row index="198">
        <F>3722922</F>
      </Row>
      <Row index="199">
        <F>3718953</F>
      </Row>
      <Row index="200">
        <F>3540348</F>
      </Row>
      <Row index="201">
        <F>3266487</F>
      </Row>
      <Row index="202">
        <F>3175200</F>
      </Row>
      <Row index="203">
        <F>3179169</F>
      </Row>
      <Row index="204">
        <F>3218859</F>
      </Row>
      <Row index="205">
        <F>2802114</F>
      </Row>
      <Row index="206">
        <F>2944998</F>
      </Row>
      <Row index="207">
        <F>2984688</F>
      </Row>
      <Row index="208">
        <F>2770362</F>
      </Row>
      <Row index="209">
        <F>2738610</F>
      </Row>
      <Row index="210">
        <F>2623509</F>
      </Row>
      <Row index="211">
        <F>2591757</F>
      </Row>
      <Row index="212">
        <F>2262330</F>
      </Row>
      <Row index="213">
        <F>2218671</F>
      </Row>
      <Row index="214">
        <F>2357586</F>
      </Row>
      <Row index="215">
        <F>2115477</F>
      </Row>
      <Row index="216">
        <F>1964655</F>
      </Row>
      <Row index="217">
        <F>2048004</F>
      </Row>
      <Row index="218">
        <F>1853523</F>
      </Row>
      <Row index="219">
        <F>1611414</F>
      </Row>
      <Row index="220">
        <F>1551879</F>
      </Row>
      <Row index="221">
        <F>1647135</F>
      </Row>
      <Row index="222">
        <F>1412964</F>
      </Row>
      <Row index="223">
        <F>1250235</F>
      </Row>
      <Row index="224">
        <F>1250235</F>
      </Row>
      <Row index="225">
        <F>1039878</F>
      </Row>
      <Row index="226">
        <F>1051785</F>
      </Row>
      <Row index="227">
        <F>1035909</F>
      </Row>
      <Row index="228">
        <F>936684</F>
      </Row>
      <Row index="229">
        <F>833490</F>
      </Row>
      <Row index="230">
        <F>742203</F>
      </Row>
      <Row index="231">
        <F>686637</F>
      </Row>
      <Row index="232">
        <F>674730</F>
      </Row>
      <Row index="233">
        <F>635040</F>
      </Row>
      <Row index="234">
        <F>682668</F>
      </Row>
      <Row index="235">
        <F>476280</F>
      </Row>
      <Row index="236">
        <F>420714</F>
      </Row>
      <Row index="237">
        <F>396900</F>
      </Row>
      <Row index="238">
        <F>404838</F>
      </Row>
      <Row index="239">
        <F>392931</F>
      </Row>
      <Row index="240">
        <F>254016</F>
      </Row>
      <Row index="241">
        <F>281799</F>
      </Row>
      <Row index="242">
        <F>369117</F>
      </Row>
      <Row index="243">
        <F>250047</F>
      </Row>
      <Row index="244">
        <F>230202</F>
      </Row>
      <Row index="245">
        <F>238140</F>
      </Row>
      <Row index="246">
        <F>230202</F>
      </Row>
      <Row index="247">
        <F>194481</F>
      </Row>
      <Row index="248">
        <F>174636</F>
      </Row>
      <Row index="249">
        <F>154791</F>
      </Row>
      <Row index="250">
        <F>146853</F>
      </Row>
      <Row index="251">
        <F>146853</F>
      </Row>
      <Row index="252">
        <F>83349</F>
      </Row>
      <Row index="253">
        <F>83349</F>
      </Row>
      <Row index="254">
        <F>71442</F>
      </Row>
      <Row index="255">
        <F>210357</F>
      </Row>
    </GDALRasterAttributeTable>
    <Metadata>
      <MDI key="LAYER_TYPE">athematic</MDI>
      <MDI key="STATISTICS_APPROXIMATE">YES</MDI>
      <MDI key="STATISTICS_HISTOBINVALUES">477232560|488798226|2024190|2016252|1825740|1381212|710451|384993|230202|130977|170667|150822|162729|150822|146853|134946|99225|150822|146853|63504|91287|127008|79380|103194|119070|91287|75411|75411|119070|107163|75411|91287|111132|111132|119070|166698|119070|130977|99225|107163|138915|134946|158760|154791|154791|142884|142884|83349|134946|134946|158760|150822|162729|226233|146853|170667|162729|162729|178605|190512|166698|154791|222264|206388|178605|214326|238140|202419|234171|317520|226233|234171|273861|277830|293706|349272|329427|305613|309582|353241|345303|436590|448497|440559|424683|400869|456435|492156|404838|412776|440559|412776|515970|523908|468342|456435|587412|575505|603288|587412|599319|682668|666792|722358|642978|686637|773955|817614|742203|773955|873180|797769|952560|869211|904932|984312|1020033|1131165|1154979|1139103|1107351|1147041|1333584|1488375|1381212|1325646|1274049|1655073|1559817|1698732|1690794|1845585|1857492|1976562|1996407|1897182|2032128|2131353|2290113|2226609|2444904|2520315|2603664|2675106|2583819|2734641|2905308|2917215|2849742|2841804|2980719|3068037|3460968|3278394|3441123|3341898|3389526|3472875|3603852|3397464|3671325|3647511|3758643|3734829|3552255|3893589|3996783|3913434|3810240|3889620|4195233|3949155|3953124|4223016|4111884|4207140|3849930|4131729|4119822|3929310|4008690|3913434|4207140|4107915|4076163|3921372|3996783|4064256|4036473|4040442|3877713|4139667|3834054|3830085|3929310|3953124|3520503|3580038|3722922|3718953|3540348|3266487|3175200|3179169|3218859|2802114|2944998|2984688|2770362|2738610|2623509|2591757|2262330|2218671|2357586|2115477|1964655|2048004|1853523|1611414|1551879|1647135|1412964|1250235|1250235|1039878|1051785|1035909|936684|833490|742203|686637|674730|635040|682668|476280|420714|396900|404838|392931|254016|281799|369117|250047|230202|238140|230202|194481|174636|154791|146853|146853|83349|83349|71442|210357|</MDI>
      <MDI key="STATISTICS_MAXIMUM">255</MDI>
      <MDI key="STATISTICS_MEAN">45.089170392449</MDI>
      <MDI key="STATISTICS_MINIMUM">0</MDI>
      <MDI key="STATISTICS_STDDEV">76.076611868714</MDI>
      <MDI key="STATISTICS_VALID_PERCENT">100</MDI>
    </Metadata>
  </PAMRasterBand>
</PAMDataset>
